{"text_format":"1","workbook":"xlsx","n_sheets":14,"sheets":["Revisão","Flat Forward","Spline","ETTJ","Planilha1","COPOM","COPOM 1","COPOM 2","021015","091015","141015","161015","Feriado","Curva CC"],"not_rendered":{"charts":13,"images":0,"macros":1,"external_links":1,"defined_names":2,"comments":0,"pivot_tables":0},"unopened":[],"bounds":{"document_bytes":16777216,"sheet_cells":100000,"rows_first":2000,"rows_last":500,"rows_between":2000,"halvings":0,"cell_chars":16384,"cell_head_chars":4096},"cells_cut":0,"cells_raw":0,"read":"whole","date_system":"1900"}

{"sheet":"Revisão","index":0,"n_rows":29,"n_cols":18,"rows_kept":29,"cut":false,"hidden":false,"merged":[[2,1,2,3],[2,5,2,7],[2,9,2,11]]}
[null,"Taxas Equivalentes"]
[]
[null,"DIAS ÚTEIS",null,null,null,"DIAS CORRIDOS",null,null,null,"Taxa Nominal Mensal",null,null,1,"Calcule as taxas efetivas no período para:"]
[]
[null,"taxa ano",{"$f":"Q5","v":8.5},"%a.a.",null,"taxa ano",{"$f":"Q6","v":11.3},"%a.a.",null,"Tx nominal",{"$f":"Q7","v":9.1999999999999993},"%a.a.",null,"Du 252",123,"du",8.5,"% a.a."]
[null,"prazo",{"$f":"O5","v":123},"du",null,"prazo",{"$f":"O6","v":450},"dc",null,"prazo",{"$f":"O7","v":135},"dc",null,"DC 360",450,"dc",11.3,"% a.a."]
[null,null,null,null,null,null,null,null,null,"Tx ef. Semestral",{"$f":"K5/2","v":4.5999999999999996},null,null,"TX  nominal semestral",135,"dc",9.1999999999999993,"% a.a."]
[null,null,{"$f":"((1+C5/100)^(C6/252)-1)*100","v":4.0622199669615},{"$f":"\"% em \"&C6&\" du\"","v":"% em 123 du"},null,null,{"$f":"((1+G5/100)^(G6/360)-1)*100","v":14.319141772485366},{"$f":"\"% em \"&G6&\" dc\"","v":"% em 450 dc"}]
[null,null,null,null,null,null,null,null,null,null,{"$f":"((1+K7/100)^(K6/180)-1)*100","v":3.4305331654852944},{"$f":"\"% em \"&K6&\" dc\"","v":"% em 135 dc"}]
[]
[]
[null,"Taxa de instrumentos pós-fixados",null,null,null,null,null,null,null,null,null,null,2,"Calcule as taxas pré e pósfixadas para um DI Futuro de 15,73 e prêmio de 12 pontos base."]
[null,null,null,null,null,null,null,null,null,null,null,null,null,"Considere as seguintes variações de indexadores:"]
[null,"BM&F",15.73,"%a.a.",null,null,null,null,null,null,null,null,null,"SELIC",13.35,"%"]
[null,"Prêmio",12,"p.b.",null,null,null,null,null,null,null,null,null,"IPCA",9.5,"%"]
[null,null,null,null,null,null,null,null,null,null,null,null,null,"DOLAR",10,"%"]
[null,"PRÉ",0,null,"SELIC",{"$f":"O14","v":13.35},"%a.a.","IPCA",{"$f":"O15","v":9.5},"%a.a.","DÓLAR",{"$f":"O16","v":10},"%a.a."]
[null,"Tx pré",{"$f":"C14+C15/100","v":15.85},"%a.a.","Ágio/Deság.",{"$f":"((1+$C$18/100)/(1+F17/100)-1)*100","v":2.2055580061755675},null,"Cp. IPCA",{"$f":"((1+$C$18/100)/(1+I17/100)-1)*100","v":5.7990867579908789},null,"Cp. Cambial",{"$f":"((1+$C$18/100)/(1+L17/100)-1)*100","v":5.3181818181818219}]
[]
[]
[null,"Taxa Ímplicita do mercado futuro",null,null,null,null,null,null,null,null,null,null,3,"Calcule as taxas implícitas para:"]
[null,null,null,null,null,"PF",null,"Respostas","c"]
[null,null,null,null,null,{"$f":"VLOOKUP(I22,M24:P26,3)","v":95},null,null,null,null,null,null,null,"PV","PF","DU"]
[null,null,"Tx. Imp.",{"$f":"((F23/B29)^(252/F27)-1)*100","v":-14.107144400860683},"%a.a.",null,null,"a",49.27,null,null,null,"a",35,40,84]
[null,null,null,null,null,null,null,"b",5.14,null,null,null,"b",90,100,530]
[null,null,null,null,null,"Prazo",null,"c",-14.11,null,null,null,"c",100,95,85]
[null,null,null,null,null,{"$f":"VLOOKUP(I22,M24:P26,4)","v":85},"du"]
[null,"PV"]
[null,{"$f":"VLOOKUP(I22,M24:P26,2)","v":100}]

{"sheet":"Flat Forward","index":1,"n_rows":33,"n_cols":15,"rows_kept":33,"cut":false,"hidden":false,"merged":[[14,6,14,7],[14,8,14,10],[15,6,15,10],[20,6,20,9],[30,13,30,14],[27,13,27,14],[21,6,21,7],[21,8,21,9],[27,8,27,9],[30,8,30,9]]}
[null,"Cálculo da taxa a termo",null,null,null,null,"Calcule os termos:",null,null,"Calcule as taxas equivalentes (%a.a.) para:"]
[]
["tc","tl","DU","Tx Spot","Termo",null,"T2",{"$f":"E6","v":14.99},null,30,14.36]
["a",null,19,14.26,{"$f":"D4","v":14.26},null,"T3",{"$f":"E7","v":15.19},null,60,14.6]
["b","a",40,14.4,14.53,"T1","T4",15.5,null,90,14.82]
["c","b",62,14.61,14.99,"T2",null,null,null,75,14.71]
["d","c",82,14.75,15.19,"T3"]
["e","d",101,14.89,15.5,"T4"]
[]
[]
[]
[]
[]
[]
[null,null,null,null,null,null,"Tx. Curta",null,"Termo"]
[null,null,null,null,null,null,"Tx. Longa"]
[]
[]
[]
[]
[null,null,null,null,null,null,"Ativo"]
[null,null,null,null,null,null,"Tx. Curta",null,"Termo"]
[]
[]
[]
[null,null,null,null,null,null,"Termo","c",null,null,null,"Taxa XX dias úteis",75]
[]
[null,null,null,null,null,null,null,null,"DU",null,null,null,null,"DU"]
[null,null,null,null,null,null,"Tx. Curta",{"$f":"VLOOKUP(H26,A4:D8,4)","v":14.61},{"$f":"VLOOKUP(H26,A4:D8,3)","v":62},null,null,"Tx. Curta",{"$f":"VLOOKUP(H26,A4:E8,4)","v":14.61},{"$f":"VLOOKUP(H26,A4:E8,3)","v":62}]
[]
[null,null,null,null,null,null,"Tx. Longa",{"$f":"VLOOKUP(H26,B4:D8,3)","v":14.75},{"$f":"VLOOKUP(H26,B4:D8,2)","v":82},null,null,{"$f":"CONCATENATE(\"Taxa (\",M26,\")du\")","v":"Taxa (75)du"},{"$f":"ROUND(((((1+M33/100)^(O33/252))*((1+H29/100)^(I29/252)))^(252/(M26))-1)*100,2)","v":14.71},{"$f":"M26","v":75}]
[]
[null,null,null,null,null,null,"Termo",{"$f":"ROUND(((((1+H31/100)^(I31/252))/((1+H29/100)^(I29/252)))^(252/(J33))-1)*100,2)","v":15.19},null,{"$f":"I31-I29","v":20},null,"Termo",{"$f":"VLOOKUP(H26,B4:E8,4)","v":15.19},null,{"$f":"M26-N29","v":13}]

{"sheet":"Spline","index":2,"n_rows":1819,"n_cols":7,"rows_kept":1819,"cut":false,"hidden":false,"merged":[]}
["DU","TX",null,null,null,"DU","SPLINE"]
[19,{"$f":"VLOOKUP(Spline!A2,ETTJ!$C$2:$D$33,2)","v":14.26},null,null,null,1,{"$f":"Cubic_Spline($A$2:$A$12,$B$2:$B$12,F2)","v":14.130299427068945}]
[82,{"$f":"VLOOKUP(Spline!A3,ETTJ!$C$2:$D$33,2)","v":14.75},null,null,null,2,{"$f":"Cubic_Spline($A$2:$A$12,$B$2:$B$12,F3)","v":14.137598747684727}]
[143,{"$f":"VLOOKUP(Spline!A4,ETTJ!$C$2:$D$33,2)","v":15.31},null,null,null,3,14.144882056422169]
[251,{"$f":"VLOOKUP(Spline!A5,ETTJ!$C$2:$D$33,2)","v":15.72},null,null,null,4,14.152150295156474]
[437,{"$f":"VLOOKUP(Spline!A6,ETTJ!$C$2:$D$33,2)","v":15.89},null,null,null,5,14.159402498414204]
[623,{"$f":"VLOOKUP(Spline!A7,ETTJ!$C$2:$D$33,2)","v":15.92},null,null,null,6,14.166645330116451]
[812,{"$f":"VLOOKUP(Spline!A8,ETTJ!$C$2:$D$33,2)","v":15.89},null,null,null,7,14.173872102743882]
[1001,{"$f":"VLOOKUP(Spline!A9,ETTJ!$C$2:$D$33,2)","v":15.83},null,null,null,8,14.18108948021759]
[1188,{"$f":"VLOOKUP(Spline!A10,ETTJ!$C$2:$D$33,2)","v":15.76},null,null,null,9,14.18829649706414]
[1377,{"$f":"VLOOKUP(Spline!A11,ETTJ!$C$2:$D$33,2)","v":15.64},null,null,null,10,14.195494095158729]
[1818,{"$f":"VLOOKUP(Spline!A12,ETTJ!$C$2:$D$33,2)","v":15.38},null,null,null,11,14.20268130902792]
[null,null,null,null,null,12,14.209863848918488]
[1100,{"$f":"VLOOKUP(Spline!A14,ETTJ!$C$2:$D$33,2)","v":15.81},null,null,null,13,14.217037888334051]
[null,null,null,null,null,14,14.224208183847068]
[null,null,null,null,null,15,14.231370908961157]
[null,null,null,null,null,16,14.238532727597409]
[null,null,null,null,null,17,14.245689813259439]
[null,null,null,null,null,18,14.252845968845394]
[null,null,null,null,null,19,14.260000228881836]
[null,null,null,null,null,20,14.267155442592594]
[null,null,null,null,null,21,14.274310644504233]
[null,null,null,null,null,22,14.281468683840579]
[null,null,null,null,null,23,14.288629548802515]
[null,null,null,null,null,24,14.29579322759092]
[null,null,null,null,null,25,14.302962569429621]
[null,null,null,null,null,26,14.3101375625195]
[null,null,null,null,null,27,14.317318195061436]
[null,null,null,null,null,28,14.324507316279259]
[null,null,null,null,null,29,14.331704914373848]
[null,null,null,null,null,30,14.338910977546082]
[null,null,null,null,null,31,14.34612835501979]
[null,null,null,null,null,32,14.353357034995854]
[null,null,null,null,null,33,14.360597005675151]
[null,null,null,null,null,34,14.367851116281514]
[null,null,null,null,null,35,14.375119355015819]
[null,null,null,null,null,36,14.382401710078945]
[null,null,null,null,null,37,14.389701030694727]
[null,null,null,null,null,38,14.39701730506404]
[null,null,null,null,null,39,14.404350521387761]
[null,null,null,null,null,40,14.411703528889726]
[null,null,null,null,null,41,14.419076315770811]
[null,null,null,null,null,42,14.426468870231897]
[null,null,null,null,null,43,14.433884041496812]
[null,null,null,null,null,44,14.441321817766438]
[null,null,null,null,null,45,14.448782187241651]
[null,null,null,null,null,46,14.456267999146283]
[null,null,null,null,null,47,14.463778764844054]
[null,null,null,null,null,48,14.471316379884479]
[null,null,null,null,null,49,14.478880832468436]
[null,null,null,null,null,50,14.486473541308278]
[null,null,null,null,null,51,14.494095448279204]
[null,null,null,null,null,52,14.501747495256408]
[null,null,null,null,null,53,14.509430624115087]
[null,null,null,null,null,54,14.517146253567599]
[null,null,null,null,null,55,14.524894371814819]
[null,null,null,null,null,56,14.532676397569102]
[null,null,null,null,null,57,14.540493749542803]
[null,null,null,null,null,58,14.548346415936804]
[null,null,null,null,null,59,14.556235815463454]
[null,null,null,null,null,60,14.564163366835116]
[null,null,null,null,null,61,14.57212905825266]
[null,null,null,null,null,62,14.58013430842845]
[null,null,null,null,null,63,14.58818053607483]
[null,null,null,null,null,64,14.596267729392691]
[null,null,null,null,null,65,14.604397545512958]
[null,null,null,null,null,66,{"$f":"Cubic_Spline($A$2:$A$12,$B$2:$B$12,F67)","v":14.612570449473674}]
[null,null,null,null,null,67,14.62078762156861]
[null,null,null,null,null,68,14.629050242091548]
[null,null,null,null,null,69,14.637358776080516]
[null,null,null,null,null,70,14.645714642247878]
[null,null,null,null,null,71,14.654118544050245]
[null,null,null,null,null,72,14.662571184944238]
[null,null,null,null,null,73,14.671073983642209]
[null,null,null,null,null,74,14.679627524391488]
[null,null,null,null,null,75,14.688232868276557]
[null,null,null,null,null,76,14.696890957172617]
[null,null,null,null,null,77,14.705602732954858]
[null,null,null,null,null,78,14.714369197103128]
[null,null,null,null,null,79,14.723191172283329]
[null,null,null,null,null,80,14.732069689777624]
[null,null,null,null,null,81,14.74100564675773]
[null,null,null,null,null,82,14.75]
[null,null,null,null,null,83,14.759053210432931]
[null,null,null,null,null,84,14.768162135246229]
[null,null,null,null,null,85,14.77732697761582]
[null,null,null,null,null,86,14.786542206367113]
[null,null,null,null,null,87,14.795805152169001]
[null,null,null,null,null,88,14.805115063292281]
[null,null,null,null,null,89,14.814468316531702]
[null,null,null,null,null,90,14.823862243134434]
[null,null,null,null,null,91,14.833294182855486]
[null,null,null,null,null,92,14.842761466752806]
[null,null,null,null,null,93,14.852260472945689]
[null,null,null,null,null,94,14.861791401108601]
[null,null,null,null,null,95,14.871348721833588]
[null,null,null,null,null,96,14.880929767428874]
[null,null,null,null,null,97,14.89053378285478]
[null,null,null,null,null,98,14.900157146577206]
[null,null,null,null,null,99,14.909797191387147]
[null,null,null,null,null,100,14.919451253920133]
[null,null,null,null,null,101,14.929116666809767]
[null,null,null,null,null,102,14.938789809623673]
[null,null,null,null,null,103,14.948469925433509]
[null,null,null,null,null,104,14.958154347334435]
[null,null,null,null,null,105,14.967837547964558]
[null,null,null,null,null,106,14.977519723221009]
[null,null,null,null,null,107,14.987197252954365]
[null,null,null,null,null,108,14.996867471212957]
[null,null,null,null,null,109,15.006527712085798]
[null,null,null,null,null,110,15.016175309495669]
[null,null,null,null,null,111,15.025806644172038]
[null,null,null,null,null,112,15.035421433668196]
[null,null,null,null,null,113,15.045015104924349]
[null,null,null,null,null,114,15.054585469151972]
[null,null,null,null,null,115,15.064129383282832]
[null,null,null,null,null,116,15.073645134555036]
[null,null,null,null,null,117,15.083129581004734]
[null,null,null,null,null,118,15.092579579407184]
[null,null,null,null,null,119,15.101993893702371]
[null,null,null,null,null,120,15.111367951690836]
[null,null,null,null,null,121,15.120700517355887]
[null,null,null,null,null,122,15.129988447169506]
[null,null,null,null,null,123,15.139228599687751]
[null,null,null,null,null,124,15.1484192619321]
[null,null,null,null,null,125,15.157557290271081]
[null,null,null,null,null,126,15.166640020310117]
[null,null,null,null,null,127,15.175664308450459]
[null,null,null,null,null,128,15.184628679903145]
[null,null,null,null,null,129,15.19352927836109]
[null,null,null,null,null,130,{"$f":"Cubic_Spline($A$2:$A$12,$B$2:$B$12,F131)","v":15.202364151751953}]
[null,null,null,null,null,131,15.211130396124602]
[null,null,null,null,null,132,15.21982510757389]
[null,null,null,null,null,133,15.228445857556524]
[null,null,null,null,null,134,15.236990218994347]
[null,null,null,null,null,135,15.245455049588829]
[null,null,null,null,null,136,15.253838159162205]
[null,null,null,null,null,137,15.262136643827013]
[null,null,null,null,null,138,15.270347599451892]
[null,null,null,null,null,139,15.278468717418606]
[null,null,null,null,null,140,15.286497331472209]
[null,null,null,null,null,141,15.294430478149991]
[null,null,null,null,null,142,15.302265759282477]
[null,null,null,null,null,143,15.310000419616699]
[null,null,null,null,null,144,15.317631762696189]
[null,null,null,null,null,145,15.325161619033176]
[null,null,null,null,null,146,15.332589950363676]
[null,null,null,null,null,147,15.339917581611664]
[null,null,null,null,null,148,15.347144471915163]
[null,null,null,null,null,149,15.354272422503287]
[null,null,null,null,null,150,15.361304190815899]
[null,null,null,null,null,151,15.368236871163429]
[null,null,null,null,null,152,15.37507415583387]
[null,null,null,null,null,153,15.381815044011425]
[null,null,null,null,null,154,15.388462293754673]
[null,null,null,null,null,155,15.395015804512532]
[null,null,null,null,null,156,15.401475525523578]
[null,null,null,null,null,157,15.407844201434729]
[null,null,null,null,null,158,15.414120825458514]
[null,null,null,null,null,159,15.420309098243273]
[null,null,null,null,null,160,15.426406103350416]
[null,null,null,null,null,161,15.432414602997147]
[null,null,null,null,null,162,15.43833640796727]
[null,null,null,null,null,163,15.444171459483767]
[null,null,null,null,null,164,15.449920602774327]
[null,null,null,null,null,165,15.455583776882577]
[null,null,null,null,null,166,15.461162793137161]
[null,null,null,null,null,167,15.466660418658831]
[null,null,null,null,null,168,15.472073728291573]
[null,null,null,null,null,169,15.47740643358051]
[null,null,null,null,null,170,15.482657514662037]
[null,null,null,null,null,171,15.487828785496641]
[null,null,null,null,null,172,15.492923015713803]
[null,null,null,null,null,173,15.497937275109278]
[null,null,null,null,null,174,15.502875280214852]
[null,null,null,null,null,175,15.507736006241821]
[null,null,null,null,null,176,15.512522223302932]
[null,null,null,null,null,177,15.517233842359525]
[null,null,null,null,null,178,15.521870789489901]
[null,null,null,null,null,179,15.526435832230369]
[null,null,null,null,null,180,15.53092889484927]
[null,null,null,null,null,181,15.535349888760422]
[null,null,null,null,null,182,15.539701588149022]
[null,null,null,null,null,183,15.543982960986469]
[null,null,null,null,null,184,15.548196779180094]
[null,null,null,null,null,185,15.552342962688771]
[null,null,null,null,null,186,15.556422377733421]
[null,null,null,null,null,187,15.560434942635316]
[null,null,null,null,null,188,15.564382479152004]
[null,null,null,null,null,189,15.56826776429136]
[null,null,null,null,null,190,15.572087852987668]
[null,null,null,null,null,191,15.57584647642488]
[null,null,null,null,null,192,15.579542595371437]
[null,null,null,null,null,193,15.583178987213845]
[null,null,null,null,null,194,{"$f":"Cubic_Spline($A$2:$A$12,$B$2:$B$12,F195)","v":15.58675556976856}]
[null,null,null,null,null,195,15.590272255298986]
[null,null,null,null,null,196,15.593732301784177]
[null,null,null,null,null,197,15.597133712747564]
[null,null,null,null,null,198,15.60047926903707]
[null,null,null,null,null,199,15.603769838839034]
[null,null,null,null,null,200,15.607004859175747]
[null,null,null,null,null,201,15.610187110716598]
[null,null,null,null,null,202,15.613316030642402]
[null,null,null,null,null,203,15.616393442142051]
[null,null,null,null,null,204,15.619419261055807]
[null,null,null,null,null,205,15.622395310572566]
[null,null,null,null,null,206,15.625321026828098]
[null,null,null,null,null,207,15.628199192283292]
[null,null,null,null,null,208,15.631029243213984]
[null,null,null,null,null,209,15.633813002809063]
[null,null,null,null,null,210,15.636550386908789]
[null,null,null,null,null,211,15.639242261506302]
[null,null,null,null,null,212,15.641890933548945]
[null,null,null,null,null,213,15.644495838643049]
[null,null,null,null,null,214,15.647058799977506]
[null,null,null,null,null,215,15.649579733392576]
[null,null,null,null,null,216,15.652059981141392]
[null,null,null,null,null,217,15.654500420829541]
[null,null,null,null,null,218,15.656902394819427]
[null,null,null,null,null,219,15.659265818951319]
[null,null,null,null,null,220,15.661592516414103]
[null,null,null,null,null,221,15.663882403048044]
[null,null,null,null,null,222,15.666136820515261]
[null,null,null,null,null,223,15.668356647621831]
[null,null,null,null,null,224,15.670542987702106]
[null,null,null,null,null,225,15.672696471852083]
[null,null,null,null,null,226,15.674817728656725]
[null,null,null,null,null,227,15.676908109452128]
[null,null,null,null,null,228,15.678968242862503]
[null,null,null,null,null,229,15.680998757364312]
[null,null,null,null,null,230,15.683001004515273]
[null,null,null,null,null,231,15.684975133305137]
[null,null,null,null,null,232,15.686922972261149]
[null,null,null,null,null,233,15.688844911408097]
[null,null,null,null,null,234,15.69074157907238]
[null,null,null,null,null,235,15.692614327119538]
[null,null,null,null,null,236,15.694463783902904]
[null,null,null,null,null,237,15.696290577677308]
[null,null,null,null,null,238,15.698096060456043]
[null,null,null,null,null,239,15.699880739866375]
[null,null,null,null,null,240,15.701645606055065]
[null,null,null,null,null,241,15.703391409329706]
[null,null,null,null,null,242,15.705119378299885]
[null,null,null,null,null,243,15.706830021931498]
[null,null,null,null,null,244,15.708524330408244]
[null,null,null,null,null,245,15.710203233592722]
[null,null,null,null,null,246,15.711867420707856]
[null,null,null,null,null,247,15.713518001172606]
[null,null,null,null,null,248,15.715155694376881]
[null,null,null,null,null,249,15.716781370208585]
[null,null,null,null,null,250,15.718395942887511]
[null,null,null,null,null,251,15.720000267028809]
[null,null,null,null,null,252,15.721594675455114]
[null,null,null,null,null,253,15.723180690938559]
[null,null,null,null,null,254,15.724756438516778]
[null,null,null,null,null,255,15.726323857924656]
[null,null,null,null,null,256,15.727881074199823]
[null,null,null,null,null,257,15.729429079235805]
[null,null,null,null,null,258,{"$f":"Cubic_Spline($A$2:$A$12,$B$2:$B$12,F259)","v":15.730968847326928}]
[null,null,null,null,null,259,15.732498509444676]
[null,null,null,null,null,260,15.73402000532394]
[null,null,null,null,null,261,15.735531460002345]
[null,null,null,null,null,262,15.737034813214786]
[null,null,null,null,null,263,15.738528189998888]
[null,null,null,null,null,264,15.740012576415229]
[null,null,null,null,null,265,15.741488958524378]
[null,null,null,null,null,266,15.742955461363968]
[null,null,null,null,null,267,15.744414024668888]
[null,null,null,null,null,268,15.745862773476764]
[null,null,null,null,null,269,15.747302698513867]
[null,null,null,null,null,270,15.748734776415747]
[null,null,null,null,null,271,15.75015713697992]
[null,null,null,null,null,272,15.751571719941277]
[null,null,null,null,null,273,15.752976650337448]
[null,null,null,null,null,274,15.754373867903322]
[null,null,null,null,null,275,15.755761497676525]
[null,null,null,null,null,276,15.757140525717634]
[null,null,null,null,null,277,15.758511938087226]
[null,null,null,null,null,278,15.759873859822925]
[null,null,null,null,null,279,15.76122823065962]
[null,null,null,null,null,280,15.762573175634945]
[null,null,null,null,null,281,15.763909684388402]
[null,null,null,null,null,282,15.765238735735773]
[null,null,null,null,null,283,15.766558458381109]
[null,null,null,null,null,284,15.767870792059297]
[null,null,null,null,null,285,15.769173861807968]
[null,null,null,null,null,286,15.770468653687695]
[null,null,null,null,null,287,15.771756153759052]
[null,null,null,null,null,288,15.773034487059668]
[null,null,null,null,null,289,15.774305593324435]
[null,null,null,null,null,290,15.775567597590976]
[null,null,null,null,null,291,15.776822439594188]
[null,null,null,null,null,292,15.778068247025146]
[null,null,null,null,null,293,15.779306000556742]
[null,null,null,null,null,294,15.780536688984343]
[null,null,null,null,null,295,15.781758437345575]
[null,null,null,null,null,296,15.782973185375331]
[null,null,null,null,null,297,15.784179058111238]
[null,null,null,null,null,298,15.785377041613868]
[null,null,null,null,null,299,15.7865681219438]
[null,null,null,null,null,300,15.787750424138659]
[null,null,null,null,null,301,15.788925887933335]
[null,null,null,null,null,302,15.79009263836546]
[null,null,null,null,null,303,15.79125261516992]
[null,null,null,null,null,304,15.792403945105329]
[null,null,null,null,null,305,15.793547610716223]
[null,null,null,null,null,306,15.794684599858787]
[null,null,null,null,null,307,15.795813037570653]
[null,null,null,null,null,308,15.796934863586714]
[null,null,null,null,null,309,15.798048202944589]
[null,null,null,null,null,310,15.799154041704861]
[null,null,null,null,null,311,15.800253365928102]
[null,null,null,null,null,312,15.801344300651939]
[null,null,null,null,null,313,15.802428785611264]
[null,null,null,null,null,314,15.803504945843706]
[null,null,null,null,null,315,15.804573768346774]
[null,null,null,null,null,316,15.805636237239248]
[null,null,null,null,null,317,15.806690478564171]
[null,null,null,null,null,318,15.807738432056439]
[null,null,null,null,null,319,15.808778222753675]
[null,null,null,null,null,320,15.809811790390771]
[null,null,null,null,null,321,15.810837260005357]
[null,null,null,null,null,322,{"$f":"Cubic_Spline($A$2:$A$12,$B$2:$B$12,F323)","v":15.811855617658006}]
[null,null,null,null,null,323,15.81286784940929]
[null,null,null,null,null,324,15.813872080296843]
[null,null,null,null,null,325,15.814870250055552]
[null,null,null,null,null,326,15.815860483723045]
[null,null,null,null,null,327,15.816843767518662]
[null,null,null,null,null,328,15.817821087124234]
[null,null,null,null,null,329,15.818790567797926]
[null,null,null,null,null,330,15.81975414927463]
[null,null,null,null,null,331,15.820709956591971]
[null,null,null,null,null,332,15.821659929484843]
[null,null,null,null,null,333,15.822602192990871]
[null,null,null,null,null,334,15.823537733170632]
[null,null,null,null,null,335,15.824467536084702]
[null,null,null,null,null,336,15.825389726770704]
[null,null,null,null,null,337,15.826306244963531]
[null,null,null,null,null,338,15.827215215700814]
[null,null,null,null,null,339,15.828117624504213]
[null,null,null,null,null,340,15.829014458457621]
[null,null,null,null,null,341,15.829903842114817]
[null,null,null,null,null,342,15.830787715210692]
[null,null,null,null,null,343,15.831664202782877]
[null,null,null,null,null,344,15.832534767729101]
[null,null,null,null,null,345,15.833398965598468]
[null,null,null,null,null,346,15.834256828777233]
[null,null,null,null,null,347,15.835107912334854]
[null,null,null,null,null,348,15.835953203266184]
[null,null,null,null,null,349,15.836792256665971]
[null,null,null,null,null,350,15.837625104920479]
[null,null,null,null,null,351,15.83845178041596]
[null,null,null,null,null,352,15.839272315538679]
[null,null,null,null,null,353,15.840086265212173]
[null,null,null,null,null,354,15.840894616724801]
[null,null,null,null,null,355,15.841696925023722]
[null,null,null,null,null,356,15.842493222495193]
[null,null,null,null,null,357,15.843283541525476]
[null,null,null,null,null,358,15.844067914500828]
[null,null,null,null,null,359,15.844845896208946]
[null,null,null,null,null,360,15.845618474211555]
[null,null,null,null,null,361,15.84638520331829]
[null,null,null,null,null,362,15.847146115915409]
[null,null,null,null,null,363,15.847901244389176]
[null,null,null,null,null,364,15.848650621125847]
[null,null,null,null,null,365,15.849393800787336]
[null,null,null,null,null,366,15.850131771188607]
[null,null,null,null,null,367,15.850864087011841]
[null,null,null,null,null,368,15.851590780643296]
[null,null,null,null,null,369,15.852311884469229]
[null,null,null,null,null,370,15.853027430875901]
[null,null,null,null,null,371,15.853736974409509]
[null,null,null,null,null,372,15.854441503118128]
[null,null,null,null,null,373,15.855140571566544]
[null,null,null,null,null,374,15.855834212141016]
[null,null,null,null,null,375,15.856522457227801]
[null,null,null,null,null,376,15.85720486128435]
[null,null,null,null,null,377,15.857882412537631]
[null,null,null,null,null,378,15.858554665462281]
[null,null,null,null,null,379,15.859221652444567]
[null,null,null,null,null,380,15.85988340587074]
[null,null,null,null,null,381,15.86053995812706]
[null,null,null,null,null,382,15.861190863573707]
[null,null,null,null,null,383,15.861837110633871]
[null,null,null,null,null,384,15.862478253683239]
[null,null,null,null,null,385,15.863114325108072]
[null,null,null,null,null,386,{"$f":"Cubic_Spline($A$2:$A$12,$B$2:$B$12,F387)","v":15.863745357294631}]
[null,null,null,null,null,387,15.864371382629171]
[null,null,null,null,null,388,15.864991955384664]
[null,null,null,null,null,389,15.865608064160392]
[null,null,null,null,null,390,15.866219263243162]
[null,null,null,null,null,391,15.866825585019228]
[null,null,null,null,null,392,15.867426822791936]
[null,null,null,null,null,393,15.868023487107163]
[null,null,null,null,null,394,15.868615371274604]
[null,null,null,null,null,395,15.869202268579363]
[null,null,null,null,null,396,15.869784689604217]
[null,null,null,null,null,397,15.870362427640202]
[null,null,null,null,null,398,15.870935275955445]
[null,null,null,null,null,399,15.871503745167097]
[null,null,null,null,null,400,15.872067628548802]
[null,null,null,null,null,401,15.872626719352951]
[null,null,null,null,null,402,15.873181528228573]
[null,null,null,null,null,403,15.873731848433165]
[null,null,null,null,null,404,15.874277473204655]
[null,null,null,null,null,405,15.874818913221418]
[null,null,null,null,null,406,15.875355961726067]
[null,null,null,null,null,407,15.875888411943324]
[null,null,null,null,null,408,15.876416774578399]
[null,null,null,null,null,409,15.876940842860275]
[null,null,null,null,null,410,15.87746041000173]
[null,null,null,null,null,411,15.877975986732286]
[null,null,null,null,null,412,15.878487366268564]
[null,null,null,null,null,413,15.878994341812644]
[null,null,null,null,null,414,15.879497424115854]
[null,null,null,null,null,415,15.879996286788401]
[null,null,null,null,null,416,15.880491081808838]
[null,null,null,null,null,417,15.880981961161872]
[null,null,null,null,null,418,15.881468718038862]
[null,null,null,null,null,419,15.881951504423082]
[null,null,null,null,null,420,15.882430472303112]
[null,null,null,null,null,421,15.882905414862346]
[null,null,null,null,null,422,15.883376484088146]
[null,null,null,null,null,423,15.883843831972341]
[null,null,null,null,null,424,15.88430725169162]
[null,null,null,null,null,425,15.884766895236801]
[null,null,null,null,null,426,15.885222854798343]
[null,null,null,null,null,427,15.885675102959459]
[null,null,null,null,null,428,15.886123612301819]
[null,null,null,null,null,429,15.886568534820874]
[null,null,null,null,null,430,15.887009843098628]
[null,null,null,null,null,431,15.887447509715971]
[null,null,null,null,null,432,15.887881686670024]
[null,null,null,null,null,433,15.88831231663899]
[null,null,null,null,null,434,15.888739461912024]
[null,null,null,null,null,435,15.889163169827054]
[null,null,null,null,null,436,15.889583450343247]
[null,null,null,null,null,437,15.890000343322754]
[null,null,null,null,null,438,15.890413841270494]
[null,null,null,null,null,439,15.890823994151981]
[null,null,null,null,null,440,15.891230812044855]
[null,null,null,null,null,441,15.891634305026743]
[null,null,null,null,null,442,15.892035436849598]
[null,null,null,null,null,443,15.892431358654724]
[null,null,null,null,null,444,15.89282493733357]
[null,null,null,null,null,445,15.893215231412167]
[null,null,null,null,null,446,15.893602250968151]
[null,null,null,null,null,447,15.893986006079153]
[null,null,null,null,null,448,15.894366506822809]
[null,null,null,null,null,449,15.894743763276752]
[null,null,null,null,null,450,{"$f":"Cubic_Spline($A$2:$A$12,$B$2:$B$12,F451)","v":15.895118739192933}]
[null,null,null,null,null,451,15.895489537300353]
[null,null,null,null,null,452,15.895857121350961]
[null,null,null,null,null,453,15.89622150142239]
[null,null,null,null,null,454,15.896582687592275]
[null,null,null,null,null,455,15.896939737932987]
[null,null,null,null,null,456,15.897294566499189]
[null,null,null,null,null,457,15.897646231396948]
[null,null,null,null,null,458,15.897995696378215]
[null,null,null,null,null,459,15.898341064171989]
[null,null,null,null,null,460,15.898683298530223]
[null,null,null,null,null,461,15.899022409530549]
[null,null,null,null,null,462,15.899358407250601]
[null,null,null,null,null,463,15.899691301768012]
[null,null,null,null,null,464,15.900021103160418]
[null,null,null,null,null,465,15.90034782150545]
[null,null,null,null,null,466,15.900672420555059]
[null,null,null,null,null,467,15.900992050644222]
[null,null,null,null,null,468,15.901309580281842]
[null,null,null,null,null,469,15.901624067182826]
[null,null,null,null,null,470,15.901935521424805]
[null,null,null,null,null,471,15.902243953085415]
[null,null,null,null,null,472,15.902549372242289]
[null,null,null,null,null,473,15.902851788973059]
[null,null,null,null,null,474,15.903152167029678]
[null,null,null,null,null,475,15.903448609141146]
[null,null,null,null,null,476,15.903742079059413]
[null,null,null,null,null,477,15.904032586862112]
[null,null,null,null,null,478,15.904319189901777]
[null,null,null,null,null,479,15.904603803677347]
[null,null,null,null,null,480,15.904885485570448]
[null,null,null,null,null,481,15.905164245658719]
[null,null,null,null,null,482,15.905441047694106]
[null,null,null,null,null,483,15.905713994405614]
[null,null,null,null,null,484,15.905984049545191]
[null,null,null,null,null,485,15.90625122319047]
[null,null,null,null,null,486,15.906515525419085]
[null,null,null,null,null,487,15.906776966308671]
[null,null,null,null,null,488,15.907035555936861]
[null,null,null,null,null,489,15.907291304381291]
[null,null,null,null,null,490,15.907544222335236]
[null,null,null,null,null,491,15.907794318618544]
[null,null,null,null,null,492,15.908041603951192]
[null,null,null,null,null,493,15.908286088410813]
[null,null,null,null,null,494,15.908527782075039]
[null,null,null,null,null,495,15.908766695021507]
[null,null,null,null,null,496,15.909002837327849]
[null,null,null,null,null,497,15.909236219071699]
[null,null,null,null,null,498,15.909467804005008]
[null,null,null,null,null,499,15.909695694856776]
[null,null,null,null,null,500,15.909920855378953]
[null,null,null,null,null,501,15.91014234231003]
[null,null,null,null,null,502,15.910362072381631]
[null,null,null,null,null,503,15.91057910235674]
[null,null,null,null,null,504,15.910793442312995]
[null,null,null,null,null,505,15.91100510232803]
[null,null,null,null,null,506,15.91121504615379]
[null,null,null,null,null,507,15.911421376519282]
[null,null,null,null,null,508,15.911625057176453]
[null,null,null,null,null,509,15.911826098202937]
[null,null,null,null,null,510,15.912024509676369]
[null,null,null,null,null,511,15.912220301674381]
[null,null,null,null,null,512,15.912413484274609]
[null,null,null,null,null,513,15.912603113937164]
[null,null,null,null,null,514,{"$f":"Cubic_Spline($A$2:$A$12,$B$2:$B$12,F515)","v":15.91279206162714}]
[null,null,null,null,null,515,15.912977476478117]
[null,null,null,null,null,516,15.913160322242042]
[null,null,null,null,null,517,15.913340608996553]
[null,null,null,null,null,518,15.913518346819279]
[null,null,null,null,null,519,15.913693545787856]
[null,null,null,null,null,520,15.913866215979919]
[null,null,null,null,null,521,15.9140363674731]
[null,null,null,null,null,522,15.914204964019349]
[null,null,null,null,null,523,15.91437010834767]
[null,null,null,null,null,524,15.91453276421001]
[null,null,null,null,null,525,15.914691987816905]
[null,null,null,null,null,526,15.914849696960687]
[null,null,null,null,null,527,15.915004947871591]
[null,null,null,null,null,528,15.91515775062725]
[null,null,null,null,null,529,15.915308115305299]
[null,null,null,null,null,530,15.915456528820528]
[null,null,null,null,null,531,15.915602047576254]
[null,null,null,null,null,532,15.915745158487272]
[null,null,null,null,null,533,15.915885871459627]
[null,null,null,null,null,534,15.916024196905179]
[null,null,null,null,null,535,15.916160144739019]
[null,null,null,null,null,536,15.916293725038786]
[null,null,null,null,null,537,15.916425424719268]
[null,null,null,null,null,538,15.916554300183787]
[null,null,null,null,null,539,15.916680361286193]
[null,null,null,null,null,540,15.916804572217648]
[null,null,null,null,null,541,15.916926942840457]
[null,null,null,null,null,542,15.917046529557936]
[null,null,null,null,null,543,15.917163819284875]
[null,null,null,null,null,544,15.917278822098911]
[null,null,null,null,null,545,15.917391547805298]
[null,null,null,null,null,546,15.917502007018676]
[null,null,null,null,null,547,15.91761020955215]
[null,null,null,null,null,548,15.917716165483355]
[null,null,null,null,null,549,15.917820361727083]
[null,null,null,null,null,550,15.91792185468665]
[null,null,null,null,null,551,15.918020654122317]
[null,null,null,null,null,552,15.918117724413634]
[null,null,null,null,null,553,15.918213075328106]
[null,null,null,null,null,554,15.918305763269053]
[null,null,null,null,null,555,15.918396275151268]
[null,null,null,null,null,556,15.918484621052382]
[null,null,null,null,null,557,15.918570810691264]
[null,null,null,null,null,558,15.918654854856532]
[null,null,null,null,null,559,15.918736763273703]
[null,null,null,null,null,560,15.918816546020409]
[null,null,null,null,null,561,15.918894690011443]
[null,null,null,null,null,562,15.918969774422449]
[null,null,null,null,null,563,15.919043240617514]
[null,null,null,null,null,564,15.919114621452751]
[null,null,null,null,null,565,15.919184403842953]
[null,null,null,null,null,566,15.919251644191434]
[null,null,null,null,null,567,15.919316829412987]
[null,null,null,null,null,568,15.919379492322774]
[null,null,null,null,null,569,15.919441074355081]
[null,null,null,null,null,570,15.919500154656303]
[null,null,null,null,null,571,15.919557220141233]
[null,null,null,null,null,572,15.919612280887504]
[null,null,null,null,null,573,15.919665823809908]
[null,null,null,null,null,574,15.919716428018093]
[null,null,null,null,null,575,15.91976553500934]
[null,null,null,null,null,576,15.919812677572562]
[null,null,null,null,null,577,15.919858104203973]
[null,null,null,null,null,578,{"$f":"Cubic_Spline($A$2:$A$12,$B$2:$B$12,F579)","v":15.919901347906395}]
[null,null,null,null,null,579,15.919942657649123]
[null,null,null,null,null,580,15.919982281692993]
[null,null,null,null,null,581,15.920019514615721]
[null,null,null,null,null,582,15.920055320655539]
[null,null,null,null,null,583,15.920088994392289]
[null,null,null,null,null,584,15.920120784071935]
[null,null,null,null,null,585,15.920150700270687]
[null,null,null,null,null,586,15.920178991236483]
[null,null,null,null,null,587,15.920204951535341]
[null,null,null,null,null,588,15.920229545429191]
[null,null,null,null,null,589,15.920252067485878]
[null,null,null,null,null,590,15.920272765940561]
[null,null,null,null,null,591,15.920291651391354]
[null,null,null,null,null,592,15.920308972075093]
[null,null,null,null,null,593,15.920324022547895]
[null,null,null,null,null,594,15.920337767091793]
[null,null,null,null,null,595,15.920349500264429]
[null,null,null,null,null,596,15.920359470291965]
[null,null,null,null,null,597,15.920367687790813]
[null,null,null,null,null,598,15.920374400988511]
[null,null,null,null,null,599,15.920378904433075]
[null,null,null,null,null,600,15.920382043213747]
[null,null,null,null,null,601,15.920383350160261]
[null,null,null,null,null,602,15.920382954696555]
[null,null,null,null,null,603,15.920380986248764]
[null,null,null,null,null,604,15.920377216198229]
[null,null,null,null,null,605,15.920371773970576]
[null,null,null,null,null,606,15.920364788993327]
[null,null,null,null,null,607,15.920356032644973]
[null,null,null,null,null,608,15.9203456343526]
[null,null,null,null,null,609,15.920333723544896]
[null,null,null,null,null,610,15.920320071597953]
[null,null,null,null,null,611,15.920304807940092]
[null,null,null,null,null,612,15.92028800232498]
[null,null,null,null,null,613,15.920269605154633]
[null,null,null,null,null,614,15.920249566830512]
[null,null,null,null,null,615,15.920228016782596]
[null,null,null,null,null,616,15.92020490541247]
[null,null,null,null,null,617,15.920180183121317]
[null,null,null,null,null,618,15.920153979339716]
[null,null,null,null,null,619,15.920126214630624]
[null,null,null,null,null,620,15.920096928909976]
[null,null,null,null,null,621,15.920066147174632]
[null,null,null,null,null,622,15.920033857123533]
[null,null,null,null,null,623,15.920000076293945]
[null,null,null,null,null,624,15.919965286120453]
[null,null,null,null,null,625,15.919928065241486]
[null,null,null,null,null,626,15.919890321594504]
[null,null,null,null,null,627,15.919850151505768]
[null,null,null,null,null,628,15.919808512258831]
[null,null,null,null,null,629,15.919766358215329]
[null,null,null,null,null,630,15.91972273932646]
[null,null,null,null,null,631,15.919676705478825]
[null,null,null,null,null,632,15.919630164805277]
[null,null,null,null,null,633,15.919581213534119]
[null,null,null,null,null,634,15.919530808853052]
[null,null,null,null,null,635,15.919479905315937]
[null,null,null,null,null,636,15.919427552777597]
[null,null,null,null,null,637,15.91937280103037]
[null,null,null,null,null,638,15.919317558396163]
[null,null,null,null,null,639,15.919259921008482]
[null,null,null,null,null,640,15.919200845962365]
[null,null,null,null,null,641,15.919141287997542]
[null,null,null,null,null,642,{"$f":"Cubic_Spline($A$2:$A$12,$B$2:$B$12,F643)","v":15.919080296875633}]
[null,null,null,null,null,643,15.919016922297896]
[null,null,null,null,null,644,15.918953072768929]
[null,null,null,null,null,645,15.918887798004949]
[null,null,null,null,null,646,15.918819193988549]
[null,null,null,null,null,647,15.918751076661916]
[null,null,null,null,null,648,15.918681542022341]
[null,null,null,null,null,649,15.918609639683176]
[null,null,null,null,null,650,15.918537278325353]
[null,null,null,null,null,651,15.918463507576659]
[null,null,null,null,null,652,15.918386423333367]
[null,null,null,null,null,653,15.918309841710833]
[null,null,null,null,null,654,15.918231858619494]
[null,null,null,null,null,655,15.91815152358798]
[null,null,null,null,null,656,15.918070745467206]
[null,null,null,null,null,657,15.91798762066013]
[null,null,null,null,null,658,15.917903104398601]
[null,null,null,null,null,659,15.917818153546063]
[null,null,null,null,null,660,15.917730863888654]
[null,null,null,null,null,661,15.917643144414082]
[null,null,null,null,null,662,15.91755404459626]
[null,null,null,null,null,663,15.917462613855786]
[null,null,null,null,null,664,15.917369807586018]
[null,null,null,null,null,665,15.917276582569384]
[null,null,null,null,null,666,15.917181034513115]
[null,null,null,null,null,667,15.917085072563257]
[null,null,null,null,null,668,15.916987746114289]
[null,null,null,null,null,669,15.916888104509496]
[null,null,null,null,null,670,15.916788056971708]
[null,null,null,null,null,671,15.916685699182565]
[null,null,null,null,null,672,15.916581987796516]
[null,null,null,null,null,673,15.916477878437275]
[null,null,null,null,null,674,15.916372420423063]
[null,null,null,null,null,675,15.916264663023032]
[null,null,null,null,null,676,15.916156515608813]
[null,null,null,null,null,677,15.916046073787376]
[null,null,null,null,null,678,15.915934294140632]
[null,null,null,null,null,679,15.91582213243791]
[null,null,null,null,null,680,15.915708637924357]
[null,null,null,null,null,681,15.915592859798169]
[null,null,null,null,null,682,15.91547670757342]
[null,null,null,null,null,683,15.915358276785597]
[null,null,null,null,null,684,15.915238523947233]
[null,null,null,null,null,685,15.915118404966934]
[null,null,null,null,null,686,15.914996969019944]
[null,null,null,null,null,687,15.914873265236677]
[null,null,null,null,null,688,15.914749203267304]
[null,null,null,null,null,689,15.914623832253307]
[null,null,null,null,null,690,15.914495247618094]
[null,null,null,null,null,691,15.914367266426119]
[null,null,null,null,null,692,15.914237984111594]
[null,null,null,null,null,693,15.914106449740332]
[null,null,null,null,null,694,15.913974573092233]
[null,null,null,null,null,695,15.913841403243659]
[null,null,null,null,null,696,15.913705035554985]
[null,null,null,null,null,697,15.913569287217237]
[null,null,null,null,null,698,15.913432253601085]
[null,null,null,null,null,699,15.913292983710903]
[null,null,null,null,null,700,15.913153387449986]
[null,null,null,null,null,701,15.913012513832729]
[null,null,null,null,null,702,15.91286845815968]
[null,null,null,null,null,703,15.912725037742067]
[null,null,null,null,null,704,15.912580347890183]
[null,null,null,null,null,705,15.912433437550167]
[null,null,null,null,null,706,{"$f":"Cubic_Spline($A$2:$A$12,$B$2:$B$12,F707)","v":15.912286216742332}]
[null,null,null,null,null,707,15.912137734422299]
[null,null,null,null,null,708,15.91198703950827]
[null,null,null,null,null,709,15.911835088402372]
[null,null,null,null,null,710,15.911682837380665]
[null,null,null,null,null,711,15.911528381659892]
[null,null,null,null,null,712,15.911373631371044]
[null,null,null,null,null,713,15.911217635414138]
[null,null,null,null,null,714,15.91105944265389]
[null,null,null,null,null,715,15.910900009599933]
[null,null,null,null,null,716,15.910740292474303]
[null,null,null,null,null,717,15.910578386441854]
[null,null,null,null,null,718,15.910416201737895]
[null,null,null,null,null,719,15.910252310300976]
[null,null,null,null,null,720,15.910086714835478]
[null,null,null,null,null,721,15.909920848573675]
[null,null,null,null,null,722,15.909753283488872]
[null,null,null,null,null,723,15.909584022297825]
[null,null,null,null,null,724,15.909414498244658]
[null,null,null,null,null,725,15.90924328327884]
[null,null,null,null,null,726,15.909070380129117]
[null,null,null,null,null,727,15.908897222051058]
[null,null,null,null,null,728,15.908722380971104]
[null,null,null,null,null,729,15.908545859629575]
[null,null,null,null,null,730,15.908369091293103]
[null,null,null,null,null,731,15.908190647865881]
[null,null,null,null,null,732,15.908010532099425]
[null,null,null,null,null,733,15.907830177271011]
[null,null,null,null,null,734,15.907648155263399]
[null,null,null,null,null,735,15.907464468838882]
[null,null,null,null,null,736,15.907280074312574]
[null,null,null,null,null,737,15.907094974463872]
[null,null,null,null,null,738,15.906907741148173]
[null,null,null,null,null,739,15.906719807653012]
[null,null,null,null,null,740,15.906531176767528]
[null,null,null,null,null,741,15.906340897164672]
[null,null,null,null,null,742,15.906148971630378]
[null,null,null,null,null,743,15.905956833474583]
[null,null,null,null,null,744,15.90576305451429]
[null,null,null,null,null,745,15.905567637544893]
[null,null,null,null,null,746,15.905372015885265]
[null,null,null,null,null,747,15.905174761334404]
[null,null,null,null,null,748,15.904975876696776]
[null,null,null,null,null,749,15.904776795299789]
[null,null,null,null,null,750,15.904576088925236]
[null,null,null,null,null,751,15.904373760386248]
[null,null,null,null,null,752,15.904171243018382]
[null,null,null,null,null,753,15.903967108587006]
[null,null,null,null,null,754,15.903761359913535]
[null,null,null,null,null,755,15.90355543034126]
[null,null,null,null,null,756,15.903347891619941]
[null,null,null,null,null,757,15.903138746578854]
[null,null,null,null,null,758,15.902929428568653]
[null,null,null,null,null,759,15.902718509324254]
[null,null,null,null,null,760,15.90250646851959]
[null,null,null,null,null,761,15.902293309000774]
[null,null,null,null,null,762,15.902079033000176]
[null,null,null,null,null,763,15.901863643361642]
[null,null,null,null,null,764,15.901647142937851]
[null,null,null,null,null,765,15.901429533947921]
[null,null,null,null,null,766,15.901210580823815]
[null,null,null,null,null,767,15.900991001571079]
[null,null,null,null,null,768,15.900770083467716]
[null,null,null,null,null,769,15.900547829043486]
[null,null,null,null,null,770,{"$f":"Cubic_Spline($A$2:$A$12,$B$2:$B$12,F771)","v":15.900324956415846}]
[null,null,null,null,null,771,15.900100752859778]
[null,null,null,null,null,772,15.899875220902302]
[null,null,null,null,null,773,15.899649078666428]
[null,null,null,null,null,774,15.899421374890323]
[null,null,null,null,null,775,15.89919282770048]
[null,null,null,null,null,776,15.898963439623049]
[null,null,null,null,null,777,15.898732497925172]
[null,null,null,null,null,778,15.898500959156822]
[null,null,null,null,null,779,15.898268110585928]
[null,null,null,null,null,780,15.898033954733155]
[null,null,null,null,null,781,15.897799209734393]
[null,null,null,null,null,782,15.89756316285529]
[null,null,null,null,null,783,15.89732581661449]
[null,null,null,null,null,784,15.897087889151992]
[null,null,null,null,null,785,15.896848667731353]
[null,null,null,null,null,786,15.89660839328798]
[null,null,null,null,null,787,15.896367068709839]
[null,null,null,null,null,788,15.896124696514342]
[null,null,null,null,null,789,15.895881160007399]
[null,null,null,null,null,790,15.895636819708161]
[null,null,null,null,null,791,15.895391320441227]
[null,null,null,null,null,792,15.895144664910127]
[null,null,null,null,null,793,15.894897094174196]
[null,null,null,null,null,794,15.894648610938086]
[null,null,null,null,null,795,15.894398979296385]
[null,null,null,null,null,796,15.894148201953545]
[null,null,null,null,null,797,15.89389663924263]
[null,null,null,null,null,798,15.893643936047814]
[null,null,null,null,null,799,15.893390214283418]
[null,null,null,null,null,800,15.893135476655084]
[null,null,null,null,null,801,15.892879725673927]
[null,null,null,null,null,802,15.892622904440815]
[null,null,null,null,null,803,15.892365194443054]
[null,null,null,null,null,804,15.892106359837639]
[null,null,null,null,null,805,15.891846641749179]
[null,null,null,null,null,806,15.891585863971869]
[null,null,null,null,null,807,15.891324058916]
[null,null,null,null,null,808,15.891061288876081]
[null,null,null,null,null,809,15.890797556492901]
[null,null,null,null,null,810,15.890532789860391]
[null,null,null,null,null,811,15.890267058711439]
[null,null,null,null,null,812,15.890000343322754]
[null,null,null,null,null,813,15.889732697419097]
[null,null,null,null,null,814,15.889464077738895]
[null,null,null,null,null,815,15.889194490062231]
[null,null,null,null,null,816,15.888923942215028]
[null,null,null,null,null,817,15.888651488305369]
[null,null,null,null,null,818,15.888379995201573]
[null,null,null,null,null,819,15.888106609673885]
[null,null,null,null,null,820,15.887831339472665]
[null,null,null,null,null,821,15.887557051530479]
[null,null,null,null,null,822,15.887280892585359]
[null,null,null,null,null,823,15.887002870356161]
[null,null,null,null,null,824,15.886724898164326]
[null,null,null,null,null,825,15.88644698373915]
[null,null,null,null,null,826,15.886166273745559]
[null,null,null,null,null,827,15.885885635241445]
[null,null,null,null,null,828,15.885604122250633]
[null,null,null,null,null,829,15.88532174243055]
[null,null,null,null,null,830,15.885038501877213]
[null,null,null,null,null,831,15.884754408258143]
[null,null,null,null,null,832,15.884469469200832]
[null,null,null,null,null,833,15.884183690861331]
[null,null,null,null,null,834,{"$f":"Cubic_Spline($A$2:$A$12,$B$2:$B$12,F835)","v":15.883897080877057}]
[null,null,null,null,null,835,15.883608693171784]
[null,null,null,null,null,836,15.883321394983492]
[null,null,null,null,null,837,15.88303233289707]
[null,null,null,null,null,838,15.882741514481735]
[null,null,null,null,null,839,15.882451807033393]
[null,null,null,null,null,840,15.882160357107876]
[null,null,null,null,null,841,15.881867172246066]
[null,null,null,null,null,842,15.881574166126411]
[null,null,null,null,null,843,15.881281346299177]
[null,null,null,null,null,844,15.880985859254471]
[null,null,null,null,null,845,15.880690572400876]
[null,null,null,null,null,846,15.880394539940848]
[null,null,null,null,null,847,15.880097768296647]
[null,null,null,null,null,848,15.87980026497217]
[null,null,null,null,null,849,15.879501083760962]
[null,null,null,null,null,850,15.879203092162291]
[null,null,null,null,null,851,15.878903436629988]
[null,null,null,null,null,852,15.878602124605498]
[null,null,null,null,null,853,15.878301069966781]
[null,null,null,null,null,854,15.878000280164025]
[null,null,null,null,null,855,15.877696901589836]
[null,null,null,null,null,856,15.877393801848449]
[null,null,null,null,null,857,15.87709098836398]
[null,null,null,null,null,858,15.876785607503676]
[null,null,null,null,null,859,15.87648052692267]
[null,null,null,null,null,860,15.876174800345231]
[null,null,null,null,null,861,15.875868435136711]
[null,null,null,null,null,862,15.875561437979144]
[null,null,null,null,null,863,15.875253816246106]
[null,null,null,null,null,864,15.874945577278634]
[null,null,null,null,null,865,15.874636727807566]
[null,null,null,null,null,866,15.874327275181985]
[null,null,null,null,null,867,15.874016273044832]
[null,null,null,null,null,868,15.873706589197631]
[null,null,null,null,null,869,15.873395369942564]
[null,null,null,null,null,870,15.873082622573628]
[null,null,null,null,null,871,15.872771214939039]
[null,null,null,null,null,872,15.872458293317541]
[null,null,null,null,null,873,15.872143864980405]
[null,null,null,null,null,874,15.871829844147165]
[null,null,null,null,null,875,15.871516238096611]
[null,null,null,null,null,876,15.871200193054859]
[null,null,null,null,null,877,15.870884576960341]
[null,null,null,null,null,878,15.870569397069469]
[null,null,null,null,null,879,15.870251799586683]
[null,null,null,null,null,880,15.869934652493946]
[null,null,null,null,null,881,15.869617009351497]
[null,null,null,null,null,882,15.869298877365576]
[null,null,null,null,null,883,15.868980263537672]
[null,null,null,null,null,884,15.868661175081021]
[null,null,null,null,null,885,15.868340665506917]
[null,null,null,null,null,886,15.868021602881225]
[null,null,null,null,null,887,15.867701133373423]
[null,null,null,null,null,888,15.867379264149033]
[null,null,null,null,null,889,15.867058863314289]
[null,null,null,null,null,890,15.866737077018399]
[null,null,null,null,null,891,15.866413912407308]
[null,null,null,null,null,892,15.866091283952253]
[null,null,null,null,null,893,15.865769198805644]
[null,null,null,null,null,894,15.865444803071435]
[null,null,null,null,null,895,15.865120964933443]
[null,null,null,null,null,896,15.864797691524855]
[null,null,null,null,null,897,15.86447212893111]
[null,null,null,null,null,898,{"$f":"Cubic_Spline($A$2:$A$12,$B$2:$B$12,F899)","v":15.864147145373236}]
[null,null,null,null,null,899,15.863821794291413]
[null,null,null,null,null,900,15.863496082776033]
[null,null,null,null,null,901,15.863170018061332]
[null,null,null,null,null,902,15.862843607243642]
[null,null,null,null,null,903,15.862516857395894]
[null,null,null,null,null,904,15.862189775787426]
[null,null,null,null,null,905,15.861862369496929]
[null,null,null,null,null,906,15.861534168743235]
[null,null,null,null,null,907,15.861206134504055]
[null,null,null,null,null,908,15.860877796956151]
[null,null,null,null,null,909,15.860548686444909]
[null,null,null,null,null,910,15.860220240675231]
[null,null,null,null,null,911,15.859891036172602]
[null,null,null,null,null,912,15.85956108012777]
[null,null,null,null,null,913,15.859231810253496]
[null,null,null,null,null,914,15.858901326222302]
[null,null,null,null,null,915,15.858571065744361]
[null,null,null,null,null,916,15.858240559191382]
[null,null,null,null,null,917,15.857909813569263]
[null,null,null,null,null,918,15.85757835924721]
[null,null,null,null,null,919,15.857247633952905]
[null,null,null,null,null,920,15.856916214166018]
[null,null,null,null,null,921,15.856584107100339]
[null,null,null,null,null,922,15.856252750490603]
[null,null,null,null,null,923,15.855920243965112]
[null,null,null,null,null,924,15.855588025256278]
[null,null,null,null,null,925,15.855255147830178]
[null,null,null,null,null,926,15.854923049430555]
[null,null,null,null,null,927,15.854589829667574]
[null,null,null,null,null,928,15.854256926282774]
[null,null,null,null,null,929,15.853924346514884]
[null,null,null,null,null,930,15.853590666798231]
[null,null,null,null,null,931,15.853257324880898]
[null,null,null,null,null,932,15.852923851170635]
[null,null,null,null,null,933,15.852590252600791]
[null,null,null,null,null,934,15.852256059577083]
[null,null,null,null,null,935,15.851922709861826]
[null,null,null,null,null,936,15.851588779864951]
[null,null,null,null,null,937,15.851254276835348]
[null,null,null,null,null,938,15.850920638540991]
[null,null,null,null,null,939,15.850585964543246]
[null,null,null,null,null,940,15.850251692608225]
[null,null,null,null,null,941,15.849917353160668]
[null,null,null,null,null,942,15.84958295309969]
[null,null,null,null,null,943,15.849248022848256]
[null,null,null,null,null,944,15.84891400018487]
[null,null,null,null,null,945,15.848579461486821]
[null,null,null,null,null,946,15.848244414019451]
[null,null,null,null,null,947,15.847910295566136]
[null,null,null,null,null,948,15.847575205657177]
[null,null,null,null,null,949,15.847240582074351]
[null,null,null,null,null,950,15.846905955257004]
[null,null,null,null,null,951,15.84657133207477]
[null,null,null,null,null,952,15.846236719802645]
[null,null,null,null,null,953,15.845902125721485]
[null,null,null,null,null,954,15.845567318273559]
[null,null,null,null,null,955,15.845232543156881]
[null,null,null,null,null,956,15.844898284421266]
[null,null,null,null,null,957,15.844563833880398]
[null,null,null,null,null,958,15.844229198601063]
[null,null,null,null,null,959,15.843894862707259]
[null,null,null,null,null,960,15.843560594847828]
[null,null,null,null,null,961,15.843226163669156]
[null,null,null,null,null,962,{"$f":"Cubic_Spline($A$2:$A$12,$B$2:$B$12,F963)","v":15.842892053298927}]
[null,null,null,null,null,963,15.842557793889021]
[null,null,null,null,null,964,15.84222386956943]
[null,null,null,null,null,965,15.841890287404546]
[null,null,null,null,null,966,15.841556339200849]
[null,null,null,null,null,967,15.841222747510164]
[null,null,null,null,null,968,15.840889280976652]
[null,null,null,null,null,969,15.840555708242487]
[null,null,null,null,null,970,15.840222513443894]
[null,null,null,null,null,971,15.839889465223523]
[null,null,null,null,null,972,15.839556332222209]
[null,null,null,null,null,973,15.839223836997478]
[null,null,null,null,null,974,15.838891271353434]
[null,null,null,null,null,975,15.838558642348289]
[null,null,null,null,null,976,15.838226434123447]
[null,null,null,null,null,977,15.837894415318923]
[null,null,null,null,null,978,15.837562354573267]
[null,null,null,null,null,979,15.837230855239371]
[null,null,null,null,null,980,15.836899328286332]
[null,null,null,null,null,981,15.836568019314706]
[null,null,null,null,null,982,15.836236935464854]
[null,null,null,null,null,983,15.835906322338083]
[null,null,null,null,null,984,15.835575710153012]
[null,null,null,null,null,985,15.835245344510813]
[null,null,null,null,null,986,15.834915351803854]
[null,null,null,null,null,987,15.834585619877885]
[null,null,null,null,null,988,15.834256036706586]
[null,null,null,null,null,989,15.83392684789192]
[null,null,null,null,null,990,15.833597881674372]
[null,null,null,null,null,991,15.833269145237232]
[null,null,null,null,null,992,15.832940824556422]
[null,null,null,null,null,993,15.832612688310517]
[null,null,null,null,null,994,15.832284982101731]
[null,null,null,null,null,995,15.831957534234864]
[null,null,null,null,null,996,15.831630381630866]
[null,null,null,null,null,997,15.831303591067302]
[null,null,null,null,null,998,15.830977169684555]
[null,null,null,null,null,999,15.830651050089994]
[null,null,null,null,null,1000,15.830325306503672]
[null,null,null,null,null,1001,15.829999923706055]
[null,null,null,null,null,1002,15.829674407145015]
[null,null,null,null,null,1003,15.829350198105237]
[null,null,null,null,null,1004,15.829026328081635]
[null,null,null,null,null,1005,15.828701829319652]
[null,null,null,null,null,1006,15.828377641161826]
[null,null,null,null,null,1007,15.828055656856419]
[null,null,null,null,null,1008,15.827732046907597]
[null,null,null,null,null,1009,15.827408704567613]
[null,null,null,null,null,1010,15.827085615504682]
[null,null,null,null,null,1011,15.82676467295137]
[null,null,null,null,null,1012,15.826442047443335]
[null,null,null,null,null,1013,15.826119632217033]
[null,null,null,null,null,1014,15.825797412940686]
[null,null,null,null,null,1015,15.825477282831509]
[null,null,null,null,null,1016,15.825155412455942]
[null,null,null,null,null,1017,15.824833695035013]
[null,null,null,null,null,1018,15.824513070100332]
[null,null,null,null,null,1019,15.824192569263927]
[null,null,null,null,null,1020,15.823871224712519]
[null,null,null,null,null,1021,15.823549975788648]
[null,null,null,null,null,1022,15.823229762009188]
[null,null,null,null,null,1023,15.822909615015728]
[null,null,null,null,null,1024,15.822588566980167]
[null,null,null,null,null,1025,15.822267557245038]
[null,null,null,null,null,1026,{"$f":"Cubic_Spline($A$2:$A$12,$B$2:$B$12,F1027)","v":15.821947525312837}]
[null,null,null,null,null,1027,15.821627502854009]
[null,null,null,null,null,1028,15.821306522025978]
[null,null,null,null,null,1029,15.820985522171281]
[null,null,null,null,null,1030,15.820665442778376]
[null,null,null,null,null,1031,15.820345315545866]
[null,null,null,null,null,1032,15.820024172617057]
[null,null,null,null,null,1033,15.819703907144419]
[null,null,null,null,null,1034,15.819382597172904]
[null,null,null,null,null,1035,15.819062135858402]
[null,null,null,null,null,1036,15.818740601520496]
[null,null,null,null,null,1037,15.818419887298241]
[null,null,null,null,null,1038,15.81809807126352]
[null,null,null,null,null,1039,15.817777046558708]
[null,null,null,null,null,1040,15.817454891503395]
[null,null,null,null,null,1041,15.817133499223564]
[null,null,null,null,null,1042,15.816810947817322]
[null,null,null,null,null,1043,15.816489130413888]
[null,null,null,null,null,1044,15.816166125332854]
[null,null,null,null,null,1045,15.815843825687482]
[null,null,null,null,null,1046,15.815520309601405]
[null,null,null,null,null,1047,15.815197470191041]
[null,null,null,null,null,1048,15.814874339537392]
[null,null,null,null,null,1049,15.814549949457094]
[null,null,null,null,null,1050,15.814225239382873]
[null,null,null,null,null,1051,15.81390114865726]
[null,null,null,null,null,1052,15.813576709349157]
[null,null,null,null,null,1053,15.813250953299502]
[null,null,null,null,null,1054,15.812924819928819]
[null,null,null,null,null,1055,15.812599248579646]
[null,null,null,null,null,1056,15.812273271309129]
[null,null,null,null,null,1057,15.811945919981799]
[null,null,null,null,null,1058,15.811618134006343]
[null,null,null,null,null,1059,15.811291806454273]
[null,null,null,null,null,1060,15.810963108184401]
[null,null,null,null,null,1061,15.810633932271088]
[null,null,null,null,null,1062,15.810304264382546]
[null,null,null,null,null,1063,15.809975997579146]
[null,null,null,null,null,1064,15.809645302742078]
[null,null,null,null,null,1065,15.809314072934464]
[null,null,null,null,null,1066,15.808982293824522]
[null,null,null,null,null,1067,15.808651858461833]
[null,null,null,null,null,1068,15.808318937749254]
[null,null,null,null,null,1069,15.807985424739027]
[null,null,null,null,null,1070,15.807651305099371]
[null,null,null,null,null,1071,15.807318471869431]
[null,null,null,null,null,1072,15.806983095973026]
[null,null,null,null,null,1073,15.806647070451872]
[null,null,null,null,null,1074,15.806311334663199]
[null,null,null,null,null,1075,15.805974920569037]
[null,null,null,null,null,1076,15.805636860180492]
[null,null,null,null,null,1077,15.805298092840102]
[null,null,null,null,null,1078,15.804959557895264]
[null,null,null,null,null,1079,15.804620287327751]
[null,null,null,null,null,1080,15.804279313138755]
[null,null,null,null,null,1081,15.803937574670812]
[null,null,null,null,null,1082,15.803596011261847]
[null,null,null,null,null,1083,15.803253654912671]
[null,null,null,null,null,1084,15.802909537614909]
[null,null,null,null,null,1085,15.802564598711101]
[null,null,null,null,null,1086,15.802219777530048]
[null,null,null,null,null,1087,15.801874106090892]
[null,null,null,null,null,1088,15.801526616376053]
[null,null,null,null,null,1089,15.801179201382039]
[null,null,null,null,null,1090,{"$f":"Cubic_Spline($A$2:$A$12,$B$2:$B$12,F1091)","v":15.800829939466963}]
[null,null,null,null,null,1091,15.800480723629516]
[null,null,null,null,null,1092,15.800129632189288]
[null,null,null,null,null,1093,15.799778558134271]
[null,null,null,null,null,1094,15.79942605667685]
[null,null,null,null,null,1095,15.799072113458484]
[null,null,null,null,null,1096,15.798718144641363]
[null,null,null,null,null,1097,15.798362228579077]
[null,null,null,null,null,1098,15.798006258252489]
[null,null,null,null,null,1099,15.797648312019206]
[null,null,null,null,null,1100,15.797290282856119]
[null,null,null,null,null,1101,15.79693024912476]
[null,null,null,null,null,1102,15.796570103798139]
[null,null,null,null,null,1103,15.796208402054488]
[null,null,null,null,null,1104,15.795845606424438]
[null,null,null,null,null,1105,15.795481702526709]
[null,null,null,null,null,1106,15.795116676080898]
[null,null,null,null,null,1107,15.794750512702061]
[null,null,null,null,null,1108,15.79438319811341]
[null,null,null,null,null,1109,15.794014717926428]
[null,null,null,null,null,1110,15.793645057867861]
[null,null,null,null,null,1111,15.793274203545703]
[null,null,null,null,null,1112,15.792902140690138]
[null,null,null,null,null,1113,15.792528854905767]
[null,null,null,null,null,1114,15.792154331926127]
[null,null,null,null,null,1115,15.79177855735251]
[null,null,null,null,null,1116,15.79140151692172]
[null,null,null,null,null,1117,15.791023196231821]
[null,null,null,null,null,1118,15.790644057822913]
[null,null,null,null,null,1119,15.790262656889583]
[null,null,null,null,null,1120,15.789880886373856]
[null,null,null,null,null,1121,15.789496824671689]
[null,null,null,null,null,1122,15.789112364722103]
[null,null,null,null,null,1123,15.788725584924022]
[null,null,null,null,null,1124,15.788338378213544]
[null,null,null,null,null,1125,15.787948822992467]
[null,null,null,null,null,1126,15.787558812194066]
[null,null,null,null,null,1127,15.787166424222917]
[null,null,null,null,null,1128,15.786773552009556]
[null,null,null,null,null,1129,15.786378273961256]
[null,null,null,null,null,1130,15.785982483005901]
[null,null,null,null,null,1131,15.785584734344438]
[null,null,null,null,null,1132,15.785185490528988]
[null,null,null,null,null,1133,15.784784737134991]
[null,null,null,null,null,1134,15.784382459924705]
[null,null,null,null,null,1135,15.783978644471139]
[null,null,null,null,null,1136,15.783573276538942]
[null,null,null,null,null,1137,15.78316634169877]
[null,null,null,null,null,1138,15.782757825717583]
[null,null,null,null,null,1139,15.782347714163771]
[null,null,null,null,null,1140,15.781935992806513]
[null,null,null,null,null,1141,15.78152288563061]
[null,null,null,null,null,1142,15.781107901544051]
[null,null,null,null,null,1143,15.780691264608013]
[null,null,null,null,null,1144,15.780272960490734]
[null,null,null,null,null,1145,15.779852974860448]
[null,null,null,null,null,1146,15.779431293385393]
[null,null,null,null,null,1147,15.779007901733802]
[null,null,null,null,null,1148,15.778582785573915]
[null,null,null,null,null,1149,15.778155930573964]
[null,null,null,null,null,1150,15.777727322402187]
[null,null,null,null,null,1151,15.777296946726819]
[null,null,null,null,null,1152,15.776864789216097]
[null,null,null,null,null,1153,15.776431073928238]
[null,null,null,null,null,1154,{"$f":"Cubic_Spline($A$2:$A$12,$B$2:$B$12,F1155)","v":15.775995309751327}]
[null,null,null,null,null,1155,15.775557720743771]
[null,null,null,null,null,1156,15.77511829257381]
[null,null,null,null,null,1157,15.774677010909681]
[null,null,null,null,null,1158,15.774233861419615]
[null,null,null,null,null,1159,15.773788829771854]
[null,null,null,null,null,1160,15.773341901634629]
[null,null,null,null,null,1161,15.772893062676179]
[null,null,null,null,null,1162,15.772442298564739]
[null,null,null,null,null,1163,15.771989594968545]
[null,null,null,null,null,1164,15.771534937555831]
[null,null,null,null,null,1165,15.771078431188874]
[null,null,null,null,null,1166,15.77061982314777]
[null,null,null,null,null,1167,15.770159218294859]
[null,null,null,null,null,1168,15.769696602298376]
[null,null,null,null,null,1169,15.769231960826557]
[null,null,null,null,null,1170,15.768765279547635]
[null,null,null,null,null,1171,15.768296663323561]
[null,null,null,null,null,1172,15.767825859435105]
[null,null,null,null,null,1173,15.767352972744257]
[null,null,null,null,null,1174,15.766877988919259]
[null,null,null,null,null,1175,15.766400893628338]
[null,null,null,null,null,1176,15.765921672539738]
[null,null,null,null,null,1177,15.76544037091843]
[null,null,null,null,null,1178,15.764956855239159]
[null,null,null,null,null,1179,15.764471170766916]
[null,null,null,null,null,1180,15.763983362766636]
[null,null,null,null,null,1181,15.763493297713142]
[null,null,null,null,null,1182,15.763001020871387]
[null,null,null,null,null,1183,15.76250654770794]
[null,null,null,null,null,1184,15.762009834092694]
[null,null,null,null,null,1185,15.761510835895558]
[null,null,null,null,null,1186,15.761009598381431]
[null,null,null,null,null,1187,15.760506062521056]
[null,null,null,null,null,1188,15.760000228881836]
[null,null,null,null,null,1189,15.759492867544481]
[null,null,null,null,null,1190,15.758981303565514]
[null,null,null,null,null,1191,15.758469363649136]
[null,null,null,null,null,1192,15.757954203598224]
[null,null,null,null,null,1193,15.757436793810395]
[null,null,null,null,null,1194,15.756917146446384]
[null,null,null,null,null,1195,15.756396231929227]
[null,null,null,null,null,1196,15.755871205883823]
[null,null,null,null,null,1197,15.755345895319486]
[null,null,null,null,null,1198,15.75481745588613]
[null,null,null,null,null,1199,15.754286857831698]
[null,null,null,null,null,1200,15.753754113617083]
[null,null,null,null,null,1201,15.753220193514835]
[null,null,null,null,null,1202,15.752682253002662]
[null,null,null,null,null,1203,15.752144119385079]
[null,null,null,null,null,1204,15.751602948163985]
[null,null,null,null,null,1205,15.75105970944262]
[null,null,null,null,null,1206,15.750514415972111]
[null,null,null,null,null,1207,15.74996803787948]
[null,null,null,null,null,1208,15.749417730500209]
[null,null,null,null,null,1209,15.74886732142409]
[null,null,null,null,null,1210,15.74831491968428]
[null,null,null,null,null,1211,15.747758634221336]
[null,null,null,null,null,1212,15.747202292763964]
[null,null,null,null,null,1213,15.746643050601339]
[null,null,null,null,null,1214,15.746081877628958]
[null,null,null,null,null,1215,15.745518787014692]
[null,null,null,null,null,1216,15.744954748676562]
[null,null,null,null,null,1217,15.744386917746027]
[null,null,null,null,null,1218,{"$f":"Cubic_Spline($A$2:$A$12,$B$2:$B$12,F1219)","v":15.743819122222177}]
[null,null,null,null,null,1219,15.743248517258587]
[null,null,null,null,null,1220,15.742676072618451]
[null,null,null,null,null,1221,15.742101801735064]
[null,null,null,null,null,1222,15.741525721554012]
[null,null,null,null,null,1223,15.740947845594865]
[null,null,null,null,null,1224,15.740369143599251]
[null,null,null,null,null,1225,15.739786770526631]
[null,null,null,null,null,1226,15.739204554721182]
[null,null,null,null,null,1227,15.738619651163383]
[null,null,null,null,null,1228,15.738033029447744]
[null,null,null,null,null,1229,15.737444703346034]
[null,null,null,null,null,1230,15.73685564247336]
[null,null,null,null,null,1231,15.736263955340304]
[null,null,null,null,null,1232,15.735670609515326]
[null,null,null,null,null,1233,15.73507657455214]
[null,null,null,null,null,1234,15.734479005227268]
[null,null,null,null,null,1235,15.733881730252017]
[null,null,null,null,null,1236,15.733281904422679]
[null,null,null,null,null,1237,15.732680497154544]
[null,null,null,null,null,1238,15.732077522579061]
[null,null,null,null,null,1239,15.731473950130882]
[null,null,null,null,null,1240,15.730866934470763]
[null,null,null,null,null,1241,15.730260304542362]
[null,null,null,null,null,1242,15.729651215025388]
[null,null,null,null,null,1243,15.729040635221837]
[null,null,null,null,null,1244,15.728428579490561]
[null,null,null,null,null,1245,15.727816017152097]
[null,null,null,null,null,1246,15.727200102756402]
[null,null,null,null,null,1247,15.726584665469565]
[null,null,null,null,null,1248,15.725966859859659]
[null,null,null,null,null,1249,15.725347655120368]
[null,null,null,null,null,1250,15.724727065828008]
[null,null,null,null,null,1251,15.724106061193968]
[null,null,null,null,null,1252,15.723482749336684]
[null,null,null,null,null,1253,15.722858098611797]
[null,null,null,null,null,1254,15.722233078177988]
[null,null,null,null,null,1255,15.721604842428309]
[null,null,null,null,null,1256,15.720977220843888]
[null,null,null,null,null,1257,15.720347367834666]
[null,null,null,null,null,1258,15.719716252441147]
[null,null,null,null,null,1259,15.719083889547241]
[null,null,null,null,null,1260,15.718451248209917]
[null,null,null,null,null,1261,15.717815482723838]
[null,null,null,null,null,1262,15.717180422767751]
[null,null,null,null,null,1263,15.716543222652373]
[null,null,null,null,null,1264,15.715904851322286]
[null,null,null,null,null,1265,15.715265323854066]
[null,null,null,null,null,1266,15.714625609207939]
[null,null,null,null,null,1267,15.71398286158513]
[null,null,null,null,null,1268,15.713340910852086]
[null,null,null,null,null,1269,15.712696911225258]
[null,null,null,null,null,1270,15.712051831558277]
[null,null,null,null,null,1271,15.711405687110453]
[null,null,null,null,null,1272,15.710759446750233]
[null,null,null,null,null,1273,15.710111218264679]
[null,null,null,null,null,1274,15.70946197067507]
[null,null,null,null,null,1275,15.70881267280582]
[null,null,null,null,null,1276,15.708160478727297]
[null,null,null,null,null,1277,15.707509218568896]
[null,null,null,null,null,1278,15.706856046414973]
[null,null,null,null,null,1279,15.706201930992028]
[null,null,null,null,null,1280,15.705546887814881]
[null,null,null,null,null,1281,15.704891885623599]
[null,null,null,null,null,1282,{"$f":"Cubic_Spline($A$2:$A$12,$B$2:$B$12,F1283)","v":15.704234078407522}]
[null,null,null,null,null,1283,15.703577296458935]
[null,null,null,null,null,1284,15.702918693668089]
[null,null,null,null,null,1285,15.702259239019675]
[null,null,null,null,null,1286,15.701599424686853]
[null,null,null,null,null,1287,15.700938311962773]
[null,null,null,null,null,1288,15.700276393014287]
[null,null,null,null,null,1289,15.699614160033068]
[null,null,null,null,null,1290,15.698950674275043]
[null,null,null,null,null,1291,15.698286427925789]
[null,null,null,null,null,1292,15.697621913194846]
[null,null,null,null,null,1293,15.696956191302183]
[null,null,null,null,null,1294,15.696289754451453]
[null,null,null,null,null,1295,15.695623094869466]
[null,null,null,null,null,1296,15.694955273741456]
[null,null,null,null,null,1297,15.69428678328855]
[null,null,null,null,null,1298,15.693618115754193]
[null,null,null,null,null,1299,15.692948332290138]
[null,null,null,null,null,1300,15.692277925134352]
[null,null,null,null,null,1301,15.691606909497917]
[null,null,null,null,null,1302,15.690935777645501]
[null,null,null,null,null,1303,15.690263590686135]
[null,null,null,null,null,1304,15.689591317716442]
[null,null,null,null,null,1305,15.688918497341975]
[null,null,null,null,null,1306,15.688244667478322]
[null,null,null,null,null,1307,15.687570320400358]
[null,null,null,null,null,1308,15.686895948402515]
[null,null,null,null,null,1309,15.686220612533877]
[null,null,null,null,null,1310,15.685544805084092]
[null,null,null,null,null,1311,15.684869018361551]
[null,null,null,null,null,1312,15.684192313387221]
[null,null,null,null,null,1313,15.683515182464916]
[null,null,null,null,null,1314,15.682838117916356]
[null,null,null,null,null,1315,15.682160180735638]
[null,null,null,null,null,1316,15.681481863240105]
[null,null,null,null,null,1317,15.680803657764205]
[null,null,null,null,null,1318,15.680124625276386]
[null,null,null,null,null,1319,15.679445258106929]
[null,null,null,null,null,1320,15.678766048602361]
[null,null,null,null,null,1321,15.67808605770675]
[null,null,null,null,null,1322,15.677405777762662]
[null,null,null,null,null,1323,15.676725701128106]
[null,null,null,null,null,1324,15.676044888723993]
[null,null,null,null,null,1325,15.675364309741733]
[null,null,null,null,null,1326,15.674683502875864]
[null,null,null,null,null,1327,15.674002005862549]
[null,null,null,null,null,1328,15.673320311067096]
[null,null,null,null,null,1329,15.672638910868596]
[null,null,null,null,null,1330,15.671956866145374]
[null,null,null,null,null,1331,15.671274669273185]
[null,null,null,null,null,1332,15.670592574051913]
[null,null,null,null,null,1333,15.669910357106899]
[null,null,null,null,null,1334,15.669227795057267]
[null,null,null,null,null,1335,15.668545380296223]
[null,null,null,null,null,1336,15.667862889444391]
[null,null,null,null,null,1337,15.667180099116619]
[null,null,null,null,null,1338,15.666497501714785]
[null,null,null,null,null,1339,15.665814635256307]
[null,null,null,null,null,1340,15.66513199214851]
[null,null,null,null,null,1341,15.664449587423455]
[null,null,null,null,null,1342,15.663766720852365]
[null,null,null,null,null,1343,15.663084123268794]
[null,null,null,null,null,1344,15.662401571282345]
[null,null,null,null,null,1345,15.661718841497942]
[null,null,null,null,null,1346,{"$f":"Cubic_Spline($A$2:$A$12,$B$2:$B$12,F1347)","v":15.66103642633758}]
[null,null,null,null,null,1347,15.660354102407307]
[null,null,null,null,null,1348,15.659671646308885]
[null,null,null,null,null,1349,15.658989550470727]
[null,null,null,null,null,1350,15.658307591495612]
[null,null,null,null,null,1351,15.65762578440105]
[null,null,null,null,null,1352,15.656944144784077]
[null,null,null,null,null,1353,15.656262687663112]
[null,null,null,null,null,1354,15.655581189634546]
[null,null,null,null,null,1355,15.65490014313775]
[null,null,null,null,null,1356,15.654219205461871]
[null,null,null,null,null,1357,15.653538511125232]
[null,null,null,null,null,1358,15.652858075338857]
[null,null,null,null,null,1359,15.652178151832123]
[null,null,null,null,null,1360,15.651498278779661]
[null,null,null,null,null,1361,15.650818709910531]
[null,null,null,null,null,1362,15.650139579745669]
[null,null,null,null,null,1363,15.649460664876532]
[null,null,null,null,null,1364,15.648782219033079]
[null,null,null,null,null,1365,15.648104138318367]
[null,null,null,null,null,1366,15.647426318531693]
[null,null,null,null,null,1367,15.646748894194479]
[null,null,null,null,null,1368,15.646071999777972]
[null,null,null,null,null,1369,15.645395411972833]
[null,null,null,null,null,1370,15.644719324905941]
[null,null,null,null,null,1371,15.644043753737366]
[null,null,null,null,null,1372,15.643368534813]
[null,null,null,null,null,1373,15.642693862234486]
[null,null,null,null,null,1374,15.642019721410565]
[null,null,null,null,null,1375,15.641346038081247]
[null,null,null,null,null,1376,15.640672916922151]
[null,null,null,null,null,1377,15.640000343322754]
[null,null,null,null,null,1378,15.639327939508291]
[null,null,null,null,null,1379,15.638657053020319]
[null,null,null,null,null,1380,15.637985770929289]
[null,null,null,null,null,1381,15.637316003583065]
[null,null,null,null,null,1382,15.636645838110931]
[null,null,null,null,null,1383,15.635977184802053]
[null,null,null,null,null,1384,15.635308130844283]
[null,null,null,null,null,1385,15.634639630736768]
[null,null,null,null,null,1386,15.633972638920417]
[null,null,null,null,null,1387,15.63330524267043]
[null,null,null,null,null,1388,15.632639352130395]
[null,null,null,null,null,1389,15.631973054633406]
[null,null,null,null,null,1390,15.631308260265286]
[null,null,null,null,null,1391,15.630643056416758]
[null,null,null,null,null,1392,15.629978397485417]
[null,null,null,null,null,1393,15.629315237811557]
[null,null,null,null,null,1394,15.628651664871844]
[null,null,null,null,null,1395,15.62798958860887]
[null,null,null,null,null,1396,15.627327096556252]
[null,null,null,null,null,1397,15.626666098599761]
[null,null,null,null,null,1398,15.626004682329706]
[null,null,null,null,null,1399,15.625343802043766]
[null,null,null,null,null,1400,15.624684411983271]
[null,null,null,null,null,1401,15.624024599823061]
[null,null,null,null,null,1402,15.623365321633701]
[null,null,null,null,null,1403,15.622706572494684]
[null,null,null,null,null,1404,15.622049308420692]
[null,null,null,null,null,1405,15.621391617198334]
[null,null,null,null,null,1406,15.620734453027026]
[null,null,null,null,null,1407,15.620078770050768]
[null,null,null,null,null,1408,15.619422656139285]
[null,null,null,null,null,1409,15.618768020843046]
[null,null,null,null,null,1410,{"$f":"Cubic_Spline($A$2:$A$12,$B$2:$B$12,F1411)","v":15.618112952086857}]
[null,null,null,null,null,1411,15.617458404000949]
[null,null,null,null,null,1412,15.616805330660808]
[null,null,null,null,null,1413,15.616151820073359]
[null,null,null,null,null,1414,15.615499781652208]
[null,null,null,null,null,1415,15.614847303458681]
[null,null,null,null,null,1416,15.614196294852118]
[null,null,null,null,null,1417,15.613544843947984]
[null,null,null,null,null,1418,15.612893904781066]
[null,null,null,null,null,1419,15.612244431332336]
[null,null,null,null,null,1420,15.611594511797973]
[null,null,null,null,null,1421,15.610946055402801]
[null,null,null,null,null,1422,15.610297150396462]
[null,null,null,null,null,1423,15.609649705950446]
[null,null,null,null,null,1424,15.609001810367596]
[null,null,null,null,null,1425,15.608354417588894]
[null,null,null,null,null,1426,15.607708481502444]
[null,null,null,null,null,1427,15.607062090490396]
[null,null,null,null,null,1428,15.606417153592075]
[null,null,null,null,null,1429,15.605771759242149]
[null,null,null,null,null,1430,15.605127816427553]
[null,null,null,null,null,1431,15.604483413635217]
[null,null,null,null,null,1432,15.603839504713957]
[null,null,null,null,null,1433,15.603197043460664]
[null,null,null,null,null,1434,15.60255411844016]
[null,null,null,null,null,1435,15.601912638509559]
[null,null,null,null,null,1436,15.601270692285276]
[null,null,null,null,null,1437,15.600630188572968]
[null,null,null,null,null,1438,15.599989216040372]
[null,null,null,null,null,1439,15.599348728445785]
[null,null,null,null,null,1440,15.598709679496519]
[null,null,null,null,null,1441,15.598070157936785]
[null,null,null,null,null,1442,15.597432072444779]
[null,null,null,null,null,1443,15.596793511815365]
[null,null,null,null,null,1444,15.596156384676222]
[null,null,null,null,null,1445,15.595518779872595]
[null,null,null,null,null,1446,15.594881651073909]
[null,null,null,null,null,1447,15.594245951899538]
[null,null,null,null,null,1448,15.593609771269803]
[null,null,null,null,null,1449,15.592975017687262]
[null,null,null,null,null,1450,15.592339780121947]
[null,null,null,null,null,1451,15.59170501335252]
[null,null,null,null,null,1452,15.59107071374709]
[null,null,null,null,null,1453,15.590436881213531]
[null,null,null,null,null,1454,15.589804469284932]
[null,null,null,null,null,1455,15.589171567054425]
[null,null,null,null,null,1456,15.588540082852221]
[null,null,null,null,null,1457,15.58790810582023]
[null,null,null,null,null,1458,15.587277544240028]
[null,null,null,null,null,1459,15.586646487302021]
[null,null,null,null,null,1460,15.586015888502819]
[null,null,null,null,null,1461,15.58538670129086]
[null,null,null,null,null,1462,15.584757014928808]
[null,null,null,null,null,1463,15.584128737577815]
[null,null,null,null,null,1464,15.583499958548378]
[null,null,null,null,null,1465,15.582872585953952]
[null,null,null,null,null,1466,15.582244709152599]
[null,null,null,null,null,1467,15.581617281556982]
[null,null,null,null,null,1468,15.580991256532535]
[null,null,null,null,null,1469,15.580364723508167]
[null,null,null,null,null,1470,15.579739590479253]
[null,null,null,null,null,1471,15.5791139469216]
[null,null,null,null,null,1472,15.578488746188915]
[null,null,null,null,null,1473,15.57786494158835]
[null,null,null,null,null,1474,{"$f":"Cubic_Spline($A$2:$A$12,$B$2:$B$12,F1475)","v":15.577240622665546}]
[null,null,null,null,null,1475,15.576617697299483]
[null,null,null,null,null,1476,15.575994255082026]
[null,null,null,null,null,1477,15.575372203846067]
[null,null,null,null,null,1478,15.574749633229423]
[null,null,null,null,null,1479,15.574127496504678]
[null,null,null,null,null,1480,15.573506746898802]
[null,null,null,null,null,1481,15.572885474118038]
[null,null,null,null,null,1482,15.572265585881233]
[null,null,null,null,null,1483,15.571645171939915]
[null,null,null,null,null,1484,15.571026139967779]
[null,null,null,null,null,1485,15.570406579761375]
[null,null,null,null,null,1486,15.569787444513802]
[null,null,null,null,null,1487,15.569169687373485]
[null,null,null,null,null,1488,15.56855139820399]
[null,null,null,null,null,1489,15.567934484567312]
[null,null,null,null,null,1490,15.567317036371362]
[null,null,null,null,null,1491,15.566700961133922]
[null,null,null,null,null,1492,15.566084348806982]
[null,null,null,null,null,1493,15.565468152505806]
[null,null,null,null,null,1494,15.56485332530192]
[null,null,null,null,null,1495,15.564237957212923]
[null,null,null,null,null,1496,15.563623955647245]
[null,null,null,null,null,1497,15.56300941066589]
[null,null,null,null,null,1498,15.562396229634018]
[null,null,null,null,null,1499,15.561782502655772]
[null,null,null,null,null,1500,15.561168229095909]
[null,null,null,null,null,1501,15.560556269299324]
[null,null,null,null,null,1502,15.559943759760053]
[null,null,null,null,null,1503,15.559332607736243]
[null,null,null,null,null,1504,15.558720903438715]
[null,null,null,null,null,1505,15.558110554083282]
[null,null,null,null,null,1506,15.55749964992296]
[null,null,null,null,null,1507,15.556889143922266]
[null,null,null,null,null,1508,15.556279989003857]
[null,null,null,null,null,1509,15.555670275483537]
[null,null,null,null,null,1510,15.555061910472469]
[null,null,null,null,null,1511,15.554452984327993]
[null,null,null,null,null,1512,15.553845404119871]
[null,null,null,null,null,1513,15.5532372602467]
[null,null,null,null,null,1514,15.552629505600088]
[null,null,null,null,null,1515,15.552023093030726]
[null,null,null,null,null,1516,15.551416112998586]
[null,null,null,null,null,1517,15.550810472471136]
[null,null,null,null,null,1518,15.550204261948938]
[null,null,null,null,null,1519,15.549599388358999]
[null,null,null,null,null,1520,15.548993942242207]
[null,null,null,null,null,1521,15.548388876418905]
[null,null,null,null,null,1522,15.547785143669461]
[null,null,null,null,null,1523,15.54718083459473]
[null,null,null,null,null,1524,15.546577856021766]
[null,null,null,null,null,1525,15.545974298591075]
[null,null,null,null,null,1526,15.545372069090192]
[null,null,null,null,null,1527,15.544769258199006]
[null,null,null,null,null,1528,15.544166818668241]
[null,null,null,null,null,1529,15.543565703209588]
[null,null,null,null,null,1530,15.542964002561495]
[null,null,null,null,null,1531,15.542363623413891]
[null,null,null,null,null,1532,15.541762656543936]
[null,null,null,null,null,1533,15.541163008602979]
[null,null,null,null,null,1534,15.540562770406625]
[null,null,null,null,null,1535,15.539962894637631]
[null,null,null,null,null,1536,15.539364333940636]
[null,null,null,null,null,1537,15.53876517918841]
[null,null,null,null,null,1538,{"$f":"Cubic_Spline($A$2:$A$12,$B$2:$B$12,F1539)","v":15.538167336937033}]
[null,null,null,null,null,1539,15.537568898097042]
[null,null,null,null,null,1540,15.53697081530364]
[null,null,null,null,null,1541,15.536374041154593]
[null,null,null,null,null,1542,15.535776666616593]
[null,null,null,null,null,1543,15.535180598152131]
[null,null,null,null,null,1544,15.534583926765]
[null,null,null,null,null,1545,15.533988558880724]
[null,null,null,null,null,1546,15.533392585539927]
[null,null,null,null,null,1547,15.532796959312646]
[null,null,null,null,null,1548,15.532202632732437]
[null,null,null,null,null,1549,15.531606743220342]
[null,null,null,null,null,1550,15.531013104459287]
[null,null,null,null,null,1551,15.530418853906475]
[null,null,null,null,null,1552,15.529825897860173]
[null,null,null,null,null,1553,15.529232327487795]
[null,null,null,null,null,1554,15.528639095295867]
[null,null,null,null,null,1555,15.528047153755368]
[null,null,null,null,null,1556,15.52745459408704]
[null,null,null,null,null,1557,15.526863322500262]
[null,null,null,null,null,1558,15.526271430250999]
[null,null,null,null,null,1559,15.525680823513541]
[null,null,null,null,null,1560,15.52508959357881]
[null,null,null,null,null,1561,15.524498692891465]
[null,null,null,null,null,1562,15.523909073861544]
[null,null,null,null,null,1563,15.523318827831895]
[null,null,null,null,null,1564,15.522729860890266]
[null,null,null,null,null,1565,15.522140264413778]
[null,null,null,null,null,1566,15.521551944456039]
[null,null,null,null,null,1567,15.520962992428185]
[null,null,null,null,null,1568,15.520374360714646]
[null,null,null,null,null,1569,15.519787001666177]
[null,null,null,null,null,1570,15.519199006744438]
[null,null,null,null,null,1571,15.518612281918825]
[null,null,null,null,null,1572,15.518024918684347]
[null,null,null,null,null,1573,15.517438822977194]
[null,null,null,null,null,1574,15.516852086325445]
[null,null,null,null,null,1575,15.516265661054943]
[null,null,null,null,null,1576,15.515680499458796]
[null,null,null,null,null,1577,15.515094693114191]
[null,null,null,null,null,1578,15.514510147875471]
[null,null,null,null,null,1579,15.513924955352225]
[null,null,null,null,null,1580,15.513341021366534]
[null,null,null,null,null,1581,15.512756437560116]
[null,null,null,null,null,1582,15.51217215620188]
[null,null,null,null,null,1583,15.511589129528927]
[null,null,null,null,null,1584,15.511005449230685]
[null,null,null,null,null,1585,15.510423021049728]
[null,null,null,null,null,1586,15.509839936706946]
[null,null,null,null,null,1587,15.509258101913584]
[null,null,null,null,null,1588,15.508675608421729]
[null,null,null,null,null,1589,15.508093408444983]
[null,null,null,null,null,1590,15.507512454166099]
[null,null,null,null,null,1591,15.506930837383447]
[null,null,null,null,null,1592,15.506350463731128]
[null,null,null,null,null,1593,15.505768948200876]
[null,null,null,null,null,1594,15.505189150070716]
[null,null,null,null,null,1595,15.504608684362651]
[null,null,null,null,null,1596,15.504028503236624]
[null,null,null,null,null,1597,15.50344955882268]
[null,null,null,null,null,1598,15.502869943024846]
[null,null,null,null,null,1599,15.502291084676314]
[null,null,null,null,null,1600,15.501712505797858]
[null,null,null,null,null,1601,15.501134205113367]
[null,null,null,null,null,1602,{"$f":"Cubic_Spline($A$2:$A$12,$B$2:$B$12,F1603)","v":15.500556181346724}]
[null,null,null,null,null,1603,15.499978433221814]
[null,null,null,null,null,1604,15.499400959462514]
[null,null,null,null,null,1605,15.498823282118728]
[null,null,null,null,null,1606,15.498246353265872]
[null,null,null,null,null,1607,15.497669694950263]
[null,null,null,null,null,1608,15.497093305895786]
[null,null,null,null,null,1609,15.49651718482632]
[null,null,null,null,null,1610,15.495940853628596]
[null,null,null,null,null,1611,15.495365264700812]
[null,null,null,null,null,1612,15.4947894632803]
[null,null,null,null,null,1613,15.494214401393172]
[null,null,null,null,null,1614,15.493639601110459]
[null,null,null,null,null,1615,15.493065061156043]
[null,null,null,null,null,1616,15.492490780253808]
[null,null,null,null,null,1617,15.491916757127639]
[null,null,null,null,null,1618,15.491342513872453]
[null,null,null,null,null,1619,15.490769002473408]
[null,null,null,null,null,1620,15.490195745022058]
[null,null,null,null,null,1621,15.489622740242291]
[null,null,null,null,null,1622,15.489049986857987]
[null,null,null,null,null,1623,15.488477483593032]
[null,null,null,null,null,1624,15.487905229171307]
[null,null,null,null,null,1625,15.487332745710805]
[null,null,null,null,null,1626,15.486760985150422]
[null,null,null,null,null,1627,15.486189469604902]
[null,null,null,null,null,1628,15.485618197798129]
[null,null,null,null,null,1629,15.485047168453987]
[null,null,null,null,null,1630,15.484476380296361]
[null,null,null,null,null,1631,15.483905832049132]
[null,null,null,null,null,1632,15.483335045852538]
[null,null,null,null,null,1633,15.482764973600865]
[null,null,null,null,null,1634,15.482195137431226]
[null,null,null,null,null,1635,15.481625059230339]
[null,null,null,null,null,1636,15.48105569139641]
[null,null,null,null,null,1637,15.48048655581616]
[null,null,null,null,null,1638,15.479917651213478]
[null,null,null,null,null,1639,15.479348499750024]
[null,null,null,null,null,1640,15.478780053277113]
[null,null,null,null,null,1641,15.478211833953399]
[null,null,null,null,null,1642,15.477643840502768]
[null,null,null,null,null,1643,15.477076071649099]
[null,null,null,null,null,1644,15.47650852611628]
[null,null,null,null,null,1645,15.475940726083685]
[null,null,null,null,null,1646,15.475373623367105]
[null,null,null,null,null,1647,15.474806740143006]
[null,null,null,null,null,1648,15.47424007513527]
[null,null,null,null,null,1649,15.473673627067782]
[null,null,null,null,null,1650,15.473107394664428]
[null,null,null,null,null,1651,15.472541376649085]
[null,null,null,null,null,1652,15.471975095221035]
[null,null,null,null,null,1653,15.471409502156151]
[null,null,null,null,null,1654,15.470844119650911]
[null,null,null,null,null,1655,15.470278946429204]
[null,null,null,null,null,1656,15.469713981214912]
[null,null,null,null,null,1657,15.469149222731918]
[null,null,null,null,null,1658,15.468584669704105]
[null,null,null,null,null,1659,15.468019367512671]
[null,null,null,null,null,1660,15.467455221569528]
[null,null,null,null,null,1661,15.466891277253202]
[null,null,null,null,null,1662,15.466327533287574]
[null,null,null,null,null,1663,15.465763988396525]
[null,null,null,null,null,1664,15.465200641303941]
[null,null,null,null,null,1665,15.464637490733708]
[null,null,null,null,null,1666,{"$f":"Cubic_Spline($A$2:$A$12,$B$2:$B$12,F1667)","v":15.464074058922433}]
[null,null,null,null,null,1667,15.463511297571085]
[null,null,null,null,null,1668,15.46294872891372]
[null,null,null,null,null,1669,15.462386351674219]
[null,null,null,null,null,1670,15.461824164576466]
[null,null,null,null,null,1671,15.461262166344342]
[null,null,null,null,null,1672,15.460700355701738]
[null,null,null,null,null,1673,15.460138254902693]
[null,null,null,null,null,1674,15.459576815613188]
[null,null,null,null,null,1675,15.459015560084833]
[null,null,null,null,null,1676,15.458454487041513]
[null,null,null,null,null,1677,15.457893595207102]
[null,null,null,null,null,1678,15.457332883305492]
[null,null,null,null,null,1679,15.456771873605014]
[null,null,null,null,null,1680,15.456211517742975]
[null,null,null,null,null,1681,15.455651337985367]
[null,null,null,null,null,1682,15.455091333056071]
[null,null,null,null,null,1683,15.454531501678975]
[null,null,null,null,null,1684,15.453971365740806]
[null,null,null,null,null,1685,15.453411877639756]
[null,null,null,null,null,1686,15.452852082822915]
[null,null,null,null,null,1687,15.452292932895654]
[null,null,null,null,null,1688,15.451733950139987]
[null,null,null,null,null,1689,15.451175133279804]
[null,null,null,null,null,1690,15.450616481038987]
[null,null,null,null,null,1691,15.450057992141417]
[null,null,null,null,null,1692,15.449499665310979]
[null,null,null,null,null,1693,15.448941022847004]
[null,null,null,null,null,1694,15.448383016324566]
[null,null,null,null,null,1695,15.447825168040897]
[null,null,null,null,null,1696,15.447267476719873]
[null,null,null,null,null,1697,15.446709941085382]
[null,null,null,null,null,1698,15.446152559861307]
[null,null,null,null,null,1699,15.44559533177153]
[null,null,null,null,null,1700,15.445037779129647]
[null,null,null,null,null,1701,15.444480853482087]
[null,null,null,null,null,1702,15.443924077140458]
[null,null,null,null,null,1703,15.443367448828649]
[null,null,null,null,null,1704,15.442810967270535]
[null,null,null,null,null,1705,15.442254631190004]
[null,null,null,null,null,1706,15.441698200892359]
[null,null,null,null,null,1707,15.441141675541797]
[null,null,null,null,null,1708,15.440585768239163]
[null,null,null,null,null,1709,15.44003000130963]
[null,null,null,null,null,1710,15.439474373477077]
[null,null,null,null,null,1711,15.438918883465393]
[null,null,null,null,null,1712,15.438363291804581]
[null,null,null,null,null,1713,15.43780807360716]
[null,null,null,null,null,1714,15.437252750983669]
[null,null,null,null,null,1715,15.4366975613039]
[null,null,null,null,null,1716,15.436142741256509]
[null,null,null,null,null,1717,15.435588051373269]
[null,null,null,null,null,1718,15.435033252189371]
[null,null,null,null,null,1719,15.434478818806909]
[null,null,null,null,null,1720,15.433924511760241]
[null,null,null,null,null,1721,15.433370329773247]
[null,null,null,null,null,1722,15.432816033384405]
[null,null,null,null,null,1723,15.432262097689209]
[null,null,null,null,null,1724,15.431708283225326]
[null,null,null,null,null,1725,15.431154350533619]
[null,null,null,null,null,1726,15.430600774704796]
[null,null,null,null,null,1727,15.430047077860349]
[null,null,null,null,null,1728,15.429493735561323]
[null,null,null,null,null,1729,15.428940269933047]
[null,null,null,null,null,1730,{"$f":"Cubic_Spline($A$2:$A$12,$B$2:$B$12,F1731)","v":15.428387156060094}]
[null,null,null,null,null,1731,15.427834154485623]
[null,null,null,null,null,1732,15.427281025755745]
[null,null,null,null,null,1733,15.426728244950606]
[null,null,null,null,null,1734,15.426175572615591]
[null,null,null,null,null,1735,15.425622769298936]
[null,null,null,null,null,1736,15.42507031007651]
[null,null,null,null,null,1737,15.424517955495853]
[null,null,null,null,null,1738,15.423965704280841]
[null,null,null,null,null,1739,15.423413078563852]
[null,null,null,null,null,1740,15.422861030252449]
[null,null,null,null,null,1741,15.422309081478335]
[null,null,null,null,null,1742,15.421756992794416]
[null,null,null,null,null,1743,15.421205239267168]
[null,null,null,null,null,1744,15.420653581448851]
[null,null,null,null,null,1745,15.420102018063352]
[null,null,null,null,null,1746,15.419550309666052]
[null,null,null,null,null,1747,15.418998931318431]
[null,null,null,null,null,1748,15.41844764357527]
[null,null,null,null,null,1749,15.417896206993726]
[null,null,null,null,null,1750,15.417345096631701]
[null,null,null,null,null,1751,15.416793834627198]
[null,null,null,null,null,1752,15.416242658376232]
[null,null,null,null,null,1753,15.415691804514706]
[null,null,null,null,null,1754,15.415141033600921]
[null,null,null,null,null,1755,15.414590344358759]
[null,null,null,null,null,1756,15.414039497349229]
[null,null,null,null,null,1757,15.413488967622483]
[null,null,null,null,null,1758,15.412938515739]
[null,null,null,null,null,1759,15.412387902261312]
[null,null,null,null,null,1760,15.411837602236506]
[null,null,null,null,null,1761,15.411287376226603]
[null,null,null,null,null,1762,15.410737103746206]
[null,null,null,null,null,1763,15.410186783778327]
[null,null,null,null,null,1764,15.409636772156905]
[null,null,null,null,null,1765,15.409086710366648]
[null,null,null,null,null,1766,15.408536716080906]
[null,null,null,null,null,1767,15.407986788283818]
[null,null,null,null,null,1768,15.407436925569229]
[null,null,null,null,null,1769,15.406887245739426]
[null,null,null,null,null,1770,15.406337509361252]
[null,null,null,null,null,1771,15.40578795331521]
[null,null,null,null,null,1772,15.405238338168946]
[null,null,null,null,null,1773,15.404688781592887]
[null,null,null,null,null,1774,15.404139282574038]
[null,null,null,null,null,1775,15.403589839704798]
[null,null,null,null,null,1776,15.40304057078612]
[null,null,null,null,null,1777,15.40249123638754]
[null,null,null,null,null,1778,15.40194207338692]
[null,null,null,null,null,1779,15.401392723145211]
[null,null,null,null,null,1780,15.400843541881761]
[null,null,null,null,null,1781,15.400294528187404]
[null,null,null,null,null,1782,15.39974544263336]
[null,null,null,null,null,1783,15.399196522095851]
[null,null,null,null,null,1784,15.398647527146711]
[null,null,null,null,null,1785,15.398098456376614]
[null,null,null,null,null,1786,15.397549666003542]
[null,null,null,null,null,1787,15.397000797390884]
[null,null,null,null,null,1788,15.396452087413445]
[null,null,null,null,null,1789,15.395903296644438]
[null,null,null,null,null,1790,15.395354602353509]
[null,null,null,null,null,1791,15.394805884323651]
[null,null,null,null,null,1792,15.394257200681988]
[null,null,null,null,null,1793,15.393708550286833]
[null,null,null,null,null,1794,{"$f":"Cubic_Spline($A$2:$A$12,$B$2:$B$12,F1795)","v":15.39315999133216}]
[null,null,null,null,null,1795,15.392611463004444]
[null,null,null,null,null,1796,15.39206290442292]
[null,null,null,null,null,1797,15.391514433520751]
[null,null,null,null,null,1798,15.390965989417175]
[null,null,null,null,null,1799,15.390417451694351]
[null,null,null,null,null,1800,15.389869057359622]
[null,null,null,null,null,1801,15.389320685995115]
[null,null,null,null,null,1802,15.388772276720058]
[null,null,null,null,null,1803,15.388223947467617]
[null,null,null,null,null,1804,15.387675607554705]
[null,null,null,null,null,1805,15.38712725573909]
[null,null,null,null,null,1806,15.386578950315423]
[null,null,null,null,null,1807,15.386030660171349]
[null,null,null,null,null,1808,15.385482413866953]
[null,null,null,null,null,1809,15.384934120753082]
[null,null,null,null,null,1810,15.384385868892716]
[null,null,null,null,null,1811,15.383837642142497]
[null,null,null,null,null,1812,15.38328939455678]
[null,null,null,null,null,1813,15.382741184396174]
[null,null,null,null,null,1814,15.382192950830845]
[null,null,null,null,null,1815,15.381644737271175]
[null,null,null,null,null,1816,15.381096527531385]
[null,null,null,null,null,1817,15.380548320348089]
[null,null,null,null,null,1818,15.380000114440918]

{"sheet":"ETTJ","index":3,"n_rows":108,"n_cols":32,"rows_kept":108,"cut":false,"hidden":false,"merged":[]}
["Ticker","Data","2015-10-02","Last","Settle Px","Time","Bid","Ask","Open Int","Volume","Yest Settle","Curva","Spline","Termo"]
["ODX5 ","2015-11-02",{"$f":"NETWORKDAYS($C$1,B2,Feriados)-1","v":19},14.26,14.292999999999999,"9:51:29 AM",14.255000000000001,14.31,1060356,40,14.292999999999999,{"$f":"$S$28*C2^6+$S$29*C2^5+$S$30*C2^4+$S$31*C2^3+$S$32*C2^2+$S$33*C2+$S$41","v":14.173905940922104},{"$f":"Cubic_Spline($C$2:$C$33,$D$2:$D$33,C2)","v":14.260000228881836},{"$f":"D2","v":14.26}]
["ODZ5 ","2015-12-01",{"$f":"NETWORKDAYS($C$1,B3,Feriados)-1","v":40},14.4,14.43,"9:52:57 AM",14.39,14.4,665740,8530,14.43,14.419154389192695,{"$f":"Cubic_Spline($C$2:$C$33,$D$2:$D$33,C3)","v":14.399999618530273},{"$f":"ROUND(((((1+D3/100)^(C3/252))/((1+D2/100)^(C2/252)))^(252/(C3-C2))-1)*100,2)","v":14.53}]
["ODF6 ","2016-01-04",62,14.61,14.68,"9:55:15 AM",14.605,14.61,3487879,29270,14.68,14.646236674151842,14.609999656677246,{"$f":"ROUND(((((1+D4/100)^(C4/252))/((1+D3/100)^(C3/252)))^(252/(C4-C3))-1)*100,2)","v":14.99}]
["ODG6 ","2016-02-01",82,14.75,14.85,"10/1/2015",14.7,14.79,114485,120,14.775,14.828519384379106,14.75,15.19]
["ODH6 ","2016-03-01",101,14.89,15,"10/1/2015",14.8,14.984999999999999,70015,865,14.9,14.982255141502884,14.890000343322754,15.5]
["ODJ6 ","2016-04-01",123,15.14,15.22,"9:52:23 AM",15.12,15.14,1096753,165,15.22,15.138743714553121,15.140000343322754,16.29]
["ODK6 ","2016-05-02",143,15.31,15.35,"10/1/2015",15.185,"#N/A N/A",52245,2610,15.25,15.262820810999013,15.310000419616699,16.36]
["ODM6 ","2016-06-01",164,15.44,15.505000000000001,"10/1/2015","#N/A N/A","#N/A N/A",52145,700,15.38,15.376293584193247,15.439999580383301,16.329999999999998,null,null,null,null,null,null,null,null,null,null,null,null,null,null,"DU",2,9,14]
["ODN6 ","2016-07-01",186,15.54,15.58,"9:55:20 AM",15.404999999999999,15.44,901521,140,15.58,15.478569133838423,15.539999961853027,{"$f":"ROUND(((((1+D10/100)^(C10/252))/((1+D9/100)^(C9/252)))^(252/(C10-C9))-1)*100,2)","v":16.29},null,null,null,null,null,null,null,null,null,null,null,null,null,null,{"$f":"C4","v":62},{"$f":"D4","v":14.61},{"$f":"'091015'!S4","v":14.320006985598877},{"$f":"'141015'!S4","v":14.350014299459923}]
["ODV6 ","2016-10-03",251,15.72,15.7,"10/1/2015",15.54,15.595000000000001,375298,37720,15.57,15.698539395924957,15.720000267028809,16.239999999999998,null,null,null,null,null,null,null,null,null,null,null,null,null,null,{"$f":"C12","v":313},{"$f":"D12","v":15.81},{"$f":"'091015'!S12","v":15.559995022529272},{"$f":"'141015'!S12","v":15.590004001967506}]
["ODF7 ","2017-01-02",313,15.81,15.77,"9:58:24 AM",15.61,15.62,1892891,44035,15.77,15.821691846406708,15.810000419616699,16.18,null,null,null,null,null,null,null,null,null,null,null,null,null,null,{"$f":"C16","v":562},{"$f":"D16","v":15.92},{"$f":"'091015'!S16","v":15.939997847545007},{"$f":"'141015'!S16","v":16.009996768351087}]
["ODJ17 ","2017-04-03",376,15.86,15.87,"10/1/2015",15.68,15.71,81079,250,15.7,15.888641975278851,15.859999656677246,16.11,null,null,null,null,null,null,null,null,null,null,null,null,null,null,{"$f":"C20","v":812},{"$f":"D20","v":15.89},{"$f":"'091015'!S20","v":15.949998270622402},{"$f":"'141015'!S20","v":16.100000637556722}]
["ODN17 ","2017-07-03",437,15.89,15.94,"9:55:20 AM",15.74,15.76,524309,1055,15.94,15.917645673313478,15.890000343322754,16.079999999999998]
["ODV17 ","2017-10-02",501,15.91,15.96,"10/1/2015",15.76,15.78,160420,3425,15.82,15.925681796630592,15.909999847412109,16.05]
["ODF18 ","2018-01-02",562,15.92,15.96,"9:58:29 AM",15.75,15.76,959185,29555,15.96,15.922017633681248,15.920000076293945,16]
["ODJ18 ","2018-04-02",623,15.92,15.965,"10/1/2015",15.73,15.78,79145,1900,15.87,15.91353121629723,15.920000076293945,15.92]
["ODN18 ","2018-07-02",686,15.92,15.97,"9:56:59 AM",15.76,15.78,417659,5135,15.97,15.903318876700714,15.920000076293945,15.92]
["ODV18 ","2018-10-01",750,15.91,15.92,"10/1/2015",15.7,15.75,20564,1030,15.86,15.893011694907495,15.909999847412109,15.8]
["ODF19 ","2019-01-02",812,15.89,15.89,"9:58:24 AM",15.68,15.69,849806,15835,15.89,15.883115256679259,15.890000343322754,15.65]
["ODJ19 ","2019-04-01",873,15.87,15.863,"10/1/2015",15.63,15.67,29733,110,15.798999999999999,15.872626382592101,15.869999885559082,15.6]
["ODN19 ","2019-07-01",935,15.85,15.84,"9:56:33 AM",15.62,15.65,220473,270,15.84,15.859973565467783,15.850000381469727,15.57]
["ODV19 ","2019-10-01",1001,15.83,15.8,"10/1/2015",15.56,15.59,22950,1090,15.76,15.842911920688657,15.829999923706055,15.55]
["ODF20 ","2020-01-02",1065,15.81,15.72,"9:58:03 AM",15.53,15.54,164040,1990,15.72,15.821788515177094,15.810000419616699,15.5]
["ODJ20 ","2020-04-01",1127,15.79,15.731,"10/1/2015","#N/A N/A",15.74,13334,"#N/A N/A",15.664,15.796598766598562,15.789999961853027,15.45]
["ODN20 ","2020-07-01",1188,15.76,15.74,"9:40:36 AM",15.47,15.51,20815,10,15.74,15.767505561848486,15.760000228881836,15.21]
["ODV20 ","2020-10-01",1253,15.72,15.692,"10/1/2015","#N/A N/A",15.79,12435,1780,15.619,15.732767285362344,15.720000267028809,14.99]
["ODF21 ","2021-01-01",1315,15.68,15.65,"9:58:24 AM",15.44,15.45,1109482,22555,15.65,15.697579872178169,15.680000305175781,14.87,null,null,null,"x6",-2.18E-18]
["ODJ21 ","2021-04-01",1377,15.64,15.657999999999999,"10/1/2015","#N/A N/A",15.66,690,"#N/A N/A",15.597,15.662338422963556,15.640000343322754,14.79,null,null,null,"x5",1.45386E-14]
["ODN21 ","2021-07-01",1439,15.6,15.666,"9:42:27 AM",15.4,15.47,1575,5,15.666,15.629142893570252,15.600000381469727,14.72,null,null,null,"x4",-3.8506648400000002E-11]
["ODV21 ","2021-10-01",1504,15.56,15.673,"10/1/2015","#N/A N/A",15.66,460,5,15.592000000000001,15.598647056538157,15.560000419616699,14.68,null,null,null,"x3",5.1741301195870003E-8]
["ODF22 ","2022-01-03",1567,15.52,15.68,"9:42:27 AM",15.41,15.44,26678,35,15.68,15.574715540625027,15.520000457763672,14.57,null,null,null,"x2",-3.7426096624748198E-5]
["ODF23 ","2023-01-02",1818,15.38,15.66,"9:55:20 AM",15.42,15.44,271739,725,15.66,15.505846406599984,15.380000114440918,14.51,null,null,null,"x1",1.3750235579289999E-2]
["ODN23 ","2023-07-03",1942,15.648,15.648,"10/1/2015","#N/A N/A","#N/A N/A",840,"#N/A N/A",15.57,15.386733477821453,15.314087673186309,{"$f":"ROUND(((((1+D34/100)^(C34/252))/((1+D33/100)^(C33/252)))^(252/(C34-C33))-1)*100,2)","v":19.649999999999999},"F23",null,null,null,"R² = 0,99634422601714900000"]
["ODF24 ","2024-01-02",2067,15.45,15.638,"9:30:55 AM",15.37,15.49,34645,65,15.638,15.019245236464188,15.241252873021971,12.42,"F24"]
["ODN24 ","2024-07-01",2191,15.629,15.629,"10/1/2015","#N/A N/A","#N/A N/A",0,"#N/A N/A",15.57,14.127645833167639,15.156318775724261,18.649999999999999,"F25"]
["ODF25 ","2025-01-02",2321,15.38,15.62,"9:56:35 AM",15.42,15.45,286067,920,15.62,12.145837216405448,15.046822840467096,11.26]
["ODF26 ","2026-01-02",2574,15.64,15.64,"10/1/2015","#N/A N/A","#N/A N/A",9800,"#N/A N/A",15.59,2.1239953577960851,14.746655358200634,18.05]
["ODF29 ","2029-01-02",3324,15.67,15.67,"10/1/2015","#N/A N/A","#N/A N/A",10,"#N/A N/A",15.62,-195.32312681854475,12.711647416542917,15.77]
["ODF30 ","2030-01-02",3574,15.67,15.67,"10/1/2015","#N/A N/A","#N/A N/A",200,"#N/A N/A",15.62,-401.07921376747578,11.480255501516904,15.67]
[null,null,null,null,null,null,null,null,null,null,null,null,null,null,null,null,null,"x0",13.925812374540699]
[]
[]
[]
[null,null,null,null,null,null,null,null,null,null,null,0,{"$f":"N2","v":14.26}]
[null,null,null,null,null,null,null,null,null,null,null,{"$f":"C2","v":19},{"$f":"M45","v":14.26}]
[null,null,null,null,null,null,null,null,null,null,null,{"$f":"L46","v":19},{"$f":"N3","v":14.53}]
[null,null,null,null,null,null,null,null,null,null,null,{"$f":"C3","v":40},{"$f":"M47","v":14.53}]
[null,null,null,null,null,null,null,null,null,null,null,{"$f":"L48","v":40},{"$f":"N4","v":14.99}]
[null,null,null,null,null,null,null,null,null,null,null,{"$f":"C4","v":62},{"$f":"M49","v":14.99}]
[null,null,null,null,null,null,null,null,null,null,null,{"$f":"L50","v":62},{"$f":"N5","v":15.19}]
[null,null,null,null,null,null,null,null,null,null,null,{"$f":"C5","v":82},{"$f":"M51","v":15.19}]
[null,null,null,null,null,null,null,null,null,null,null,{"$f":"L52","v":82},{"$f":"N6","v":15.5}]
[null,null,null,null,null,null,null,null,null,null,null,{"$f":"C6","v":101},{"$f":"M53","v":15.5}]
[null,null,null,null,null,null,null,null,null,null,null,{"$f":"L54","v":101},{"$f":"N7","v":16.29}]
[null,null,null,null,null,null,null,null,null,null,null,{"$f":"C7","v":123},{"$f":"M55","v":16.29}]
[null,null,null,null,null,null,null,null,null,null,null,{"$f":"L56","v":123},{"$f":"N8","v":16.36}]
[null,null,null,null,null,null,null,null,null,null,null,{"$f":"C8","v":143},{"$f":"M57","v":16.36}]
[null,null,null,null,null,null,null,null,null,null,null,{"$f":"L58","v":143},{"$f":"N9","v":16.329999999999998}]
[null,null,null,null,null,null,null,null,null,null,null,{"$f":"C9","v":164},{"$f":"M59","v":16.329999999999998}]
[null,null,null,null,null,null,null,null,null,null,null,{"$f":"L60","v":164},{"$f":"N10","v":16.29}]
[null,null,null,null,null,null,null,null,null,null,null,{"$f":"C10","v":186},{"$f":"M61","v":16.29}]
[null,null,null,null,null,null,null,null,null,null,null,{"$f":"L62","v":186},{"$f":"N11","v":16.239999999999998}]
[null,null,null,null,null,null,null,null,null,null,null,{"$f":"C11","v":251},{"$f":"M63","v":16.239999999999998}]
[null,null,null,null,null,null,null,null,null,null,null,{"$f":"L64","v":251},{"$f":"N12","v":16.18}]
[null,null,null,null,null,null,null,null,null,null,null,{"$f":"C12","v":313},{"$f":"M65","v":16.18}]
[null,null,null,null,null,null,null,null,null,null,null,{"$f":"L66","v":313},{"$f":"N13","v":16.11}]
[null,null,null,null,null,null,null,null,null,null,null,{"$f":"C13","v":376},{"$f":"M67","v":16.11}]
[null,null,null,null,null,null,null,null,null,null,null,{"$f":"L68","v":376},{"$f":"N14","v":16.079999999999998}]
[null,null,null,null,null,null,null,null,null,null,null,{"$f":"C14","v":437},{"$f":"M69","v":16.079999999999998}]
[null,null,null,null,null,null,null,null,null,null,null,{"$f":"L70","v":437},{"$f":"N15","v":16.05}]
[null,null,null,null,null,null,null,null,null,null,null,{"$f":"C15","v":501},{"$f":"M71","v":16.05}]
[null,null,null,null,null,null,null,null,null,null,null,{"$f":"L72","v":501},{"$f":"N16","v":16}]
[null,null,null,null,null,null,null,null,null,null,null,{"$f":"C16","v":562},{"$f":"M73","v":16}]
[null,null,null,null,null,null,null,null,null,null,null,{"$f":"L74","v":562},{"$f":"N17","v":15.92}]
[null,null,null,null,null,null,null,null,null,null,null,{"$f":"C17","v":623},{"$f":"M75","v":15.92}]
[null,null,null,null,null,null,null,null,null,null,null,{"$f":"L76","v":623},{"$f":"N18","v":15.92}]
[null,null,null,null,null,null,null,null,null,null,null,{"$f":"C18","v":686},{"$f":"M77","v":15.92}]
[null,null,null,null,null,null,null,null,null,null,null,{"$f":"L78","v":686},{"$f":"N19","v":15.8}]
[null,null,null,null,null,null,null,null,null,null,null,{"$f":"C19","v":750},{"$f":"M79","v":15.8}]
[null,null,null,null,null,null,null,null,null,null,null,{"$f":"L80","v":750},{"$f":"N20","v":15.65}]
[null,null,null,null,null,null,null,null,null,null,null,{"$f":"C20","v":812},{"$f":"M81","v":15.65}]
[null,null,null,null,null,null,null,null,null,null,null,{"$f":"L82","v":812},{"$f":"N21","v":15.6}]
[null,null,null,null,null,null,null,null,null,null,null,{"$f":"C21","v":873},{"$f":"M83","v":15.6}]
[null,null,null,null,null,null,null,null,null,null,null,{"$f":"L84","v":873},{"$f":"N22","v":15.57}]
[null,null,null,null,null,null,null,null,null,null,null,{"$f":"C22","v":935},{"$f":"M85","v":15.57}]
[null,null,null,null,null,null,null,null,null,null,null,{"$f":"L86","v":935},{"$f":"N23","v":15.55}]
[null,null,null,null,null,null,null,null,null,null,null,{"$f":"C23","v":1001},{"$f":"M87","v":15.55}]
[null,null,null,null,null,null,null,null,null,null,null,{"$f":"L88","v":1001},{"$f":"N24","v":15.5}]
[null,null,null,null,null,null,null,null,null,null,null,{"$f":"C24","v":1065},{"$f":"M89","v":15.5}]
[null,null,null,null,null,null,null,null,null,null,null,{"$f":"L90","v":1065},{"$f":"N25","v":15.45}]
[null,null,null,null,null,null,null,null,null,null,null,{"$f":"C25","v":1127},{"$f":"M91","v":15.45}]
[null,null,null,null,null,null,null,null,null,null,null,{"$f":"L92","v":1127},{"$f":"N26","v":15.21}]
[null,null,null,null,null,null,null,null,null,null,null,{"$f":"C26","v":1188},{"$f":"M93","v":15.21}]
[null,null,null,null,null,null,null,null,null,null,null,{"$f":"L94","v":1188},{"$f":"N27","v":14.99}]
[null,null,null,null,null,null,null,null,null,null,null,{"$f":"C27","v":1253},{"$f":"M95","v":14.99}]
[null,null,null,null,null,null,null,null,null,null,null,{"$f":"L96","v":1253},{"$f":"N28","v":14.87}]
[null,null,null,null,null,null,null,null,null,null,null,{"$f":"C28","v":1315},{"$f":"M97","v":14.87}]
[null,null,null,null,null,null,null,null,null,null,null,{"$f":"L98","v":1315},{"$f":"N29","v":14.79}]
[null,null,null,null,null,null,null,null,null,null,null,{"$f":"C29","v":1377},{"$f":"M99","v":14.79}]
[null,null,null,null,null,null,null,null,null,null,null,{"$f":"L100","v":1377},{"$f":"N30","v":14.72}]
[null,null,null,null,null,null,null,null,null,null,null,{"$f":"C30","v":1439},{"$f":"M101","v":14.72}]
[null,null,null,null,null,null,null,null,null,null,null,{"$f":"L102","v":1439},{"$f":"N31","v":14.68}]
[null,null,null,null,null,null,null,null,null,null,null,{"$f":"C31","v":1504},{"$f":"M103","v":14.68}]
[null,null,null,null,null,null,null,null,null,null,null,{"$f":"L104","v":1504},{"$f":"N32","v":14.57}]
[null,null,null,null,null,null,null,null,null,null,null,{"$f":"C32","v":1567},{"$f":"M105","v":14.57}]
[null,null,null,null,null,null,null,null,null,null,null,{"$f":"L106","v":1567},{"$f":"N33","v":14.51}]
[null,null,null,null,null,null,null,null,null,null,null,{"$f":"C33","v":1818},{"$f":"M107","v":14.51}]

{"sheet":"Planilha1","index":4,"n_rows":40,"n_cols":11,"rows_kept":40,"cut":false,"hidden":false,"merged":[]}
[]
[]
[]
[]
[null,null,null,null,null,null,null,null,null,"2022-03-01",10.99]
[null,null,null,null,null,null,null,null,null,"2022-05-01",11.254]
[null,null,null,null,null,null,null,null,null,"2022-05-01",11.55]
[null,null,null,null,null,null,null,null,null,"2022-06-01",11.74]
[null,null,null,null,null,null,null,null,null,"2022-07-01",11.89]
[null,null,null,null,null,null,null,null,null,"2022-08-01",12.06]
[null,null,null,null,null,null,null,null,null,"2022-10-01",12.135]
[null,null,null,null,null,null,null,null,null,"2022-10-01",12.2]
[null,null,null,null,null,null,null,null,null,"2022-11-01",12.26]
[null,null,null,null,null,null,null,null,null,"2023-01-01",12.26]
[null,null,null,null,null,null,null,null,null,"2023-01-01",12.27]
[null,null,null,null,null,null,null,null,null,"2023-04-01",12.255000000000001]
[null,null,null,null,null,null,null,null,null,"2023-07-01",12.175000000000001]
[null,null,null,null,null,null,null,null,null,"2023-10-01",11.955]
[null,null,null,null,null,null,null,null,null,"2024-01-01",11.72]
[null,null,null,null,null,null,null,null,null,"2024-03-01",11.57]
[null,null,null,null,null,null,null,null,null,"2024-06-01",11.404999999999999]
[null,null,null,null,null,null,null,null,null,"2024-09-01",11.29]
[null,null,null,null,null,null,null,null,null,"2025-01-01",11.19]
[null,null,null,null,null,null,null,null,null,"2025-03-01",11.16]
[null,null,null,null,null,null,null,null,null,"2025-06-01",11.125]
[null,null,null,null,null,null,null,null,null,"2025-09-01",11.005000000000001]
[null,null,null,null,null,null,null,null,null,"2026-01-01",11.115]
[null,null,null,null,null,null,null,null,null,"2026-03-01",11.09]
[null,null,null,null,null,null,null,null,null,"2026-06-01",11.135]
[null,null,null,null,null,null,null,null,null,"2026-09-01",11.22]
[null,null,null,null,null,null,null,null,null,"2027-01-01",11.195]
[null,null,null,null,null,null,null,null,null,"2028-01-01",11.29]
[null,null,null,null,null,null,null,null,null,"2029-01-01",11.41]
[null,null,null,null,null,null,null,null,null,"2030-01-01",11.43]
[null,null,null,null,null,null,null,null,null,"2031-01-01",11.5]
[null,null,null,null,null,null,null,null,null,"2032-01-01",11.654999999999999]
[null,null,null,null,null,null,null,null,null,"2033-01-01",11.54]
[null,null,null,null,null,null,null,null,null,"2035-01-01",11.76]
[null,null,null,null,null,null,null,null,null,"2036-01-01",11.776]
[null,null,null,null,null,null,null,null,null,"2037-01-01",11.853999999999999]

{"sheet":"COPOM","index":5,"n_rows":34,"n_cols":25,"rows_kept":34,"cut":false,"hidden":false,"merged":[[11,3,11,4],[11,8,11,9],[11,13,11,14],[11,18,11,19],[14,3,14,4],[14,8,14,9],[14,13,14,14],[14,18,14,19],[28,3,28,4],[28,8,28,9],[28,13,28,14],[31,3,31,4],[31,8,31,9],[31,13,31,14]]}
[null,null,"DATA"]
[null,null,"2022-09-18",null,null,"ETTJ",null,null,null,null,null,null,null,"Reuniões Copom"]
[null,null,null,null,"tc","tl","DU","Tx Spot","Termo",null,null,null,"Termo","#","DU"]
[null,null,null,null,"a",null,0,13.65,{"$f":"H4","v":13.65},"spot"]
[null,null,"2022-10-01",null,"b","a",{"$f":"NETWORKDAYS($C$2,C5,Feriados)-1","v":9},13.72,{"$f":"H5","v":13.72},"TX CURTA",null,"2022-09-21","a","R1",{"$f":"NETWORKDAYS($C$2,L5,Feriados)-1","v":2},null,null,null,null,null,null,null,null,0,{"$f":"J22","v":13.65}]
[null,null,"2022-11-02",null,"c","b",{"$f":"NETWORKDAYS($C$2,C6,Feriados)-1","v":30},13.74,{"$f":"C17","v":13.75},"T1",null,"2022-10-26","b","R2",{"$f":"NETWORKDAYS($C$2,L6,Feriados)-1","v":26},null,null,null,null,null,null,null,null,26,{"$f":"J22","v":13.65}]
[null,null,"2022-12-01",null,"d","c",{"$f":"NETWORKDAYS($C$2,C7,Feriados)-1","v":50},13.78,{"$f":"H17","v":13.84},"T2",null,"2022-12-07","d","R3",{"$f":"NETWORKDAYS($C$2,L7,Feriados)-1","v":54},null,null,null,null,null,null,null,null,26,{"$f":"J23","v":13.74}]
[null,null,"2023-01-01",null,"e","d",{"$f":"NETWORKDAYS($C$2,C8,Feriados)-1","v":71},13.8,{"$f":"M17","v":13.85},"T3",null,null,null,null,null,null,null,null,null,null,null,null,null,60,{"$f":"J23","v":13.74}]
[null,null,"2023-02-01",null,"f","e",{"$f":"NETWORKDAYS($C$2,C9,Feriados)-1","v":94},13.81,{"$f":"R17","v":13.84},"T3",null,null,null,null,null,null,null,null,null,null,null,null,null,60,{"$f":"J24","v":13.79}]
[null,null,null,null,null,null,null,null,null,null,null,null,null,null,null,null,null,null,null,null,null,null,null,89,{"$f":"J24","v":13.79}]
[null,"Termo","b",null,null,null,"Termo","c",null,null,null,"Termo","d",null,null,null,"Termo","e",null,null,null,null,null,89,{"$f":"J25","v":13.86}]
[null,null,null,"DU",null,null,null,null,"DU",null,null,null,null,"DU",null,null,null,null,"DU",null,null,null,null,120,{"$f":"Y11","v":13.86}]
[null,"Tx. Curta",{"$f":"VLOOKUP(C11,$E$5:$H$9,4)","v":13.72},{"$f":"VLOOKUP(C11,$E$5:$H$9,3)","v":9},null,null,"Tx. Curta",{"$f":"VLOOKUP(H11,$E$5:$H$9,4)","v":13.74},{"$f":"VLOOKUP(H11,$E$5:$H$9,3)","v":30},null,null,"Tx. Curta",{"$f":"VLOOKUP(M11,$E$5:$H$9,4)","v":13.78},{"$f":"VLOOKUP(M11,$E$5:$H$9,3)","v":50},null,null,"Tx. Curta",{"$f":"VLOOKUP(R11,$E$5:$H$9,4)","v":13.8},{"$f":"VLOOKUP(R11,$E$5:$H$9,3)","v":71}]
[]
[null,"Tx. Longa",{"$f":"VLOOKUP(C11,$F$5:$H$9,3)","v":13.74},{"$f":"VLOOKUP(C11,$F$5:$H$9,2)","v":30},null,null,"Tx. Longa",{"$f":"VLOOKUP(H11,$F$5:$H$9,3)","v":13.78},{"$f":"VLOOKUP(H11,$F$5:$H$9,2)","v":50},null,null,"Tx. Longa",{"$f":"VLOOKUP(M11,$F$5:$H$9,3)","v":13.8},{"$f":"VLOOKUP(M11,$F$5:$H$9,2)","v":71},null,null,"Tx. Longa",{"$f":"VLOOKUP(R11,$F$5:$H$9,3)","v":13.81},{"$f":"VLOOKUP(R11,$F$5:$H$9,2)","v":94}]
[]
[null,"Termo",{"$f":"ROUND(((((1+C15/100)^(D15/252))/((1+C13/100)^(D13/252)))^(252/(E17))-1)*100,2)","v":13.75},null,{"$f":"D15-D13","v":21},null,"Termo",{"$f":"ROUND(((((1+H15/100)^(I15/252))/((1+H13/100)^(I13/252)))^(252/(J17))-1)*100,2)","v":13.84},null,{"$f":"I15-I13","v":20},null,"Termo",{"$f":"ROUND(((((1+M15/100)^(N15/252))/((1+M13/100)^(N13/252)))^(252/(O17))-1)*100,2)","v":13.85},null,{"$f":"N15-N13","v":21},null,"Termo",{"$f":"ROUND(((((1+R15/100)^(S15/252))/((1+R13/100)^(S13/252)))^(252/(T17))-1)*100,2)","v":13.84},null,{"$f":"S15-S13","v":23}]
[]
[]
[]
[]
[null,null,null,null,null,"Cálculo do CDI projetado",null,null,"CDI 0",{"$f":"I4","v":13.65}]
[null,null,null,null,null,null,null,null,"CDI 1",{"$f":"C34","v":13.74},{"$f":"J23-J22","v":8.9999999999999858E-2}]
[null,null,null,null,null,null,null,null,"CDI 2",{"$f":"H34","v":13.79},{"$f":"J24-J23","v":4.9999999999998934E-2}]
[null,null,null,null,null,null,null,null,"CDI 3",{"$f":"M34","v":13.86},{"$f":"J25-J24","v":7.0000000000000284E-2}]
[]
[]
[null,"Termo",{"$f":"M5","v":"a"},null,null,null,"Termo",{"$f":"M6","v":"b"},null,null,null,"Termo",{"$f":"M7","v":"d"}]
[null,null,null,"DU",null,null,null,null,"DU",null,null,null,null,"DU"]
[null,"Tx. Curta",{"$f":"VLOOKUP(C28,$E$4:$H$9,4)","v":13.65},{"$f":"VLOOKUP(C28,$M$5:$O$7,3)-VLOOKUP(C28,$E$4:$H$9,3)","v":2},null,null,"Tx. Curta",{"$f":"C34","v":13.74},{"$f":"VLOOKUP(H28,$M$5:$O$7,3)-VLOOKUP(H28,$E$5:$H$9,3)","v":17},null,null,"Tx. Curta",{"$f":"H34","v":13.79},{"$f":"VLOOKUP(M28,$M$5:$O$7,3)-VLOOKUP(M28,$E$5:$H$9,3)","v":4}]
[]
[null,"Tx. Longa",{"$f":"VLOOKUP(C28,$F$4:$I$8,4)","v":13.72},{"$f":"VLOOKUP(C28,$F$4:$H$8,2)-VLOOKUP(C28,$E$4:$H$8,3)","v":9},null,null,"Tx. Longa",{"$f":"VLOOKUP(H28,$F$4:$I$8,4)","v":13.75},{"$f":"VLOOKUP(H28,$F$5:$H$9,2)-VLOOKUP(H28,$E$5:$H$9,3)","v":21},null,null,"Tx. Longa",{"$f":"VLOOKUP(M28,$F$5:$I$9,4)","v":13.85},{"$f":"VLOOKUP(M28,$F$5:$H$9,2)-VLOOKUP(M28,$E$5:$H$9,3)","v":21}]
[]
[null,"Termo",{"$f":"ROUND(((((1+C32/100)^(D32/252))/((1+C30/100)^(D30/252)))^(252/(E34))-1)*100,2)","v":13.74},null,{"$f":"D32-D30","v":7},null,"Termo",{"$f":"ROUND(((((1+H32/100)^(I32/252))/((1+H30/100)^(I30/252)))^(252/(J34))-1)*100,2)","v":13.79},null,{"$f":"I32-I30","v":4},null,"Termo",{"$f":"ROUND(((((1+M32/100)^(N32/252))/((1+M30/100)^(N30/252)))^(252/(O34))-1)*100,2)","v":13.86},null,{"$f":"N32-N30","v":17}]

{"sheet":"COPOM 1","index":6,"n_rows":34,"n_cols":25,"rows_kept":34,"cut":false,"hidden":false,"merged":[[11,3,11,4],[11,8,11,9],[11,13,11,14],[11,18,11,19],[14,3,14,4],[14,8,14,9],[14,13,14,14],[14,18,14,19],[28,3,28,4],[28,8,28,9],[28,13,28,14],[31,3,31,4],[31,8,31,9],[31,13,31,14]]}
[null,null,"DATA"]
[null,null,"2011-03-12",null,null,"ETTJ",null,null,null,null,null,null,null,"Reuniões Copom"]
[null,null,null,null,"tc","tl","DU","Tx Spot","Termo",null,null,null,"Termo","#","DU"]
[null,null,null,null,"a",null,0,11.66,11.66,"spot"]
[null,null,"2011-04-01",null,"b","a",{"$f":"NETWORKDAYS($C$2,C5,Feriados)-1","v":14},11.66,{"$f":"H5","v":11.66},"TX CURTA",null,"2011-04-20","b","R1",{"$f":"NETWORKDAYS($C$2,L5,Feriados)-1","v":27},null,null,null,null,null,null,null,null,0,{"$f":"J22","v":11.66}]
[null,null,"2011-05-02",null,"c","b",{"$f":"NETWORKDAYS($C$2,C6,Feriados)-1","v":33},11.75,{"$f":"C17","v":11.82},"T1",null,"2011-06-08","c","R2",{"$f":"NETWORKDAYS($C$2,L6,Feriados)-1","v":60},null,null,null,null,null,null,null,null,26,{"$f":"J22","v":11.66}]
[null,null,"2011-07-01",null,"d","c",{"$f":"NETWORKDAYS($C$2,C7,Feriados)-1","v":76},12.1,{"$f":"H17","v":12.37},"T2",null,"2011-07-20","d","R3",{"$f":"NETWORKDAYS($C$2,L7,Feriados)-1","v":89},null,null,null,null,null,null,null,null,26,{"$f":"J23","v":12.17}]
[null,null,"2011-08-01",null,"e","d",{"$f":"NETWORKDAYS($C$2,C8,Feriados)-1","v":97},12.21,{"$f":"M17","v":12.61},"T3",null,null,null,null,null,null,null,null,null,null,null,null,null,60,{"$f":"J23","v":12.17}]
[null,null,null,null,null,null,null,null,null,null,null,null,null,null,null,null,null,null,null,null,null,null,null,60,{"$f":"J24","v":12.71}]
[null,null,null,null,null,null,null,null,null,null,null,null,null,null,null,null,null,null,null,null,null,null,null,89,{"$f":"J24","v":12.71}]
[null,"Termo","b",null,null,null,"Termo","c",null,null,null,"Termo","d",null,null,null,null,null,null,null,null,null,null,89,{"$f":"J25","v":12.45}]
[null,null,null,"DU",null,null,null,null,"DU",null,null,null,null,"DU",null,null,null,null,null,null,null,null,null,120,{"$f":"Y11","v":12.45}]
[null,"Tx. Curta",{"$f":"VLOOKUP(C11,$E$5:$H$9,4)","v":11.66},{"$f":"VLOOKUP(C11,$E$5:$H$9,3)","v":14},null,null,"Tx. Curta",{"$f":"VLOOKUP(H11,$E$5:$H$9,4)","v":11.75},{"$f":"VLOOKUP(H11,$E$5:$H$9,3)","v":33},null,null,"Tx. Curta",{"$f":"VLOOKUP(M11,$E$5:$H$9,4)","v":12.1},{"$f":"VLOOKUP(M11,$E$5:$H$9,3)","v":76}]
[]
[null,"Tx. Longa",{"$f":"VLOOKUP(C11,$F$5:$H$9,3)","v":11.75},{"$f":"VLOOKUP(C11,$F$5:$H$9,2)","v":33},null,null,"Tx. Longa",{"$f":"VLOOKUP(H11,$F$5:$H$9,3)","v":12.1},{"$f":"VLOOKUP(H11,$F$5:$H$9,2)","v":76},null,null,"Tx. Longa",{"$f":"VLOOKUP(M11,$F$5:$H$9,3)","v":12.21},{"$f":"VLOOKUP(M11,$F$5:$H$9,2)","v":97}]
[]
[null,"Termo",{"$f":"ROUND(((((1+C15/100)^(D15/252))/((1+C13/100)^(D13/252)))^(252/(E17))-1)*100,2)","v":11.82},null,{"$f":"D15-D13","v":19},null,"Termo",{"$f":"ROUND(((((1+H15/100)^(I15/252))/((1+H13/100)^(I13/252)))^(252/(J17))-1)*100,2)","v":12.37},null,{"$f":"I15-I13","v":43},null,"Termo",{"$f":"ROUND(((((1+M15/100)^(N15/252))/((1+M13/100)^(N13/252)))^(252/(O17))-1)*100,2)","v":12.61},null,{"$f":"N15-N13","v":21}]
[]
[]
[]
[]
[null,null,null,null,null,"Cálculo do CDI projetado",null,null,"CDI O",{"$f":"H5","v":11.66}]
[null,null,null,null,null,null,null,null,"CDI 1",{"$f":"C34","v":12.17},{"$f":"J23-J22","v":0.50999999999999979}]
[null,null,null,null,null,null,null,null,"CDI 2",{"$f":"H34","v":12.71},{"$f":"J24-J23","v":0.54000000000000092}]
[null,null,null,null,null,null,null,null,"CDI 2",{"$f":"M34","v":12.45},{"$f":"J25-J24","v":-0.26000000000000156}]
[]
[]
[null,"Termo",{"$f":"M5","v":"b"},null,null,null,"Termo",{"$f":"M6","v":"c"},null,null,null,"Termo",{"$f":"M7","v":"d"}]
[null,null,null,"DU",null,null,null,null,"DU",null,null,null,null,"DU"]
[null,"Tx. Curta",{"$f":"VLOOKUP(C28,$E$5:$H$9,4)","v":11.66},{"$f":"VLOOKUP(C28,$M$5:$O$7,3)-VLOOKUP(C28,$E$5:$H$9,3)","v":13},null,null,"Tx. Curta",{"$f":"C34","v":12.17},{"$f":"VLOOKUP(H28,$M$5:$O$7,3)-VLOOKUP(H28,$E$5:$H$9,3)","v":27},null,null,"Tx. Curta",{"$f":"H34","v":12.71},{"$f":"VLOOKUP(M28,$M$5:$O$7,3)-VLOOKUP(M28,$E$5:$H$9,3)","v":13}]
[]
[null,"Tx. Longa",{"$f":"VLOOKUP(C28,$F$5:$I$9,4)","v":11.82},{"$f":"VLOOKUP(C28,$F$5:$H$9,2)-VLOOKUP(C28,$E$5:$H$9,3)","v":19},null,null,"Tx. Longa",{"$f":"VLOOKUP(H28,$F$5:$I$9,4)","v":12.37},{"$f":"VLOOKUP(H28,$F$5:$H$9,2)-VLOOKUP(H28,$E$5:$H$9,3)","v":43},null,null,"Tx. Longa",{"$f":"VLOOKUP(M28,$F$5:$I$9,4)","v":12.61},{"$f":"VLOOKUP(M28,$F$5:$H$9,2)-VLOOKUP(M28,$E$5:$H$9,3)","v":21}]
[]
[null,"Termo",{"$f":"ROUND(((((1+C32/100)^(D32/252))/((1+C30/100)^(D30/252)))^(252/(E34))-1)*100,2)","v":12.17},null,{"$f":"D32-D30","v":6},null,"Termo",{"$f":"ROUND(((((1+H32/100)^(I32/252))/((1+H30/100)^(I30/252)))^(252/(J34))-1)*100,2)","v":12.71},null,{"$f":"I32-I30","v":16},null,"Termo",{"$f":"ROUND(((((1+M32/100)^(N32/252))/((1+M30/100)^(N30/252)))^(252/(O34))-1)*100,2)","v":12.45},null,{"$f":"N32-N30","v":8}]

{"sheet":"COPOM 2","index":7,"n_rows":34,"n_cols":25,"rows_kept":34,"cut":false,"hidden":false,"merged":[[11,3,11,4],[11,8,11,9],[11,13,11,14],[11,18,11,19],[14,3,14,4],[14,8,14,9],[14,13,14,14],[14,18,14,19],[28,3,28,4],[28,8,28,9],[28,13,28,14],[31,3,31,4],[31,8,31,9],[31,13,31,14]]}
[null,null,"DATA"]
[null,null,"2015-10-02",null,null,"ETTJ",null,null,null,null,null,null,null,"Reuniões Copom"]
[null,null,null,null,"tc","tl","DU","Tx Spot","Termo",null,null,null,"Termo","#","DU"]
[null,null,"2015-10-21",null,"a",null,{"$f":"NETWORKDAYS($C$2,C4,Feriados)-1","v":12},14.13,{"$f":"H4","v":14.13},"spot"]
[null,null,"2015-11-02",null,"b","a",{"$f":"NETWORKDAYS($C$2,C5,Feriados)-1","v":19},{"$f":"Cubic_Spline('021015'!$R$2:$R$13,'021015'!$S$2:$S$13,G5)","v":14.228569984436035},{"$f":"C17","v":14.4},"TX CURTA",null,"2015-10-21","a","R1",{"$f":"NETWORKDAYS($C$2,L5,Feriados)-1","v":12},null,null,null,null,null,null,null,null,0,{"$f":"J22","v":14.13}]
[null,null,"2015-12-01",null,"c","b",{"$f":"NETWORKDAYS($C$2,C6,Feriados)-1","v":40},{"$f":"Cubic_Spline('021015'!$R$2:$R$13,'021015'!$S$2:$S$13,G6)","v":14.329986572265625},{"$f":"H17","v":14.42},"T1",null,"2015-11-25","b","R2",{"$f":"NETWORKDAYS($C$2,L6,Feriados)-1","v":36},null,null,null,null,null,null,null,null,26,{"$f":"J22","v":14.13}]
[null,null,"2016-01-04",null,"d","c",{"$f":"NETWORKDAYS($C$2,C7,Feriados)-1","v":62},{"$f":"Cubic_Spline('021015'!$R$2:$R$13,'021015'!$S$2:$S$13,G7)","v":14.540019035339355},{"$f":"M17","v":14.92},"T2",null,"2016-01-20","d","R3",{"$f":"NETWORKDAYS($C$2,L7,Feriados)-1","v":74},null,null,null,null,null,null,null,null,26,{"$f":"J23","v":14.4}]
[null,null,"2016-02-01",null,"e","d",{"$f":"NETWORKDAYS($C$2,C8,Feriados)-1","v":82},{"$f":"Cubic_Spline('021015'!$R$2:$R$13,'021015'!$S$2:$S$13,G8)","v":14.675000190734863},{"$f":"R17","v":15.09},"T3",null,null,null,null,null,null,null,null,null,null,null,null,null,60,{"$f":"J23","v":14.4}]
[null,null,null,null,null,null,null,null,null,null,null,null,null,null,null,null,null,null,null,null,null,null,null,60,{"$f":"J24","v":14.51}]
[null,null,null,null,null,null,null,null,null,null,null,null,null,null,null,null,null,null,null,null,null,null,null,89,{"$f":"J24","v":14.51}]
[null,"Termo","a",null,null,null,"Termo","b",null,null,null,"Termo","c",null,null,null,"Termo","d",null,null,null,null,null,89,{"$f":"J25","v":15.97}]
[null,null,null,"DU",null,null,null,null,"DU",null,null,null,null,"DU",null,null,null,null,"DU",null,null,null,null,120,{"$f":"Y11","v":15.97}]
[null,"Tx. Curta",{"$f":"VLOOKUP(C11,$E$4:$H$9,4)","v":14.13},{"$f":"VLOOKUP(C11,$E$4:$H$9,3)","v":12},null,null,"Tx. Curta",{"$f":"VLOOKUP(H11,$E$5:$H$9,4)","v":14.228569984436035},{"$f":"VLOOKUP(H11,$E$5:$H$9,3)","v":19},null,null,"Tx. Curta",{"$f":"VLOOKUP(M11,$E$5:$H$9,4)","v":14.329986572265625},{"$f":"VLOOKUP(M11,$E$5:$H$9,3)","v":40},null,null,"Tx. Curta",{"$f":"VLOOKUP(R11,$E$5:$H$9,4)","v":14.540019035339355},{"$f":"VLOOKUP(R11,$E$5:$H$9,3)","v":62}]
[]
[null,"Tx. Longa",{"$f":"VLOOKUP(C11,$F$4:$H$9,3)","v":14.228569984436035},{"$f":"VLOOKUP(C11,$F$4:$H$9,2)","v":19},null,null,"Tx. Longa",{"$f":"VLOOKUP(H11,$F$5:$H$9,3)","v":14.329986572265625},{"$f":"VLOOKUP(H11,$F$5:$H$9,2)","v":40},null,null,"Tx. Longa",{"$f":"VLOOKUP(M11,$F$5:$H$9,3)","v":14.540019035339355},{"$f":"VLOOKUP(M11,$F$5:$H$9,2)","v":62},null,null,"Tx. Longa",{"$f":"VLOOKUP(R11,$F$5:$H$9,3)","v":14.675000190734863},{"$f":"VLOOKUP(R11,$F$5:$H$9,2)","v":82}]
[]
[null,"Termo",{"$f":"ROUND(((((1+C15/100)^(D15/252))/((1+C13/100)^(D13/252)))^(252/(E17))-1)*100,2)","v":14.4},null,{"$f":"D15-D13","v":7},null,"Termo",{"$f":"ROUND(((((1+H15/100)^(I15/252))/((1+H13/100)^(I13/252)))^(252/(J17))-1)*100,2)","v":14.42},null,{"$f":"I15-I13","v":21},null,"Termo",{"$f":"ROUND(((((1+M15/100)^(N15/252))/((1+M13/100)^(N13/252)))^(252/(O17))-1)*100,2)","v":14.92},null,{"$f":"N15-N13","v":22},null,"Termo",{"$f":"ROUND(((((1+R15/100)^(S15/252))/((1+R13/100)^(S13/252)))^(252/(T17))-1)*100,2)","v":15.09},null,{"$f":"S15-S13","v":20}]
[]
[]
[]
[]
[null,null,null,null,null,"Cálculo do CDI projetado",null,null,"CDI 0",{"$f":"14.13","v":14.13}]
[null,null,null,null,null,null,null,null,"CDI 1",{"$f":"C34","v":14.4},{"$f":"J23-J22","v":0.26999999999999957}]
[null,null,null,null,null,null,null,null,"CDI 2",{"$f":"H34","v":14.51},{"$f":"J24-J23","v":0.10999999999999943}]
[null,null,null,null,null,null,null,null,"CDI 3",{"$f":"M34","v":15.97},{"$f":"J25-J24","v":1.4600000000000009}]
[]
[]
[null,"Termo",{"$f":"M5","v":"a"},null,null,null,"Termo",{"$f":"M6","v":"b"},null,null,null,"Termo",{"$f":"M7","v":"d"}]
[null,null,null,"DU",null,null,null,null,"DU",null,null,null,null,"DU"]
[null,"Tx. Curta",{"$f":"VLOOKUP(C28,$E$4:$H$8,4)","v":14.13},{"$f":"VLOOKUP(C28,$M$5:$O$7,3)-VLOOKUP(C28,$E$4:$H$8,3)","v":0},null,null,"Tx. Curta",{"$f":"C34","v":14.4},{"$f":"VLOOKUP(H28,$M$5:$O$7,3)-VLOOKUP(H28,$E$4:$H$8,3)","v":17},null,null,"Tx. Curta",{"$f":"H34","v":14.51},{"$f":"VLOOKUP(M28,$M$5:$O$7,3)-VLOOKUP(M28,$E$5:$H$9,3)","v":12}]
[]
[null,"Tx. Longa",{"$f":"VLOOKUP(C28,$F$4:$I$8,4)","v":14.4},{"$f":"VLOOKUP(C28,$F$4:$H$8,2)-VLOOKUP(C28,$E$4:$H$8,3)","v":7},null,null,"Tx. Longa",{"$f":"VLOOKUP(H28,$F$4:$I$8,4)","v":14.42},{"$f":"VLOOKUP(H28,$F$4:$H$8,2)-VLOOKUP(H28,$E$4:$H$8,3)","v":21},null,null,"Tx. Longa",{"$f":"VLOOKUP(M28,$F$5:$I$9,4)","v":15.09},{"$f":"VLOOKUP(M28,$F$5:$H$9,2)-VLOOKUP(M28,$E$5:$H$9,3)","v":20}]
[]
[null,"Termo",{"$f":"ROUND(((((1+C32/100)^(D32/252))/((1+C30/100)^(D30/252)))^(252/(E34))-1)*100,2)","v":14.4},null,{"$f":"D32-D30","v":7},null,"Termo",{"$f":"ROUND(((((1+H32/100)^(I32/252))/((1+H30/100)^(I30/252)))^(252/(J34))-1)*100,2)","v":14.51},null,{"$f":"I32-I30","v":4},null,"Termo",{"$f":"ROUND(((((1+M32/100)^(N32/252))/((1+M30/100)^(N30/252)))^(252/(O34))-1)*100,2)","v":15.97},null,{"$f":"N32-N30","v":8}]

{"sheet":"021015","index":8,"n_rows":35,"n_cols":21,"rows_kept":35,"cut":false,"hidden":false,"merged":[]}
["2015-10-02","VENCTO","CONTR. ABERT.(1)","CONTR. FECH.(2)","NÚM. NEGOC.","CONTR. NEGOC.","VOL.","AJUSTE ANTER. (3)","AJUSTE CORRIG. (4)","PREÇO ABERTU.","PREÇO MÍN.","PREÇO MÁX.","PREÇO MÉD.","ÚLT. PREÇO","AJUSTE","VAR. PTOS."]
["ODX5 ","X15",1060356,1124936,76,95570,9456585203,98944.76,99001.91,14.255000000000001,14.13,"14,270",14.234999999999999,14.2,99002,"5,24+","2015-11-02",{"$f":"NETWORKDAYS($A$1,Q2,Feriados)-1","v":19},{"$f":"((100000/O2)^(252/R2)-1)*100","v":14.228569584923022},{"$f":"'091015'!S2","v":14.097362731791584},{"$f":"'141015'!S2","v":14.13}]
["ODZ5 ","Z15",665740,689025,218,31100,3044408984,97882.13,97948.1,14.41,14.27,"14,410",14.372,14.27,97896.74,"14,61+","2015-12-01",40,{"$f":"((100000/O3)^(252/R3)-1)*100","v":14.329986402481797},{"$f":"'091015'!S3","v":14.199990646187533},{"$f":"'141015'!S3","v":14.189969913349486}]
["ODF6 ","F16",3487879,3493188,2722,302326,29238108221,96684.27,96765.92,14.62,14.4,"14,630",14.561999999999999,14.430999999999999,96715.18,"30,91+","2016-01-04",62,14.540019221889766,{"$f":"'091015'!S4","v":14.320006985598877},{"$f":"'141015'!S4","v":14.350014299459923}]
["ODG6 ","G16",114485,113920,24,1520,145376486,95592.26,95692.26,14.7,14.6,"14,700",14.673999999999999,14.6,95642.09,"49,83+","2016-02-01",82,14.675000037727148,{"$f":"'091015'!S5","v":14.479993013234438},{"$f":"'141015'!S5","v":14.539985763268071}]
["ODH6 ","H16",70015,70215,12,685,64814632,94549.57,94668.06,14.81,14.76,"14,810",14.795999999999999,14.76,94618.42,"68,85+","2016-03-01",101,14.799986945985344,{"$f":"'091015'!S6","v":14.639994948307432},{"$f":"'141015'!S6","v":14.659984128514303}]
["ODJ6 ","J16",1096753,1105600,304,41594,3884280016,93315.15,93442.86,15.154999999999999,14.945,"15,155",15.051,14.984999999999999,93393.87,"78,72+","2016-04-01",123,15.030005531501111,{"$f":"'091015'!S7","v":14.829993453561929},{"$f":"'141015'!S7","v":14.839999117512503}]
["ODK6 ","K16",52245,52265,4,320,29556851,92212.36,92368.28,15.21,15.005000000000001,"15,210",15.022,15.005000000000001,92319.85,"107,49+","2016-05-02",143,15.121993820601087,{"$f":"'091015'!S8","v":15.015006271105102},{"$f":"'141015'!S8","v":14.999988562853694}]
["ODM6 ","M16",52145,51110,13,2930,267094663,91041.45,91253,15.37,15.195,"15,370",15.285,15.195,91205.15,"163,70+","2016-06-01",164,15.195009089535926,{"$f":"'091015'!S9","v":15.149994602979454},{"$f":"'141015'!S9","v":15.164990028359782}]
["ODN6 ","N16",901521,902499,1190,32805,2952012252,89859.67,90095.5,15.525,15.21,"15,525",15.367000000000001,15.244999999999999,90048.26,"188,59+","2016-07-01",186,15.259993678264671,{"$f":"'091015'!S10","v":15.210008299880995},{"$f":"'141015'!S10","v":15.259998228202786}]
["ODV6 ","V16",375298,373528,104,16050,1390365862,86475.76,86757.35,15.59,15.37,"15,605",15.503,15.39,86711.86,"236,10+","2016-10-03",251,15.390006310224379,{"$f":"'091015'!S11","v":15.449998961605548},{"$f":"'141015'!S11","v":15.52499961206486}]
["ODF7 ","F17",1892891,1890349,11888,258010,21554045725,83365.259999999995,83700.98,15.74,15.4,"15,750",15.581,15.42,83657.09,"291,83+","2017-01-02",313,15.450003162498227,{"$f":"'091015'!S12","v":15.559995022529272},{"$f":"'141015'!S12","v":15.590004001967506}]
["ODJ17 ","J17",81079,81324,211,3785,305040622,80264.789999999994,80685.48,15.74,15.51,"15,790",15.558999999999999,15.51,80643.17,"378,38+","2017-04-03",376,15.510002484323371,{"$f":"'091015'!S13","v":15.689998371140446},{"$f":"'141015'!S13","v":15.75999632188978}]
["ODN17 ","N17",524309,526973,1191,26300,2044675385,77372.070000000007,77859.48,15.9,15.53,"15,900",15.624000000000001,15.54,77818.66,"446,59+","2017-07-03",437,15.56000210679076,{"$f":"'091015'!S14","v":15.789999642793884},{"$f":"'141015'!S14","v":15.869996284145671}]
["ODV17 ","V17",160420,160645,199,3740,280234955,74494.080000000002,75038.759999999995,15.81,15.55,"15,810",15.625,15.55,74999.42,"505,34+","2017-10-02",501,15.570003309028802,{"$f":"'091015'!S15","v":15.860003624681141},{"$f":"'141015'!S15","v":15.959999397042491}]
["ODF18 ","F18",959185,945786,12149,149895,10829997053,71871.23,72497.77,15.91,15.51,"15,910",15.69,15.51,72459.759999999995,"588,53+","2018-01-02",562,15.539997768756407,{"$f":"'091015'!S16","v":15.939997847545007},{"$f":"'141015'!S16","v":16.009996768351087}]
["ODJ18 ","J18",79145,79060,30,245,17085471,69333.320000000007,70023.149999999994,15.8,15.54,"15,800",15.696,15.54,69986.44,"653,12+","2018-04-02",623,15.528997718657145,{"$f":"'091015'!S17","v":15.950002140101581},{"$f":"'141015'!S17","v":16.052996688768918}]
["ODN18 ","N18",417659,416960,1350,16730,1124361594,66805.05,67555.539999999994,15.94,15.5,"15,940",15.718,15.5,67520.12,"715,07+","2018-07-02",686,15.520002554287027,{"$f":"'091015'!S18","v":15.980001316854997},{"$f":"'141015'!S18","v":16.090000279731377}]
["ODV18 ","V18",20564,20604,17,130,8437924,64420.73,65217.42,15.71,15.48,"15,740",15.63,15.48,65183.22,"762,49+","2018-10-01",750,15.465002070510048,{"$f":"'091015'!S19","v":15.970000663935791},{"$f":"'141015'!S19","v":16.090000184865904}]
["ODF19 ","F19",849806,854503,9760,108155,6781237884,62173.21,63029.57,15.82,15.41,"15,830",15.59,15.41,62996.52,"823,31+","2019-01-02",812,15.419999432492393,{"$f":"'091015'!S20","v":15.949998270622402},{"$f":"'141015'!S20","v":16.100000637556722}]
["ODJ19 ","J19",29733,29763,1,30,1825963,60041.43,60917.51,15.41,15.41,"15,410",15.41,15.41,60885.57,"844,14+","2019-04-01",873,15.398997428403005,{"$f":"'091015'!S21","v":15.938997965111067},{"$f":"'141015'!S21","v":16.094997833359326}]
["ODN19 ","N19",220473,221028,297,8050,471471413,57948.05,58844.21,15.73,15.38,"15,740",15.51,15.38,58813.36,"865,31+","2019-07-01",935,15.380000091059575,{"$f":"'091015'!S22","v":15.930000547927548},{"$f":"'141015'!S22","v":16.089997282351121}]
["ODV19 ","V19",22950,22970,1,20,1132230,55835.5,56775.93,15.4,15.4,"15,400",15.4,15.4,56746.16,"910,66+","2019-10-01",1001,15.331000993252397,{"$f":"'091015'!S23","v":15.821999469905546},{"$f":"'141015'!S23","v":16.046999660833407}]
["ODF20 ","F20",164040,167892,2612,22575,1230733677,53951.07,54838.37,15.69,15.26,"15,690",15.436,15.26,54809.62,"858,55+","2020-01-02",1065,15.289998234429358,{"$f":"'091015'!S24","v":15.730002416537747},{"$f":"'141015'!S24","v":16.009999783479124}]
["ODJ20 ","J20",13334,13339,2,30,1582194,52025.33,53005.37,15.38,15.38,"15,380",15.38,15.38,52977.58,"952,25+","2020-04-01",1127,15.264000411534617,{"$f":"'091015'!S25","v":15.707002134939273},{"$f":"'141015'!S25","v":15.989998436537679}]
["ODN20 ","N20",20815,21055,84,500,25421222,50199.18,51261.9,15.55,15.23,"15,550",15.429,15.24,51235.02,"1.035,84+","2020-07-01",1188,15.241000232073754,{"$f":"'091015'!S26","v":15.686997619881549},{"$f":"'141015'!S26","v":15.972001159343229}]
["ODV20 ","V20",12435,12435,0,0,0,48441.59,49467.08,0,0,"0,000",0,0,49441.14,"999,55+","2020-10-01",1253,15.219000999352295,{"$f":"'091015'!S27","v":15.667001842257866},{"$f":"'141015'!S27","v":15.955000957214027}]
["ODF21 ","F21",1109482,1113860,11164,149715,7099314779,46796.86,47786.95,15.45,15.19,"15,630",15.359,15.19,47761.89,"965,03+","2021-01-01",1315,15.212396371359427,{"$f":"'091015'!S28","v":15.662834751203047},{"$f":"'141015'!S28","v":15.953113073359715}]
["ODJ21 ","J21",690,690,0,0,0,45161.37,46184.44,0,0,"0,000",0,0,46160.22,"998,85+","2021-04-01",1377,15.19700130746353,{"$f":"'091015'!S29","v":15.652001353931787},{"$f":"'141015'!S29","v":15.937998635094598}]
["ODN21 ","N21",1575,1630,7,65,2875254,43556.43,44611.19,15.37,15.3,"15,440",15.355,15.3,44587.8,"1.031,37+","2021-07-01",1439,15.193998104082684,{"$f":"'091015'!S30","v":15.653000621773415},{"$f":"'141015'!S30","v":15.937001422949294}]
["ODV21 ","V21",460,460,0,0,0,41936.51,43019.59,0,0,"0,000",0,0,42997.03,"1.060,52+","2021-10-01",1504,15.19100205468753,{"$f":"'091015'!S31","v":15.655000792954986},{"$f":"'141015'!S31","v":15.935001615794707}]
["ODF22 ","F22",26678,26663,99,600,24745829,40422.269999999997,41531.919999999998,15.56,15.18,"15,560",15.308,15.18,41510.14,"1.087,87+","2022-01-03",1567,15.188000095581167,{"$f":"'091015'!S32","v":15.655997864743764},{"$f":"'141015'!S32","v":15.933998460449917}]
["ODF23 ","F23",271739,269659,1038,10120,361590575,35007.050000000003,36094.089999999997,15.58,15.18,"15,610",15.333,15.21,36075.160000000003,"1.068,11+","2023-01-02",1818,15.179999430641168,{"$f":"'091015'!S33","v":15.659999923263236},{"$f":"'141015'!S33","v":15.929998312054305}]
["ODF24","F24",34645,34500,96,3725,116301968,30367.040000000001,31278.33,15.58,15.22,"15,600",15.247999999999999,15.22,31261.93,"894,89+","2024-01-02",2067,15.230000697762481,{"$f":"'091015'!S34","v":15.660001989434292},{"$f":"'141015'!S34","v":15.940997984764561}]
["ODF25","F25",286067,282875,1408,22655,605227401,26267.82,27113.74,15.58,15.23,"15,620",15.409000000000001,15.23,27099.52,"831,70+","2025-01-02",2321,15.230000919316478,{"$f":"'091015'!S35","v":15.660000841019194},{"$f":"'141015'!S35","v":15.950001386328694}]

{"sheet":"091015","index":9,"n_rows":35,"n_cols":19,"rows_kept":35,"cut":false,"hidden":false,"merged":[[47,1,47,17]]}
["2015-10-09","VENCTO","CONTR. ABERT.(1)","CONTR. FECH.(2)","NÚM. NEGOC.","CONTR. NEGOC.","VOL.","AJUSTE ANTER. (3)","AJUSTE CORRIG. (4)","PREÇO ABERTU.","PREÇO MÍN.","PREÇO MÁX.","PREÇO MÉD.","ÚLT. PREÇO","AJUSTE","VAR. PTOS."]
["ODX5 ","X15",1233527,1263042,19,48045,4766746967,99214.77,99266.15,14.17,14.154999999999999,14.173999999999999,14.172000000000001,14.154999999999999,99270,"0,67-","2015-11-02",{"$f":"NETWORKDAYS($A$1,Q2,Feriados)-1","v":14},{"$f":"((100000/O2)^(252/R2)-1)*100","v":14.097362731791584}]
["ODZ5 ","Z15",719678,729113,5,12345,1211945644,98174.82,98224.22,14.2,14.19,14.2,14.198,14.2,98172.72,"2,10-","2015-12-01",35,{"$f":"((100000/O3)^(252/R3)-1)*100","v":14.199990646187533}]
["ODF6 ","F16",3512339,3618127,2258,209740,20348340969,97017.39,97069.119999999995,14.302,14.27,14.38,14.326000000000001,14.305,97018.22,"0,83+","2016-01-04",57,14.320006985598877]
["ODG6 ","G16",113485,113460,6,385,36941589,95984.76,96002.52,14.48,14.48,14.48,14.48,14.48,95952.18,"32,58-","2016-02-01",77,14.479993013234438]
["ODH6 ","H16",69025,69300,6,550,52210570,94953.74,94978.11,14.64,14.64,14.64,14.64,14.64,94928.31,"25,43-","2016-03-01",96,14.639994948307432]
["ODJ6 ","J16",1077872,1074190,799,71180,6672570712,93748.97,93779.22,14.74,14.734999999999999,14.87,14.798,14.82,93730.05,"18,92-","2016-04-01",118,14.829993453561929]
["ODK6 ","K16",48480,48800,8,820,75952754,92671.37,92673.9,15.015000000000001,15.015000000000001,15.015000000000001,15.015000000000001,15.015000000000001,92625.31,"46,06-","2016-05-02",138,15.015006271105102]
["ODM6 ","M16",51905,51810,4,545,49858807,91541.4,91532.04,15.15,15.15,15.15,15.15,15.15,91484.05,"57,35-","2016-06-01",159,15.149994602979454]
["ODN6 ","N16",890131,904531,1224,35395,3198017517,90406.48,90377.89,15.015000000000001,14.95,15.33,15.170999999999999,15.225,90330.5,"75,98-","2016-07-01",181,15.210008299880995]
["ODV6 ","V16",382367,382024,156,18725,1629503127,87084.160000000003,86959.98,15.13,15.125,15.46,15.303000000000001,15.445,86914.38,"169,78-","2016-10-03",246,15.449998961605548]
["ODF7 ","F17",1886997,1877142,10387,218230,18323048959,84088.51,83842.27,15.18,15.12,15.62,15.375999999999999,15.56,83798.31,"290,20-","2017-01-02",308,15.559995022529272]
["ODJ17 ","J17",80735,79495,33,2115,170893126,81067.12,80731.360000000001,15.26,15.26,15.69,15.582000000000001,15.69,80689.03,"378,09-","2017-04-03",371,15.689998371140446]
["ODN17 ","N17",529705,529025,786,7920,617156984,78201.14,77817.52,15.34,15.34,15.8,15.662000000000001,15.75,77776.72,"424,42-","2017-07-03",432,15.789999642793884]
["ODV17 ","V17",161652,162382,127,6215,466379510,75339.839999999997,74884.22,15.39,15.39,15.86,15.706,15.86,74844.960000000006,"494,88-","2017-10-02",496,15.860003624681141]
["ODF18 ","F18",968783,961570,7289,93755,6800231104,72733.86,72152.570000000007,15.42,15.38,15.94,15.638,15.86,72114.740000000005,"619,12-","2018-01-02",557,15.939997847545007]
["ODJ18 ","J18",79480,79525,12,360,25050099,70227.070000000007,69600.34,15.41,15.41,15.95,15.936999999999999,15.95,69563.850000000006,"663,22-","2018-04-02",618,15.950002140101581]
["ODN18 ","N18",417605,417735,403,3555,239207316,67694.559999999998,67025.5,15.45,15.44,15.99,15.79,15.87,66990.36,"704,20-","2018-07-02",681,15.980001316854997]
["ODV18 ","V18",24569,24624,16,350,22640414,65286.07,64565.35,15.42,15.42,15.97,15.875999999999999,15.97,64531.5,"754,57-","2018-10-01",745,15.970000663935791]
["ODF19 ","F19",875425,871386,5379,53875,3379855059,63033.01,62288.57,15.4,15.39,15.97,15.673,15.85,62255.91,"777,10-","2019-01-02",807,15.949998270622402]
["ODJ19 ","J19",30973,31028,3,55,3331863,60901.32,60116.36,15.52,15.52,15.74,15.663,15.74,60084.84,"816,48-","2019-04-01",868,15.938997965111067]
["ODN19 ","N19",228108,228258,86,1695,98575371,58808.33,57984.85,15.51,15.51,15.93,15.821,15.85,57954.45,"853,88-","2019-07-01",930,15.930000547927548]
["ODV19 ","V19",24890,24915,2,35,1964106,56707.89,55988.81,15.49,15.49,15.84,15.739000000000001,15.84,55959.45,"748,44-","2019-10-01",996,15.821999469905546]
["ODF20 ","F20",178623,178188,995,6780,368838764,54742.11,54119.27,15.33,15.29,15.89,15.573,15.72,54090.89,"651,22-","2020-01-02",1060,15.730002416537747]
["ODJ20 ","J20",13944,13944,1,10,527674,52893.55,52254.84,15.44,15.44,15.44,15.44,15.44,52227.44,"666,11-","2020-04-01",1122,15.707002134939273]
["ODN20 ","N20",22800,22800,4,20,1020129,51135.16,50482.63,15.4,15.4,15.46,15.42,15.46,50456.160000000003,"679,00-","2020-07-01",1183,15.686997619881549]
["ODV20 ","V20",15150,15150,0,0,0,49327.54,48662.04,0,0,0,0,0,48636.53,"691,01-","2020-10-01",1248,15.667001842257866]
["ODF21 ","F21",1104782,1100195,8813,101955,4820991166,47635.49,46959.14,15.25,15.2,15.79,15.484999999999999,15.6,46934.52,"700,97-","2021-01-01",1310,15.662834751203047]
["ODJ21 ","J21",690,690,0,0,0,46019.91,45330.86,0,0,0,0,0,45307.09,"712,82-","2021-04-01",1372,15.652001353931787]
["ODN21 ","N21",1680,1690,4,25,1108705,44433.99,43735.58,15.36,15.36,15.36,15.36,15.36,43712.65,"721,34-","2021-07-01",1434,15.653000621773415]
["ODV21 ","V21",460,460,0,0,0,42829.98,42121.11,0,0,0,0,0,42099.02,"730,96-","2021-10-01",1499,15.655000792954986]
["ODF22 ","F22",26213,26208,31,180,7422540,41330.589999999997,40614.910000000003,15.23,15.23,15.44,15.363,15.41,40593.61,"736,98-","2022-01-03",1562,15.655997864743764]
["ODF23 ","F23",240728,238792,804,7860,279615677,35860.19,35128.519999999997,15.26,15.23,15.77,15.449,15.62,35110.1,"750,09-","2023-01-02",1813,15.659999923263236]
["ODF24","F24",34330,34355,44,230,7109172,31087.22,30424.87,15.27,15.26,15.67,15.429,15.67,30408.92,"678,30-","2024-01-02",2062,15.660001989434292]
["ODF25","F25",274731,273306,996,11785,311820065,26873.119999999999,26275.09,15.24,15.24,15.82,15.566000000000001,15.6,26261.31,"611,81-","2025-01-02",2316,15.660000841019194]

{"sheet":"141015","index":10,"n_rows":35,"n_cols":19,"rows_kept":35,"cut":false,"hidden":false,"merged":[]}
["2015-10-14","VENCTO","CONTR. ABERT.(1)","CONTR. FECH.(2)","NÚM. NEGOC.","CONTR. NEGOC.","VOL.","AJUSTE ANTER. (3)","AJUSTE CORRIG. (4)","PREÇO ABERTU.","PREÇO MÍN.","PREÇO MÁX.","PREÇO MÉD.","ÚLT. PREÇO","AJUSTE","VAR. PTOS."]
["ODX5 ","X15",1268216,1296761,27,37355,3710070837,"99.319,49","99.371,34","14,155","14,151","14,161","14,158","14,151","99.319,24","0,25-","2015-11-02",{"$f":"NETWORKDAYS($A$1,Q2,Feriados)-1","v":12},14.13]
["ODZ5 ","Z15",750206,755081,29,12250,1203885926,"98.275,99","98.328,92","14,205","14,185","14,205","14,198","14,185","98.277,36","1,37+","2015-12-01",33,{"$f":"((100000/O3)^(252/R3)-1)*100","v":14.189969913349486}]
["ODF6 ","F16",3647128,3693218,725,126110,12247272207,"97.111,25","97.166,71","14,350","14,330","14,400","14,350","14,341","97.115,76","4,51+","2016-01-04",55,14.350014299459923]
["ODG6 ","G16",113345,115545,13,3825,367361403,"96.029,26","96.090,62","14,520","14,520","14,540","14,532","14,540","96.040,24","10,98+","2016-02-01",75,14.539985763268071]
["ODH6 ","H16",69088,68903,94,4075,387235835,"95.012,44","95.074,97","14,670","14,630","14,670","14,653","14,630","95.025,12","12,68+","2016-03-01",94,14.659984128514303]
["ODJ6 ","J16",1064194,1063411,355,33965,3186454575,"93.800,36","93.878,43","14,910","14,805","14,950","14,876","14,830","93.829,21","28,85+","2016-04-01",116,14.839999117512503]
["ODK6 ","K16",46025,44050,86,8790,815041003,"92.705,65","92.783,39","15,050","14,990","15,050","15,025","14,990","92.734,74","29,09+","2016-05-02",136,14.999988562853694]
["ODM6 ","M16",52110,52505,5,905,82879085,"91.538,45","91.627,14","15,165","15,165","15,165","15,165","15,165","91.579,10","40,65+","2016-06-01",157,15.164990028359782]
["ODN6 ","N16",905809,913231,1405,41720,3770084348,"90.339,09","90.451,63","15,390","15,185","15,400","15,328","15,195","90.404,20","65,11+","2016-07-01",179,15.259998228202786]
["ODV6 ","V16",384819,388074,109,9335,811719616,"86.870,58","87.004,46","15,650","15,475","15,650","15,531","15,475","86.958,84","88,26+","2016-10-03",244,15.52499961206486]
["ODF7 ","F17",1914929,1953964,10688,251486,21070624215,"83.678,63","83.912,10","15,850","15,500","15,850","15,685","15,520","83.868,10","189,47+","2017-01-02",306,15.590004001967506]
["ODJ17 ","J17",79535,79675,16,865,69766881,"80.512,25","80.753,24","15,910","15,720","15,910","15,814","15,720","80.710,90","198,65+","2017-04-03",369,15.75999632188978]
["ODN17 ","N17",529590,531250,1081,27430,2130100019,"77.507,57","77.816,36","16,090","15,860","16,120","15,975","15,860","77.775,56","267,99+","2017-07-03",430,15.869996284145671]
["ODV17 ","V17",163002,163177,128,9400,701503423,"74.497,95","74.845,08","16,180","15,900","16,200","16,101","15,900","74.805,84","307,89+","2017-10-02",494,15.959999397042491]
["ODF18 ","F18",953958,957643,9760,108017,7770690294,"71.920,91","72.141,36","16,190","15,940","16,240","16,130","15,950","72.103,53","182,62+","2018-01-02",555,16.009996768351087]
["ODJ18 ","J18",79590,80155,26,1345,93296951,"69.323,15","69.531,07","16,180","16,000","16,240","16,141","16,000","69.494,61","171,46+","2018-04-02",616,16.052996688768918]
["ODN18 ","N18",417505,418255,223,4220,281677412,"66.738,37","66.933,22","16,290","16,080","16,310","16,187","16,080","66.898,13","159,76+","2018-07-02",679,16.090000279731377]
["ODV18 ","V18",24674,25704,84,3240,208507949,"64.177,60","64.444,51","16,160","16,090","16,250","16,125","16,090","64.410,72","233,12+","2018-10-01",743,16.090000184865904]
["ODF19 ","F19",879892,889445,6640,92660,5739078521,"61.999,63","62.104,75","16,190","16,030","16,280","16,179","16,030","62.072,19","72,56+","2019-01-02",805,16.100000637556722]
["ODJ19 ","J19",31668,33563,88,2120,126601503,"59.776,53","59.909,49","16,220","16,090","16,250","16,186","16,090","59.878,08","101,55+","2019-04-01",866,16.094997833359326]
["ODN19 ","N19",238633,246358,475,23155,1332705588,"57.687,99","57.758,82","16,170","16,090","16,250","16,184","16,100","57.728,54","40,55+","2019-07-01",928,16.089997282351121]
["ODV19 ","V19",25115,24845,111,1165,64608434,"55.576,78","55.626,65","16,130","16,050","16,200","16,121","16,050","55.597,48","20,70+","2019-10-01",994,16.046999660833407]
["ODF20 ","F20",186283,185795,2382,22775,1217357874,"53.603,54","53.635,13","16,110","15,950","16,190","16,090","15,950","53.607,01","3,47+","2020-01-02",1058,16.009999783479124]
["ODJ20 ","J20",13949,14929,4,1280,65909456,"51.720,01","51.750,46","16,110","15,990","16,130","16,107","15,990","51.723,33","3,32+","2020-04-01",1120,15.989998436537679]
["ODN20 ","N20",23300,23706,8,1975,98426028,"49.932,22","49.961,59","16,030","15,960","16,080","16,021","15,960","49.935,39","3,17+","2020-07-01",1181,15.972001159343229]
["ODV20 ","V20",15155,15055,4,1070,51223762,"48.094,67","48.122,92","16,060","15,990","16,080","16,065","15,990","48.097,69","3,02+","2020-10-01",1246,15.955000957214027]
["ODF21 ","F21",1092318,1069083,9353,124033,5736597078,"46.378,49","46.405,71","15,940","15,850","16,100","16,003","15,860","46.381,38","2,89+","2021-01-01",1308,15.953113073359715]
["ODJ21 ","J21",690,690,0,0,0,"44.760,03","44.777,90","0,000","0,000","0,000","0,000","0,000","44.754,42","5,61-","2021-04-01",1370,15.937998635094598]
["ODN21 ","N21",1690,1690,0,0,0,"43.173,80","43.180,07","0,000","0,000","0,000","0,000","0,000","43.157,43","16,37-","2021-07-01",1432,15.937001422949294]
["ODV21 ","V21",460,460,0,0,0,"41.571,66","41.568,34","0,000","0,000","0,000","0,000","0,000","41.546,54","25,12-","2021-10-01",1497,15.935001615794707]
["ODF22 ","F22",26213,26208,40,205,8183799,"40.074,85","40.061,97","15,960","15,880","16,030","15,990","15,910","40.040,96","33,89-","2022-01-03",1560,15.933998460449917]
["ODF23 ","F23",241497,239872,1148,16080,553663564,"34.628,80","34.584,69","15,970","15,870","16,080","15,993","15,870","34.566,56","62,24-","2023-01-02",1811,15.929998312054305]
["ODF24","F24",34420,34455,26,135,4011160,"29.884,27","29.861,77","16,000","15,880","16,080","16,005","15,880","29.846,11","38,16-","2024-01-02",2060,15.940997984764561]
["ODF25","F25",274161,269824,968,17924,457052241,"25.712,72","25.707,45","16,060","15,900","16,110","16,046","15,900","25.693,97","18,75-","2025-01-02",2314,15.950001386328694]

{"sheet":"161015","index":11,"n_rows":47,"n_cols":19,"rows_kept":47,"cut":false,"hidden":false,"merged":[]}
["2015-10-16","VENCTO","CONTR. ABERT.(1)","CONTR. FECH.(2)","NÚM. NEGOC.","CONTR. NEGOC.","VOL.","AJUSTE ANTER. (3)","AJUSTE CORRIG. (4)","PREÇO ABERTU.","PREÇO MÍN.","PREÇO MÁX.","PREÇO MÉD.","ÚLT. PREÇO","AJUSTE","VAR. PTOS."]
["ODX5 ","X15",1328201,1334295,16,11640,1157294244,"99.423,86","99.476,06",14.169,14.145,14.169,14.151999999999999,14.15,99423.9,"0,04+","2015-11-02",{"$f":"NETWORKDAYS($A$1,Q2,Feriados)-1","v":10},14.13]
["ODZ5 ","Z15",770361,774376,36,22675,2230803967,"98.382,89","98.434,11",14.18,14.175000000000001,14.2,14.183,14.2,98382.5,"0,39-","2015-12-01",31,{"$f":"((100000/O3)^(252/R3)-1)*100","v":14.174992411634801}]
["ODF6 ","F16",3708380,3749853,1352,146175,14212003219,"97.230,27","97.276,61",14.301,14.281000000000001,14.379,14.311999999999999,14.35,97225.61,"4,66-","2016-01-04",53,14.314000738768762]
["ODG6 ","G16",114965,115430,36,3810,366396234,"96.179,40","96.220,98",14.455,14.39,14.46,14.445,14.45,96170.53,"8,87-","2016-02-01",73,14.430003841500593]
["ODH6 ","H16",69113,69149,3,40,3806467,"95.169,49","95.209,18",14.55,14.55,14.55,14.55,14.55,95159.26,"10,23-","2016-03-01",92,14.557985516646511]
["ODJ6 ","J16",1068722,1070457,238,30361,2853236942,"93.982,30","94.024,19",14.7,14.69,14.84,14.718999999999999,14.84,93974.89,"7,41-","2016-04-01",114,14.725000634407049]
["ODK6 ","K16",44465,45080,11,715,66428083,"92.917,13","92.955,15",14.84,14.84,14.84,14.84,14.84,92906.41,"10,72-","2016-05-02",134,14.840004552489884]
["ODM6 ","M16",53625,54035,10,1510,138554217,"91.777,19","91.805,90",15.01,15.01,15.01,15.01,15.01,91757.759999999995,"19,43-","2016-06-01",155,15.009991652656684]
["ODN6 ","N16",903028,889398,887,46675,4228375046,"90.605,37","90.642,03",15.12,15.03,15.27,15.105,15.26,90594.5,"10,87-","2016-07-01",177,15.100008905189988]
["ODV6 ","Q16",14055,13865,2,210,18793844,"89.499,16","89.537,69",15.17,15.17,15.23,15.173,15.23,89490.74,"8,42-","2016-10-03",242,12.25728677492588]
["ODF7 ","U16",6895,11010,25,4610,407118676,"88.303,55","88.343,84",15.22,15.16,15.3,15.226000000000001,15.3,88297.52,"6,03-","2017-01-02",304,10.867905733020432]
["ODJ17 ","V16",390889,397887,594,18270,1593606986,"87.225,40","87.267,40",15.295,15.22,15.35,15.295,15.35,87221.64,"3,76-","2017-04-03",367,9.842465119857291]
["ODN17 ","X16",13755,13770,1,15,1292692,"86.222,57","86.263,57",15.38,15.38,15.38,15.38,15.38,86218.34,"4,23-","2017-07-03",428,9.1234175879038926]
["ODV17 ","Z16",15635,15645,1,10,851900,"85.231,07","85.271,10",15.4,15.4,15.4,15.4,15.4,85226.39,"4,68-","2017-10-02",492,8.5324510047213753]
["ODF18 ","F17",1954204,1971730,9800,307873,25900470723,"84.154,17","84.193,12",15.42,15.29,15.65,15.404999999999999,15.56,84148.98,"5,19-","2018-01-02",553,8.181986426199007]
["ODJ18 ","G17",5550,5560,1,10,830300,"83.055,18","83.096,90",15.46,15.46,15.46,15.46,15.46,83053.33,"1,85-","2018-04-02",614,7.9189616178230615]
["ODN18 ","H17",5100,5115,1,15,1232290,"82.166,39","82.210,39",15.49,15.49,15.49,15.49,15.49,82167.289999999994,"0,90+","2018-07-02",677,7.5849794751830402]
["ODV18 ","J17",79465,84115,109,6745,546641506,"81.045,40","81.091,82",15.41,15.41,15.55,15.525,15.55,81049.3,"3,90+","2018-10-01",741,7.4070126330249675]
["ODF19 ","N17",529526,529820,585,9650,753798145,"78.148,69","78.182,22",15.68,15.54,15.86,15.654,15.86,78141.23,"7,46-","2019-01-02",803,8.0479822322003116]
["ODJ19 ","V17",167797,165336,108,10935,821341987,"75.218,66","75.211,43",15.69,15.69,16.07,15.788,16,75171.990000000005,"46,67-","2019-04-01",864,8.680172616004489]
["ODN19 ","F18",974493,971953,8311,140971,10221922705,"72.609,74","72.541,66",15.81,15.63,16.13,15.775,16.05,72503.62,"106,12-","2019-07-01",926,9.1444021800251907]
["ODV19 ","J18",80985,81000,40,405,28313100,"70.011,55","69.969,70",15.83,15.67,15.89,15.826000000000001,15.89,69933.009999999995,"78,54-","2019-10-01",992,9.5104909757210532]
["ODF20 ","N18",418070,418245,497,4725,317987977,"67.425,07","67.370,51",15.9,15.75,16.260000000000002,15.882999999999999,16.260000000000002,67335.19,"89,88-","2020-01-02",1056,9.8974671262246119]
["ODJ20 ","V18",25784,25804,7,85,5500473,"64.913,10","64.852,12",15.93,15.92,15.98,15.952999999999999,15.98,64818.12,"94,98-","2020-04-01",1118,10.266628583343707]
["ODN20 ","F19",906090,896630,7125,90927,5672787074,"62.570,41","62.503,74",15.92,15.76,16.309999999999999,15.958,16.18,62470.97,"99,44-","2020-07-01",1179,10.578787750567574]
["ODV20 ","J19",33593,33063,21,180,10810326,"60.361,57","60.328,98",15.96,15.85,16.29,16.033999999999999,16.29,60297.35,"64,22-","2020-10-01",1244,10.791260658183299]
["ODF21 ","N19",249653,248588,333,3055,177572895,"58.197,70","58.194,81",15.91,15.84,16.23,15.911,16.23,58164.3,"33,40-","2021-01-01",1306,11.022459136508767]
["ODJ21 ","V19",24560,24350,9,90,5033904,"56.067,72","56.028,04",15.82,15.82,15.99,15.904999999999999,15.99,55998.66,"69,06-","2021-04-01",1368,11.272624216408001]
["ODN21 ","F20",186129,186093,1345,8540,460568701,"54.076,15","54.009,85",15.9,15.73,16.27,15.875999999999999,16.059999999999999,53981.53,"94,62-","2021-07-01",1430,11.476869361055876]
["ODV21 ","J20",15229,15229,0,0,0,"52.211,30","52.141,67",0,0,0,0,0,52114.33,"96,97-","2021-10-01",1495,11.611830645140708]
["ODF22 ","N20",24556,24536,17,90,4533883,"50.439,48","50.366,90",15.8,15.73,15.84,15.782999999999999,15.84,50340.49,"98,99-","2022-01-03",1558,11.741271973045597]
["ODF23 ","V20",15055,15065,3,15,725656,"48.617,55","48.542,12",15.81,15.81,15.92,15.847,15.92,48516.67,"100,88-","2023-01-02",1809,10.600344499255288]
["ODF24","F21",1065356,1037835,10742,147780,6908870996,"46.914,02","46.836,13",15.83,15.64,16.2,15.789,16.03,46811.57,"102,45-","2024-01-02",2058,9.7399892765788643]
["ODF25","J21",690,690,0,0,0,"45.281,63","45.205,97",0,0,0,0,0,45182.27,"99,36-","2025-01-02",2312,9.0453847193123096]
[null,"N21",1695,1710,2,15,654621,"43.682,52","43.607,22",15.75,15.7,15.75,15.733000000000001,15.7,43584.36,"98,16-"]
[null,"V21",460,460,0,0,0,"42.064,39","41.991,79",0,0,0,0,0,41969.77,"94,62-"]
[null,"F22",25518,25428,143,860,34688385,"40.554,95","40.483,19",15.81,15.66,16.14,15.819000000000001,16.04,40461.96,"92,99-"]
[null,"N22",505,505,0,0,0,"37.739,86","37.670,37",0,0,0,0,0,37650.620000000003,"89,24-"]
[null,"F23",242112,243865,1093,6995,244121933,"35.058,57","34.991,97",15.86,15.66,16.18,15.794,16.04,34973.620000000003,"84,95-"]
[null,"N23",815,815,0,0,0,"32.608,75","32.534,81",0,0,0,0,0,32517.75,"91,00-"]
[null,"F24",34475,34310,71,430,12964133,"30.312,33","30.233,78",15.81,15.64,16.13,15.814,16.13,30217.93,"94,40-"]
[null,"N24",0,0,0,0,0,"28.194,18","28.111,55",0,0,0,0,0,28096.81,"97,37-"]
[null,"F25",270064,272686,2417,28200,734367049,"26.133,39","26.045,16",15.88,15.67,16.170000000000002,15.795,16.059999999999999,26031.5,"101,89-"]
[null,"F26",9800,9800,0,0,0,"22.524,68","22.438,94",0,0,0,0,0,22427.17,"97,51-"]
[null,"F29",10,10,0,0,0,"14.517,91","14.444,10",0,0,0,0,0,14436.53,"81,38-"]
[null,"F30",200,200,0,0,0,"12.551,66","12.482,50",0,0,0,0,0,12475.96,"75,70-"]

{"sheet":"Feriado","index":12,"n_rows":62,"n_cols":12,"rows_kept":62,"cut":false,"hidden":false,"merged":[]}
[39814,39867,39868,39913,39924,39934,39975,40063,40098,40119,40132,40172]
[40179,40224,40225,40270,40289,40299,40332,40428,40463,40484,40497,40537]
[40544,40609,40610,40654,40655,40664,40717,40793,40828,40849,40862,40902]
[40909,40959,40960,41005,41020,41030,41067,41159,41194,41215,41228,41268]
[41275,41316,41317,41362,41385,41395,41424,41524,41559,41580,41593,41633]
[41640,41701,41702,41747,41750,41760,41809,41889,41924,41945,41958,41998]
[42005,42051,42052,42097,42115,42125,42159,42254,42289,42310,42323,42363]
[42370,42408,42409,42454,42481,42491,42516,42620,42655,42676,42689,42729]
[42736,42793,42794,42839,42846,42856,42901,42985,43020,43041,43054,43094]
[43101,43143,43144,43189,43211,43221,43251,43350,43385,43406,43419,43459]
[43466,43528,43529,43574,43576,43586,43636,43715,43750,43771,43784,43824]
[43831,43885,43886,43931,43942,43952,43993,44081,44116,44137,44150,44190]
[44197,44242,44243,44288,44307,44317,44350,44446,44481,44502,44515,44555]
[44562,44620,44621,44666,44672,44682,44728,44811,44846,44867,44880,44920]
[44927,44977,44978,45023,45037,45047,45085,45176,45211,45232,45245,45285]
[45292,45334,45335,45380,45403,45413,45442,45542,45577,45598,45611,45651]
[45658,45719,45720,45765,45768,45778,45827,45907,45942,45963,45976,46016]
[46023,46069,46070,46115,46133,46143,46177,46272,46307,46328,46341,46381]
[46388,46426,46427,46472,46498,46508,46534,46637,46672,46693,46706,46746]
[46753,46811,46812,46857,46864,46874,46919,47003,47038,47059,47072,47112]
[47119,47161,47162,47207,47229,47239,47269,47368,47403,47424,47437,47477]
[47484,47546,47547,47592,47594,47604,47654,47733,47768,47789,47802,47842]
[47849,47903,47904,47949,47959,47969,48011,48098,48133,48154,48167,48207]
[48214,48253,48254,48299,48325,48335,48361,48464,48499,48520,48533,48573]
[48580,48638,48639,48684,48690,48700,48746,48829,48864,48885,48898,48938]
[48945,48995,48996,49041,49055,49065,49103,49194,49229,49250,49263,49303]
[49310,49345,49346,49391,49420,49430,49453,49559,49594,49615,49628,49668]
[49675,49730,49731,49776,49786,49796,49838,49925,49960,49981,49994,50034]
[50041,50087,50088,50133,50151,50161,50195,50290,50325,50346,50359,50399]
[50406,50472,50473,50516,50518,50526,50580,50655,50690,50711,50724,50764]
[50771,50822,50823,50868,50881,50891,50930,51020,51055,51076,51089,51129]
[51136,51179,51180,51225,51247,51257,51287,51386,51421,51442,51455,51495]
[51502,51564,51565,51610,51612,51622,51672,51751,51786,51807,51820,51860]
[51867,51914,51915,51960,51977,51987,52022,52116,52151,52172,52185,52225]
[52232,52271,52272,52317,52342,52352,52379,52481,52516,52537,52550,52590]
[52597,52656,52657,52702,52708,52718,52764,52847,52882,52903,52916,52956]
[52963,53013,53014,53059,53073,53083,53121,53212,53247,53268,53281,53321]
[53328,53363,53364,53409,53438,53448,53471,53577,53612,53633,53646,53686]
[53693,53748,53749,53794,53803,53813,53856,53942,53977,53998,54011,54051]
[54058,54105,54106,54151,54169,54179,54213,54308,54343,54364,54377,54417]
[54424,54483,54484,54529,54534,54544,54591,54673,54708,54729,54742,54782]
[54789,54840,54841,54886,54899,54909,54948,55038,55073,55094,55107,55147]
[55154,55197,55198,55243,55264,55274,55305,55403,55438,55459,55472,55512]
[55519,55582,55583,55628,55630,55640,55690,55769,55804,55825,55838,55878]
[55885,55932,55933,55978,55995,56005,56040,56134,56169,56190,56203,56243]
[56250,56289,56290,56335,56360,56370,56397,56499,56534,56555,56568,56608]
[56615,56674,56675,56720,56725,56735,56782,56864,56899,56920,56933,56973]
[56980,57024,57025,57070,57091,57101,57132,57230,57265,57286,57299,57339]
[57346,57409,57410,57455,57456,57466,57517,57595,57630,57651,57664,57704]
[57711,57766,57767,57812,57821,57831,57874,57960,57995,58016,58029,58069]
[58076,58116,58117,58162,58186,58196,58224,58325,58360,58381,58394,58434]
[58441,58501,58502,58547,58552,58562,58609,58691,58726,58747,58760,58800]
[58807,58858,58859,58904,58917,58927,58966,59056,59091,59112,59125,59165]
[59172,59208,59209,59254,59282,59292,59316,59421,59456,59477,59490,59530]
[59537,59593,59594,59639,59647,59657,59701,59786,59821,59842,59855,59895]
[59902,59950,59951,59996,60013,60023,60058,60152,60187,60208,60221,60261]
[60268,60307,60308,60353,60378,60388,60415,60517,60552,60573,60586,60626]
[60633,60685,60686,60731,60743,60753,60793,60882,60917,60938,60951,60991]
[60998,61042,61043,61088,61108,61118,61150,61247,61282,61303,61316,61356]
[61363,61427,61428,61473,61474,61484,61535,61613,61648,61669,61682,61722]
[61729,61784,61785,61830,61839,61849,61892,61978,62013,62034,62047,62087]
[62094,62134,62135,62180,62204,62214,62242,62343,62378,62399,62412,62452]

{"sheet":"Curva CC","index":13,"n_rows":50,"n_cols":18,"rows_kept":50,"cut":false,"hidden":false,"merged":[[22,0,22,1]]}
["Liq.","2014-04-16",null,"DÓLAR",null,null,"CUPOM",null,null,"JUROS",null,null,"Título de Renda Fixa "]
["Venc","2014-12-01",null,"Spot",{"$f":"(E4-E3)/1000","v":2.246},null,"C. Curto",{"$f":"C27","v":0.33539756640399432},null,"DI-Curto",{"$f":"C35","v":10.93},null,"COTAÇÂO",{"$f":"100/(1+N3/100)^((N4)/360)","v":99.309378116955799}]
[null,null,null,"Casado",8,null,"FRA",{"$f":"Cubic_Spline(E36:E50,F36:F50,B6)","v":1.1499999761581421},null,"DI-Longo",{"$f":"Cubic_Spline(B35:B50,C35:C50,B5)","v":11.100000381469727},null,"TIR",{"$f":"((1+H4*B4/36000)^(360/N4)-1)*100","v":1.11499862727098}]
["DC",{"$f":"B2-$B$1","v":229},null,"1º Futuro",2254,null,"LINEAR",{"$f":"(F29-1)*36000/B4","v":1.0932439720444911},null,"Prêmio",100,null,"Dias 30/360",{"$f":"DAYS360($B$1,B2)","v":225}]
["DU",159,null,"US$ VENC",{"$f":"(1+K3/100)^(B5/252)*E2/F27","v":2.3836550648485817},null,null,null,null,"Taxa pré",{"$f":"((((((1+K3/100)^(1/252)-1)*K4/100)+1)^252)-1)*100","v":11.100000381468389}]
["DC FRA",{"$f":"B4-E35","v":213}]
[null,null,null,"Var. Cambial",{"$f":"(E5/$E$2-1)*36000/B4","v":9.6349499246577892}]
[]
["PRÉ",null,null,null,null,"DU"]
[null,null,null,null,null,{"$f":"B5","v":159}]
[null,null,"DI CURTO",null,null,null,null,null,null,null,"DI LONGO"]
[null,null,{"$f":"K2","v":10.93},null,null,null,null,null,null,null,{"$f":"K5","v":11.100000381468389}]
[null,null,{"$f":"B35","v":9},null,null,null,null,null,null,null,{"$f":"F10-C13","v":150}]
[]
[]
["CÂMBIO",null,null,null,null,"DC"]
[null,null,null,null,null,{"$f":"B4","v":229}]
["SPOT",null,"DÓLAR CURTO",null,null,null,null,null,null,null,"DÓLAR LONGO"]
[{"$f":"E2","v":2.246},null,{"$f":"E4/1000","v":2.254},null,null,null,null,null,null,null,{"$f":"E5","v":2.3836550648485817}]
[null,null,{"$f":"E35","v":16},null,null,null,null,null,null,null,{"$f":"F17-C20","v":213}]
[]
[]
["CUPOM CAMBIAL"]
[]
[null,null,"CUPOM CURTO",null,null,null,null,null,null,null,"FRA"]
[null,null,{"$f":"IF(C13=0,1,((1+C12/100)^(C13/252))*E2/C19)","v":1.0001490655850684},null,null,"CURVA",null,null,null,null,{"$f":"(K27/36000*K20)+1","v":1.0068041665256025}]
[null,null,{"$f":"IF(C20=0,0,(C26-1)*36000/C20)","v":0.33539756640399432},null,null,{"$f":"C26*K26","v":1.006954246377735},null,null,null,null,{"$f":"H3","v":1.1499999761581421}]
[null,null,null,null,null,"CC + PRÊMIO"]
[null,null,null,null,null,{"$f":"((((((1+K3/100)^(1/252)-1)*K4/100)+1)^(F10)))*A19/K19","v":1.0069542463777275}]
[]
[]
[]
[null,null,null,null,null,null,null,"fator FRA","fator DI","fator TERMO","VAR. CAMB. FRA","DC","DOLAR","NDF",null,"fator CC","DC","Cupom Cambial"]
["Data","DU","Taxa",null,"DC","Taxa",null,null,null,null,null,{"$f":"1","v":1},{"$f":"E2","v":2.246},2.2429999999999999]
["2014-05-02",9,10.93,null,{"$f":"A35-B1","v":16},null,null,null,{"$f":"(1+C35/100)^(B35/252)","v":1.0037114843404917},null,null,{"$f":"E35","v":16},{"$f":"E4/1000","v":2.254},2.2490000000000001,null,null,{"$f":"L35","v":16},{"$f":"C27","v":0.33539756640399432}]
["2014-06-02",30,10.91,null,{"$f":"A36-$A$35","v":31},0.64,null,{"$f":"1+F36*E36/36000","v":1.0005511111111112},{"$f":"(1+C36/100)^(B36/252)","v":1.0124035407838794},{"$f":"I36/$I$35","v":1.0086599153033493},{"$f":"J36/H36","v":1.0081043378016274},{"$f":"E36+$L$35","v":47},{"$f":"K36*$E$4/1000","v":2.2722671774048679},2.2669999999999999,null,{"$f":"H36*$C$26","v":1.0007002588478797},47,{"$f":"(P36-1)*36000/Q36","v":0.53636847922701958}]
["2014-07-01",50,10.95,null,60,0.73,null,{"$f":"1+F37*E37/36000","v":1.0012166666666666},{"$f":"(1+C37/100)^(B37/252)","v":1.0208309546098624},1.0170561665742217,{"$f":"J37/H37","v":1.0158202519343682},76,2.2896588478600659,2.2839999999999998,null,1.0013659136148636,76,0.64701171230381094]
["2014-08-01",73,11.01,null,91,0.85,null,1.0021486111111111,1.0307197768185754,1.0269084222901266,1.0247067260329419,107,2.3096889604782511,2.3039999999999998,null,1.002297996980152,107,0.77315786248104135]
["2014-09-01",94,11.02,null,122,1,null,1.0033888888888889,1.0397654368630063,1.0359206336532101,1.0324218706471282,138,2.3270788964386271,2.3220000000000001,null,1.0035384596406622,138,0.92307642799884504]
["2014-10-01",116,11.03,null,152,1.01,null,1.0042644444444444,1.0493418210482404,1.0454616066665123,1.0410222252216228,168,2.3464640956495377,2.3410000000000002,null,1.0044141457114188,168,0.94588836673261034]
["2014-11-03",139,11.06,null,185,1.1000000000000001,null,1.0056527777777777,1.0595684832762078,1.0556504531503075,1.049716638264562,201,2.3660613026483226,2.3610000000000002,null,1.0058026859974729,201,1.0392870443235067]
["2014-12-01",159,11.1,null,213,1.1499999999999999,null,1.0068041666666667,1.0686694497992724,1.0647177664819314,1.057522209117395,229,2.3836550593506085,2.3780000000000001,null,1.0069542465188202,229,1.0932439942250018]
["2015-01-02",181,11.14,null,245,1.21,null,1.0082347222222223,1.0788140438494511,1.0748248482563763,1.0660462534829038,261,2.402868255350465,2.3980000000000001,null,1.0083850153209768,261,1.1565538373761097]
["2015-03-02",220,11.2,null,304,1.28,null,1.0108088888888889,1.0971100946822487,1.0930532446812904,1.0813648917183614,320,2.4373964659331864,2.4340000000000002,null,1.0109595657073034,320,1.232951142071631]
["2015-04-01",242,11.38,null,334,1.33,null,1.0123394444444445,1.1090465736845507,1.1049455854470684,1.0914773611863409,350,2.4601899721140121,2.4550000000000001,null,1.0124903494160185,350,1.2847216542190409]
["2015-07-01",303,11.66,null,425,1.4700000000000002,null,1.0173541666666668,1.1418030274224547,1.1375809136753066,1.118175902697248,441,2.5203684846795968,2.5169999999999999,null,1.0175058191607427,441,1.4290464621014429]
["2015-10-01",368,11.95,null,517,1.56,null,1.0224033333333333,1.1792088940967387,1.1748484624259938,1.1491046870863038,533,2.5900819646925286,2.585,null,1.0225557384843926,533,1.523464513017138]
["2016-01-04",431,12.04,null,612,1.6500000000000001,null,1.0280499999999999,1.2146290819629881,1.2101376749326367,1.1771194736954786,628,2.6532272937096089,2.6520000000000001,null,1.0282032468747295,628,1.6167466361309919]
["2017-01-02",682,12.44,null,976,2.19,null,1.0593733333333333,1.3734396047331898,1.3683609544785025,1.2916701897459844,992,2.9114246076874486,2.9129999999999998,null,1.0595312494390725,992,2.1604082457727922]
["2018-01-02",931,12.65,null,{"$f":"A50-A35","v":1341},2.77,null,1.1031825,1.5528089655038331,1.5470670503726842,1.402367287708683,1357,3.1609358664953717,3.1619999999999999,null,1.1033469465447998,1357,2.7417023401715497]