{"text_format":"1","workbook":"xlsx","n_sheets":7,"sheets":["modSpline","FlatForward","SPLINE","ETTJ","COPOM","GRAFICO","FERIADOS"],"not_rendered":{"charts":3,"images":1,"macros":1,"external_links":0,"defined_names":4,"comments":0,"pivot_tables":0},"unopened":[{"sheet":"modSpline","index":0,"reason":"part_missing"}],"bounds":{"document_bytes":16777216,"sheet_cells":100000,"rows_first":2000,"rows_last":500,"rows_between":2000,"halvings":0,"cell_chars":16384,"cell_head_chars":4096},"cells_cut":0,"cells_raw":0,"read":"whole","date_system":"1900"}

{"sheet":"FlatForward","index":1,"n_rows":36,"n_cols":27,"rows_kept":36,"cut":false,"hidden":false,"merged":[[19,17,19,19],[21,18,21,19],[31,17,31,19],[33,18,33,19],[3,21,3,25],[3,16,3,17],[7,17,7,19],[9,18,9,19]]}
[]
[]
[]
[null,null,null,null,null,null,null,null,null,null,null,null,null,null,null,null,"2020-02-05",null,null,null,null,"BMF"]
[null,null,null,null,null,null,null,null,null,null,null,null,null,null,null,null,null,null,null,null,null,"Venc","Ult","DU","DU TERMO","Termo"]
[null,null,null,null,null,null,null,null,null,null,null,null,null,null,null,null,"MAR",{"$f":"X6","v":16},null,null,null,"mar",4.1980000000000004,16,null,{"$f":"W6","v":4.1980000000000004},"fev"]
[null,null,null,null,null,null,null,null,null,null,null,null,null,null,null,"Tx. Curta",{"$f":"W6","v":4.1980000000000004},null,null,null,null,"abr",4.1779999999999999,38,{"$f":"X7-X6","v":22},{"$f":"ROUND(((((1+W7/100)^(X7/252))/((1+W6/100)^(X6/252)))^(252/(Y7))-1)*100,2)","v":4.16},"mar"]
[null,null,null,null,null,null,null,null,null,null,null,null,null,null,null,null,"ABR",{"$f":"X7","v":38},null,null,null,"mai",4.1500000000000004,58,{"$f":"X8-X7","v":20},{"$f":"ROUND(((((1+W8/100)^(X8/252))/((1+W7/100)^(X7/252)))^(252/(Y8))-1)*100,2)","v":4.0999999999999996},"abr"]
[null,null,null,null,null,null,null,null,null,null,null,null,null,null,null,"Tx. Longa",{"$f":"W7","v":4.1779999999999999},null,null,null,null,"jun",4.16,78,{"$f":"X9-X8","v":20},4.1900000000000004,"mai"]
[null,null,null,null,null,null,null,null,null,null,null,null,null,null,null,null,null,null,{"$f":"Y7","v":22},null,null,"jul",4.1550000000000002,99,{"$f":"X10-X9","v":21},4.1399999999999997,"jun"]
[null,null,null,null,null,null,null,null,null,null,null,null,null,null,null,"Termo",{"$f":"ROUND(((((1+Q9/100)^(R8/252))/((1+Q7/100)^(R6/252)))^(252/(S10))-1)*100,2)","v":4.16},null,null,null,null,"ago",4.1550000000000002,122,{"$f":"X11-X10","v":23},4.1500000000000004,"jul"]
[null,null,null,null,null,null,null,null,null,null,null,null,null,null,null,"Taxa de março",null,null,null,null,null,"set",4.1500000000000004,143,{"$f":"X12-X11","v":21},4.12,"ago"]
[null,null,null,null,null,null,null,null,null,null,null,null,null,null,null,null,null,null,null,null,null,"out",4.21,164,21,4.62,"set"]
[null,null,null,null,null,null,null,null,null,null,null,null,null,null,null,null,null,null,null,null,null,"nov",4.22,185,21,4.3,"out"]
[null,null,null,null,null,null,null,null,null,null,null,null,null,null,null,null,null,null,null,null,null,"dez",4.25,205,20,4.53,"nov"]
[null,null,null,null,null,null,null,null,null,null,null,null,null,null,null,null,null,null,null,null,null,"jan",4.3099999999999996,227,{"$f":"X16-X15","v":22},4.87,"dez"]
[]
[null,null,null,null,null,null,null,null,null,null,null,null,null,null,null,null,"MAR",{"$f":"X6","v":16}]
[null,null,null,null,null,null,null,null,null,null,null,null,null,null,null,"Tx. Curta",{"$f":"W6","v":4.1980000000000004}]
[null,null,null,null,null,null,null,null,null,null,null,null,null,null,null,null,"JUN",{"$f":"X9","v":78}]
[null,null,null,null,null,null,null,null,null,null,null,null,null,null,null,"Tx. Longa",{"$f":"W9","v":4.16}]
[null,null,null,null,null,null,null,null,null,null,null,null,null,null,null,null,null,null,{"$f":"R20-R18","v":62}]
[null,null,null,null,null,null,null,null,null,null,null,null,null,null,null,"Termo",{"$f":"ROUND(((((1+Q21/100)^(R20/252))/((1+Q19/100)^(R18/252)))^(252/(S22))-1)*100,2)","v":4.1500000000000004}]
[null,null,null,null,null,null,null,null,null,null,null,null,null,null,null,"Tx trimestre"]
[null,null,null,null,null,null,null,null,null,null,null,null,null,null,null,"MAR / ABR / MAI"]
[]
[]
[]
[]
[null,null,null,null,null,null,null,null,null,null,null,null,null,null,null,null,"JUL",{"$f":"X10","v":99}]
[null,null,null,null,null,null,null,null,null,null,null,null,null,null,null,"Tx. Curta",{"$f":"W10","v":4.1550000000000002}]
[null,null,null,null,null,null,null,null,null,null,null,null,null,null,null,null,"JAN",{"$f":"X16","v":227}]
[null,null,null,null,null,null,null,null,null,null,null,null,null,null,null,"Tx. Longa",{"$f":"W16","v":4.3099999999999996}]
[null,null,null,null,null,null,null,null,null,null,null,null,null,null,null,null,null,null,{"$f":"R32-R30","v":128}]
[null,null,null,null,null,null,null,null,null,null,null,null,null,null,null,"Termo",{"$f":"ROUND(((((1+Q33/100)^(R32/252))/((1+Q31/100)^(R30/252)))^(252/(S34))-1)*100,2)","v":4.43}]
[null,null,null,null,null,null,null,null,null,null,null,null,null,null,null,"Tx 2º semestre"]

{"sheet":"SPLINE","index":2,"n_rows":24,"n_cols":9,"rows_kept":24,"cut":false,"hidden":false,"merged":[[0,0,0,3]]}
["Exemplo",null,null,null,null,null,null,null,"Please visit my website for comments and questions!"]
["Vértices","Taxa","Dias","Spline",null,null,null,null,"http://www.srs1software.com"]
[{"$f":"FlatForward!X6","v":16},{"$f":"FlatForward!W6","v":4.1980000000000004},16,{"$f":"Cubic_Spline($A$3:$A$13,$B$3:$B$13,C3)","v":4.1979999542236328},null,null,null,null,"Register you this freeware at:"]
[{"$f":"FlatForward!X7","v":38},{"$f":"FlatForward!W7","v":4.1779999999999999},{"$f":"C3+10","v":26},{"$f":"Cubic_Spline($A$3:$A$13,$B$3:$B$13,C4)","v":4.1907880026847124},null,null,null,null,"http://www.srs1software.com/cs_registration.htm"]
[{"$f":"FlatForward!X8","v":58},{"$f":"FlatForward!W8","v":4.1500000000000004},{"$f":"C4+10","v":36},{"$f":"Cubic_Spline($A$3:$A$13,$B$3:$B$13,C5)","v":4.1806401582963932}]
[{"$f":"FlatForward!X9","v":78},4.1500000000000004,46,{"$f":"Cubic_Spline($A$3:$A$13,$B$3:$B$13,C6)","v":4.1656763470183895}]
[{"$f":"FlatForward!X10","v":99},{"$f":"FlatForward!W10","v":4.1550000000000002},56,{"$f":"Cubic_Spline($A$3:$A$13,$B$3:$B$13,C7)","v":4.1518129422420706}]
[{"$f":"FlatForward!X11","v":122},{"$f":"FlatForward!W11","v":4.1550000000000002},66,{"$f":"Cubic_Spline($A$3:$A$13,$B$3:$B$13,C8)","v":4.1470805696223891}]
[{"$f":"FlatForward!X12","v":143},{"$f":"FlatForward!W12","v":4.1500000000000004},76,{"$f":"Cubic_Spline($A$3:$A$13,$B$3:$B$13,C9)","v":4.1493112157716174}]
[{"$f":"FlatForward!X13","v":164},4.17,86,{"$f":"Cubic_Spline($A$3:$A$13,$B$3:$B$13,C10)","v":4.1523605776675332}]
[{"$f":"FlatForward!X14","v":185},{"$f":"FlatForward!W14","v":4.22},96,{"$f":"Cubic_Spline($A$3:$A$13,$B$3:$B$13,C11)","v":4.1544984341892031}]
[{"$f":"FlatForward!X15","v":205},{"$f":"FlatForward!W15","v":4.25},106,{"$f":"Cubic_Spline($A$3:$A$13,$B$3:$B$13,C12)","v":4.1559079100526075}]
[{"$f":"FlatForward!X16","v":227},{"$f":"FlatForward!W16","v":4.3099999999999996},116,{"$f":"Cubic_Spline($A$3:$A$13,$B$3:$B$13,C13)","v":4.1560049567475623}]
[null,null,126,{"$f":"Cubic_Spline($A$3:$A$13,$B$3:$B$13,C14)","v":4.1538062247247396}]
[null,null,136,{"$f":"Cubic_Spline($A$3:$A$13,$B$3:$B$13,C15)","v":4.1505946297207919}]
[null,null,146,{"$f":"Cubic_Spline($A$3:$A$13,$B$3:$B$13,C16)","v":4.1505970408282025}]
[null,null,156,{"$f":"Cubic_Spline($A$3:$A$13,$B$3:$B$13,C17)","v":4.1575846927819242}]
[null,null,166,{"$f":"Cubic_Spline($A$3:$A$13,$B$3:$B$13,C18)","v":4.1742037015712903}]
[null,null,176,{"$f":"Cubic_Spline($A$3:$A$13,$B$3:$B$13,C19)","v":4.1990409811885812}]
[null,null,186,{"$f":"Cubic_Spline($A$3:$A$13,$B$3:$B$13,C20)","v":4.221870128597236}]
[null,null,196,{"$f":"Cubic_Spline($A$3:$A$13,$B$3:$B$13,C21)","v":4.2364504303670749}]
[null,null,206,{"$f":"Cubic_Spline($A$3:$A$13,$B$3:$B$13,C22)","v":4.2519271843775064}]
[null,null,216,{"$f":"Cubic_Spline($A$3:$A$13,$B$3:$B$13,C23)","v":4.2764628186032496}]
[null,null,226,{"$f":"Cubic_Spline($A$3:$A$13,$B$3:$B$13,C24)","v":4.3068448221691646}]

{"sheet":"ETTJ","index":3,"n_rows":27,"n_cols":7,"rows_kept":27,"cut":false,"hidden":false,"merged":[[1,0,1,3],[2,0,3,1],[2,2,3,3]]}
[null,null,null,null,"a",4.414426E-9,2.0000000000000001E-4]
["Exemplo",null,null,null,"b",7.0506865707000002E-6,4.0999999999999996]
["Vértices",null,"Spline",null,"c",-1.45412894894034E-3]
[null,null,null,null,"d",4.2204304537916197]
["In ","Dados","In","Spline","ETTJ","INFLAÇÃO","TX REAL"]
[{"$f":"FlatForward!X6","v":16},{"$f":"FlatForward!W6","v":4.1980000000000004},{"$f":"A6","v":16},{"$f":"Cubic_Spline($A$6:$A$16,$B$6:$B$16,C6)","v":4.1979999542236328},{"$f":"$F$1*C6^3+$F$2*C6^2+$F$3*C6+$F$4","v":4.1989874478595697},{"$f":"$G$1*C6+$G$2","v":4.1031999999999993},{"$f":"((1+E6/100)/(1+F6/100)-1)*100","v":9.2012011023268059E-2}]
[{"$f":"FlatForward!X7","v":38},{"$f":"FlatForward!W7","v":4.1779999999999999},{"$f":"C6+10","v":26},{"$f":"Cubic_Spline($A$6:$A$16,$B$6:$B$16,C7)","v":4.1912642179734334},4.1874669531923399,{"$f":"$G$1*C7+$G$2","v":4.1052},{"$f":"((1+E7/100)/(1+F7/100)-1)*100","v":7.9022904900361013E-2}]
[{"$f":"FlatForward!X8","v":58},{"$f":"FlatForward!W8","v":4.1500000000000004},{"$f":"C7+10","v":36},4.1808485024852082,4.1774254608848507,4.1071999999999997,6.7454951131962204E-2]
[{"$f":"FlatForward!X9","v":78},{"$f":"FlatForward!W9","v":4.16},46,4.1645553359658898,4.1688894574931012,4.1091999999999995,5.7333508943591127E-2]
[{"$f":"FlatForward!X10","v":99},{"$f":"FlatForward!W10","v":4.1550000000000002},56,4.1511371926162406,4.1618854295730916,4.1111999999999993,4.8683935612214846E-2]
[{"$f":"FlatForward!X11","v":122},{"$f":"FlatForward!W11","v":4.1550000000000002},66,4.1517540970596629,4.1564398636808226,4.1132,4.1531586466292403E-2]
[{"$f":"FlatForward!X12","v":143},{"$f":"FlatForward!W12","v":4.1500000000000004},76,4.1590958078235234,{"$f":"$F$1*C12^3+$F$2*C12^2+$F$3*C12+$F$4","v":4.1525792463722935},4.1151999999999997,3.5901814886085681E-2]
[{"$f":"FlatForward!X13","v":164},{"$f":"FlatForward!W13","v":4.21},86,4.1596883328905561,4.1503300642035033,4.1171999999999995,3.1819972303814836E-2]
[{"$f":"FlatForward!X14","v":185},{"$f":"FlatForward!W14","v":4.22},96,4.1557096845477357,4.1497188037304547,4.1191999999999993,2.9311408203724909E-2]
[{"$f":"FlatForward!X15","v":205},{"$f":"FlatForward!W15","v":4.25},106,4.1553799178069637,4.150771951509145,4.1212,2.8401470122463301E-2]
[{"$f":"FlatForward!X16","v":227},{"$f":"FlatForward!W16","v":4.3099999999999996},116,4.156721458738577,4.1535159940955753,4.1231999999999998,2.9115503649124186E-2]
[null,null,126,4.1520270318094239,4.1579774180457463,4.1251999999999995,3.1478852425492754E-2]
[null,null,136,4.145395024349285,4.1641827099156563,4.1271999999999993,3.5516858146245056E-2]
[null,null,146,4.1561399851010687,4.1721583562613072,4.1292,4.125486055908123E-2]
[null,null,{"$f":"C19+10","v":156},{"$f":"Cubic_Spline($A$6:$A$16,$B$6:$B$16,C20)","v":4.1874412147805202},{"$f":"$F$1*C20^3+$F$2*C20^2+$F$3*C20+$F$4","v":4.1819308436386979},4.1311999999999998,4.8718197465014157E-2]
[null,null,{"$f":"C20+10","v":166},4.2134439652896978,{"$f":"$F$1*C21^3+$F$2*C21^2+$F$3*C21+$F$4","v":4.1935266586038287},{"$f":"$G$1*C21+$G$2","v":4.1331999999999995},5.7932204718413871E-2]
[null,null,176,4.2192171071181299,4.2069722877126994,4.1351999999999993,6.8922216227251809E-2]
[null,null,186,4.2204873860790748,4.2222942175213101,4.1372,8.1713563953433876E-2]
[null,null,196,4.2318692179275175,4.2395189345856608,4.1391999999999998,9.6331577912689426E-2]
[null,null,206,4.2523455486889885,4.2586729254617506,4.1411999999999995,0.11280158617508196]
[null,null,{"$f":"C25+10","v":216},4.2783127943957879,4.2797826767055813,4.1431999999999993,0.13114891486492031]
[null,null,{"$f":"C26+10","v":226},4.3070685983610799,4.3028746748731521,4.1452,0.1513988881610917]

{"sheet":"COPOM","index":4,"n_rows":104,"n_cols":28,"rows_kept":104,"cut":false,"hidden":false,"merged":[[27,26,27,27],[37,21,37,22],[100,3,100,4],[67,8,67,9],[70,3,70,4],[90,3,90,4],[87,8,87,9],[27,21,27,22],[37,16,37,17],[27,11,27,12],[27,16,27,17],[51,3,51,4],[48,8,48,9],[2,7,2,12],[17,1,17,5],[80,3,80,4],[77,8,77,9],[37,11,37,12],[60,3,60,4],[57,8,57,9]]}
[]
[]
[null,"Venc","Ult","DU","DU TERMO","Termo",null,"Cálculo do CDI projetado"]
[null,"mar",{"$f":"FlatForward!W6","v":4.1980000000000004},{"$f":"FlatForward!X6","v":16},{"$f":"D4","v":16},{"$f":"C55","v":4.16},null,null,"Termo CDI","Spread","Meta","Simulação","Spread",null,null,null,null,null,null,null,null,null,null,null,0,{"$f":"K5","v":4.1500000000000004},{"$f":"L5","v":4.25}]
["T1","abr",{"$f":"FlatForward!W7","v":4.1779999999999999},{"$f":"FlatForward!X7","v":38},{"$f":"D5-D4","v":22},{"$f":"H55","v":4.0999999999999996},null,"CDI O",{"$f":"F4","v":4.16},null,{"$f":"I5-0.01","v":4.1500000000000004},4.25,null,null,null,null,null,null,null,null,null,null,null,null,{"$f":"D21","v":28},{"$f":"K5","v":4.1500000000000004},{"$f":"AA4","v":4.25}]
["T2","mai",{"$f":"FlatForward!W8","v":4.1500000000000004},{"$f":"FlatForward!X8","v":58},{"$f":"D6-D5","v":20},{"$f":"C64","v":4.1900000000000004},null,"CDI 1",{"$f":"K31","v":4.03},{"$f":"I6-I5","v":-0.12999999999999989},{"$f":"I6-0.01","v":4.0200000000000005},4,{"$f":"L6-L5","v":-0.25},null,null,null,null,null,null,null,null,null,null,null,{"$f":"Y5","v":28},{"$f":"K6","v":4.0200000000000005},{"$f":"L6","v":4}]
["T3","jun",{"$f":"FlatForward!W9","v":4.16},{"$f":"FlatForward!X9","v":78},20,{"$f":"H64","v":4.1399999999999997},4.1399999999999997,"CDI 2",{"$f":"P31","v":4.21},0.17999999999999972,4.2,4,0,null,null,null,null,null,null,null,null,null,null,null,{"$f":"D22","v":60},{"$f":"K6","v":4.0200000000000005},{"$f":"AA6","v":4}]
["T4","jul",{"$f":"FlatForward!W10","v":4.1550000000000002},{"$f":"FlatForward!X10","v":99},21,{"$f":"C74","v":4.1500000000000004},null,"CDI 3",{"$f":"U31","v":4.08},-0.12999999999999989,4.07,4,0,null,null,null,null,null,null,null,null,null,null,null,{"$f":"Y7","v":60},{"$f":"K7","v":4.2},{"$f":"L7","v":4}]
["T5","ago",{"$f":"FlatForward!W11","v":4.1550000000000002},{"$f":"FlatForward!X11","v":122},23,{"$f":"H74","v":4.12},null,"CDI 4",{"$f":"Z31","v":4.68},0.59999999999999964,4.67,4.25,0.25,null,null,null,null,null,null,null,null,null,null,null,{"$f":"D23","v":89},{"$f":"K7","v":4.2},{"$f":"AA8","v":4}]
["T6","set",{"$f":"FlatForward!W12","v":4.1500000000000004},{"$f":"FlatForward!X12","v":143},21,{"$f":"C84","v":4.62},4.2,"CDI 5",{"$f":"K41","v":3.96},-0.71999999999999975,3.95,4.5,0.25,null,null,null,null,null,null,null,null,null,null,null,{"$f":"Y9","v":89},{"$f":"K8","v":4.07},{"$f":"L8","v":4}]
["T7","out",{"$f":"FlatForward!W13","v":4.21},{"$f":"FlatForward!X13","v":164},21,{"$f":"H84","v":4.3},null,"CDI 6",{"$f":"P41","v":8.02},4.0599999999999996,8.01,4.5,0,null,null,null,null,null,null,null,null,null,null,null,{"$f":"D24","v":124},{"$f":"K8","v":4.07},{"$f":"AA10","v":4}]
["T8","nov",{"$f":"FlatForward!W14","v":4.22},{"$f":"FlatForward!X14","v":185},21,{"$f":"C94","v":4.53},null,"CDI 7",{"$f":"U41","v":3.63},-4.3899999999999997,3.62,4.75,0.25,null,null,null,null,null,null,null,null,null,null,null,{"$f":"Y11","v":124},{"$f":"K9","v":4.67},{"$f":"L9","v":4.25}]
["T9","dez",{"$f":"FlatForward!W15","v":4.25},{"$f":"FlatForward!X15","v":205},20,{"$f":"H94","v":4.87},4.2300000000000004,"CDI 8",null,null,null,null,null,null,null,null,null,null,null,null,null,null,null,null,{"$f":"D25","v":153},{"$f":"K9","v":4.67},{"$f":"AA12","v":4.25}]
["T10","jan",{"$f":"FlatForward!W16","v":4.3099999999999996},{"$f":"FlatForward!X16","v":227},22,{"$f":"C104","v":4.8099999999999996},4.34,null,null,{"$f":"SUM(J6:J13)","v":-0.53000000000000025},null,null,{"$f":"SUM(M6:M13)","v":0.5},null,null,null,null,null,null,null,null,null,null,null,{"$f":"Y13","v":153},{"$f":"K10","v":3.95},{"$f":"L10","v":4.5}]
[null,null,4.3499999999999996,247,20,null,null,null,null,null,null,null,null,null,null,null,null,null,null,null,null,null,null,null,{"$f":"D26","v":182},{"$f":"K10","v":3.95},{"$f":"AA14","v":4.5}]
[null,null,null,null,null,null,null,null,null,null,null,null,null,null,null,null,null,null,null,null,null,null,null,null,{"$f":"Y15","v":182},{"$f":"K11","v":8.01},{"$f":"L11","v":4.5}]
[null,null,null,null,null,null,null,null,null,null,null,null,null,null,null,null,null,null,null,null,null,null,null,null,{"$f":"D27","v":211},{"$f":"K11","v":8.01},{"$f":"AA16","v":4.5}]
[null,"Calendário COPOM 2020",null,null,null,null,null,null,null,null,null,null,null,null,null,null,null,null,null,null,null,null,null,null,{"$f":"Y17","v":211},{"$f":"K12","v":3.62},{"$f":"L12","v":4.75}]
[null,null,null,"2020-02-05",null,null,null,null,null,null,null,null,null,null,null,null,null,null,null,null,null,null,null,null,{"$f":"D28","v":240},{"$f":"K12","v":3.62},{"$f":"AA18","v":4.75}]
[null,"(1)","(2)","(3)","(4)","(5)",null,null,null,null,null,null,null,null,null,null,null,null,null,null,null,null,null,null,{"$f":"Y19","v":240},{"$f":"K13","v":0}]
[null,"2020-03-18",{"$f":"NETWORKDAYS(D19,B21,Feriado)-1","v":28},{"$f":"C21+C19","v":28},{"$f":"D4","v":16},{"$f":"D21-E21","v":12},null,null,null,null,null,null,null,null,null,null,null,null,null,null,null,null,null,null,null,{"$f":"Z20","v":0}]
[null,"2020-05-06",{"$f":"NETWORKDAYS(B21,B22,Feriado)-1","v":32},{"$f":"C22+D21","v":60},{"$f":"D6","v":58},2]
[null,"2020-06-17",29,{"$f":"D22+C23","v":89},{"$f":"D7","v":78},11]
[null,"2020-08-05",35,124,{"$f":"D9","v":122},{"$f":"D24-E24","v":2},null,null,null,null,"CDI 1",null,null,null,null,"CDI 2",null,null,null,null,"CDI 3",null,null,null,null,"CDI 4"]
[null,"2020-09-16",29,153,{"$f":"D10","v":143},10]
[null,"2020-10-28",29,182,{"$f":"D11","v":164},18,null,null,null,null,null,{"$f":"F21","v":12},null,null,null,null,{"$f":"F22","v":2},null,null,null,null,{"$f":"F23","v":11},null,null,null,null,{"$f":"F24","v":2}]
[null,"2020-12-09",29,211,{"$f":"D13","v":205},6,null,null,null,"Tx. Curta",{"$f":"F4","v":4.16},null,null,null,"Tx. Curta",{"$f":"K31","v":4.03},null,null,null,"Tx. Curta",{"$f":"P31","v":4.21},null,null,null,"Tx. Curta",{"$f":"U31","v":4.08}]
[null,"2021-01-21",29,240,null,null,null,null,null,null,null,{"$f":"E5","v":22},null,null,null,null,{"$f":"E6","v":20},null,null,null,null,{"$f":"E8","v":21},null,null,null,null,{"$f":"E10","v":21}]
[null,null,null,null,null,null,null,null,null,"Tx. Longa",{"$f":"F5","v":4.0999999999999996},null,null,null,"Tx. Longa",{"$f":"F6","v":4.1900000000000004},null,null,null,"Tx. Longa",{"$f":"F8","v":4.1500000000000004},null,null,null,"Tx. Longa",{"$f":"F10","v":4.62}]
[null,1,"Data da Reunião do Copom",null,null,null,null,null,null,null,null,null,{"$f":"L28-L26","v":10},null,null,null,null,{"$f":"Q28-Q26","v":18},null,null,null,null,{"$f":"V28-V26","v":10},null,null,null,null,{"$f":"AA28-AA26","v":19}]
[null,2,"DU entre duas datas do Copom",null,null,null,null,null,null,"Termo",{"$f":"ROUND(((((1+K29/100)^(L28/252))/((1+K27/100)^(L26/252)))^(252/(M30))-1)*100,2)","v":4.03},null,null,null,"Termo",{"$f":"ROUND(((((1+P29/100)^(Q28/252))/((1+P27/100)^(Q26/252)))^(252/(R30))-1)*100,2)","v":4.21},null,null,null,"Termo",{"$f":"ROUND(((((1+U29/100)^(V28/252))/((1+U27/100)^(V26/252)))^(252/(W30))-1)*100,2)","v":4.08},null,null,null,"Termo",{"$f":"ROUND(((((1+Z29/100)^(AA28/252))/((1+Z27/100)^(AA26/252)))^(252/(AB30))-1)*100,2)","v":4.68}]
[null,3,"Du até a data da reunião"]
[null,4,"DU até o 1º dia útil do mês da reunião"]
[null,5,"(4) - (3) DU entre a data da reunião do Copom e o 1º dia útil do proximo mês",null,null,null,null,null,null,null,"CDI 5",null,null,null,null,"CDI 6",null,null,null,null,"CDI 7"]
[]
[null,null,null,null,null,null,null,null,null,null,null,{"$f":"F25","v":10},null,null,null,null,{"$f":"F26","v":18},null,null,null,null,{"$f":"F27","v":6}]
[null,null,null,null,null,null,null,null,null,"Tx. Curta",{"$f":"Z31","v":4.68},null,null,null,"Tx. Curta",{"$f":"K41","v":3.96},null,null,null,"Tx. Curta",{"$f":"P41","v":8.02}]
[null,null,null,null,null,null,null,null,null,null,null,{"$f":"E11","v":21},null,null,null,null,{"$f":"E12","v":21},null,null,null,null,{"$f":"E14","v":22}]
[null,null,null,null,null,null,null,null,null,"Tx. Longa",{"$f":"F11","v":4.3},null,null,null,"Tx. Longa",{"$f":"F12","v":4.53},null,null,null,"Tx. Longa",{"$f":"F14","v":4.8099999999999996}]
[null,null,null,null,null,null,null,null,null,null,null,null,{"$f":"L38-L36","v":11},null,null,null,null,{"$f":"Q38-Q36","v":3},null,null,null,null,{"$f":"V38-V36","v":16}]
[null,null,null,null,null,null,null,null,null,"Termo",{"$f":"ROUND(((((1+K39/100)^(L38/252))/((1+K37/100)^(L36/252)))^(252/(M40))-1)*100,2)","v":3.96},null,null,null,"Termo",{"$f":"ROUND(((((1+P39/100)^(Q38/252))/((1+P37/100)^(Q36/252)))^(252/(R40))-1)*100,2)","v":8.02},null,null,null,"Termo",{"$f":"ROUND(((((1+U39/100)^(V38/252))/((1+U37/100)^(V36/252)))^(252/(W40))-1)*100,2)","v":3.63}]
[]
[]
[]
[]
[]
[null,null,null,null,null,null,null,null,{"$f":"D5","v":38}]
[]
[null,null,null,null,null,null,null,null,{"$f":"D6","v":58}]
[null,null,"MAR",{"$f":"D4","v":16},null,null,null,"ABR"]
[null,"Tx. Curta",{"$f":"C4","v":4.1980000000000004},null,null,null,"Tx. Curta",{"$f":"C5","v":4.1779999999999999},null,{"$f":"I49-I47","v":20}]
[null,null,"ABR",{"$f":"D5","v":38},null,null,null,"MAI"]
[null,"Tx. Longa",{"$f":"C5","v":4.1779999999999999},null,null,null,"Tx. Longa",{"$f":"C6","v":4.1500000000000004}]
[null,null,null,null,{"$f":"D52-D50","v":22}]
[null,"Termo",{"$f":"ROUND(((((1+C53/100)^(D52/252))/((1+C51/100)^(D50/252)))^(252/(E54))-1)*100,2)","v":4.16},null,null,null,"Termo",{"$f":"ROUND(((((1+H53/100)^(I49/252))/((1+H51/100)^(I47/252)))^(252/(J51))-1)*100,2)","v":4.0999999999999996}]
[null,null,null,null,null,null,null,null,{"$f":"D7","v":78}]
[]
[null,null,null,null,null,null,null,null,{"$f":"D8","v":99}]
[null,null,"MAI",{"$f":"D6","v":58},null,null,null,"JUN"]
[null,"Tx. Curta",{"$f":"C6","v":4.1500000000000004},null,null,null,"Tx. Curta",{"$f":"C7","v":4.16},null,{"$f":"I58-I56","v":21}]
[null,null,"JUN",{"$f":"D7","v":78},null,null,null,"JUL"]
[null,"Tx. Longa",{"$f":"C7","v":4.16},null,null,null,"Tx. Longa",{"$f":"C8","v":4.1550000000000002}]
[null,null,null,null,{"$f":"D61-D59","v":20}]
[null,"Termo",{"$f":"ROUND(((((1+C62/100)^(D61/252))/((1+C60/100)^(D59/252)))^(252/(E63))-1)*100,2)","v":4.1900000000000004},null,null,null,"Termo",{"$f":"ROUND(((((1+H62/100)^(I58/252))/((1+H60/100)^(I56/252)))^(252/(J60))-1)*100,2)","v":4.1399999999999997}]
[]
[null,null,null,null,null,null,null,null,{"$f":"D9","v":122}]
[]
[null,null,null,null,null,null,null,null,{"$f":"D10","v":143}]
[null,null,"JUL",{"$f":"D8","v":99},null,null,null,"AGO"]
[null,"Tx. Curta",{"$f":"C8","v":4.1550000000000002},null,null,null,"Tx. Curta",{"$f":"C9","v":4.1550000000000002},null,{"$f":"I68-I66","v":21}]
[null,null,"AGO",{"$f":"D9","v":122},null,null,null,"SET"]
[null,"Tx. Longa",{"$f":"C9","v":4.1550000000000002},null,null,null,"Tx. Longa",{"$f":"C10","v":4.1500000000000004}]
[null,null,null,null,{"$f":"D71-D69","v":23}]
[null,"Termo",{"$f":"ROUND(((((1+C72/100)^(D71/252))/((1+C70/100)^(D69/252)))^(252/(E73))-1)*100,2)","v":4.1500000000000004},null,null,null,"Termo",{"$f":"ROUND(((((1+H72/100)^(I68/252))/((1+H70/100)^(I66/252)))^(252/(J70))-1)*100,2)","v":4.12}]
[]
[null,null,null,null,null,null,null,null,{"$f":"D11","v":164}]
[]
[null,null,null,null,null,null,null,null,{"$f":"D12","v":185}]
[null,null,"SET",{"$f":"D10","v":143},null,null,null,"OUT"]
[null,"Tx. Curta",{"$f":"C10","v":4.1500000000000004},null,null,null,"Tx. Curta",{"$f":"C11","v":4.21},null,{"$f":"I78-I76","v":21}]
[null,null,"OUT",{"$f":"D11","v":164},null,null,null,"NOV"]
[null,"Tx. Longa",{"$f":"C11","v":4.21},null,null,null,"Tx. Longa",{"$f":"C12","v":4.22}]
[null,null,null,null,{"$f":"D81-D79","v":21}]
[null,"Termo",{"$f":"ROUND(((((1+C82/100)^(D81/252))/((1+C80/100)^(D79/252)))^(252/(E83))-1)*100,2)","v":4.62},null,null,null,"Termo",{"$f":"ROUND(((((1+H82/100)^(I78/252))/((1+H80/100)^(I76/252)))^(252/(J80))-1)*100,2)","v":4.3}]
[]
[null,null,null,null,null,null,null,null,{"$f":"D13","v":205}]
[]
[null,null,null,null,null,null,null,null,{"$f":"D14","v":227}]
[null,null,"NOV",{"$f":"D12","v":185},null,null,null,"DEZ"]
[null,"Tx. Curta",{"$f":"C12","v":4.22},null,null,null,"Tx. Curta",{"$f":"C13","v":4.25},null,{"$f":"I88-I86","v":22}]
[null,null,"DEZ",{"$f":"D13","v":205},null,null,null,"JAN"]
[null,"Tx. Longa",{"$f":"C13","v":4.25},null,null,null,"Tx. Longa",{"$f":"C14","v":4.3099999999999996}]
[null,null,null,null,{"$f":"D91-D89","v":20}]
[null,"Termo",{"$f":"ROUND(((((1+C92/100)^(D91/252))/((1+C90/100)^(D89/252)))^(252/(E93))-1)*100,2)","v":4.53},null,null,null,"Termo",{"$f":"ROUND(((((1+H92/100)^(I88/252))/((1+H90/100)^(I86/252)))^(252/(J90))-1)*100,2)","v":4.87}]
[]
[]
[]
[]
[null,null,null,{"$f":"D14","v":227}]
[null,"Tx. Curta",{"$f":"C14","v":4.3099999999999996}]
[null,null,null,{"$f":"D15","v":247}]
[null,"Tx. Longa",{"$f":"C15","v":4.3499999999999996}]
[null,null,null,null,{"$f":"D101-D99","v":20}]
[null,"Termo",{"$f":"ROUND(((((1+C102/100)^(D101/252))/((1+C100/100)^(D99/252)))^(252/(E103))-1)*100,2)","v":4.8099999999999996}]

{"sheet":"GRAFICO","index":5,"n_rows":54,"n_cols":30,"rows_kept":54,"cut":false,"hidden":false,"merged":[]}
[]
[]
[null,null,null,null,null,null,null,{"$f":"COPOM!C21","v":28},null,null,null,null,null,{"$f":"COPOM!C22","v":32},null,null,null,{"$f":"COPOM!C23","v":29},null,{"$f":"COPOM!C24","v":35},null,null,{"$f":"COPOM!C25","v":29},null,{"$f":"COPOM!C25","v":29},null,{"$f":"COPOM!C26","v":29},null,null,{"$f":"COPOM!C28","v":29}]
[]
[]
[]
[]
[]
[]
[]
[]
[]
[]
[null,null,null,null,null,null,{"$f":"COPOM!D4","v":16}]
[null,null,{"$f":"COPOM!C4","v":4.1980000000000004}]
[]
[null,null,null,null,null,null,null,{"$f":"COPOM!D5","v":38}]
[null,null,{"$f":"COPOM!C5","v":4.1779999999999999}]
[]
[]
[null,null,null,null,null,null,null,null,{"$f":"COPOM!D6","v":58}]
[null,null,{"$f":"COPOM!C6","v":4.1500000000000004}]
[]
[null,null,null,null,null,null,null,null,null,null,{"$f":"COPOM!D7","v":78}]
[null,null,{"$f":"COPOM!C7","v":4.16}]
[]
[null,null,null,null,null,null,null,null,null,null,null,null,{"$f":"COPOM!D8","v":99}]
[null,null,{"$f":"COPOM!C8","v":4.1550000000000002}]
[]
[null,null,null,null,null,null,null,null,null,null,null,null,null,null,{"$f":"COPOM!D9","v":122}]
[null,null,{"$f":"COPOM!C9","v":4.1550000000000002}]
[]
[]
[null,null,{"$f":"COPOM!C10","v":4.1500000000000004},null,null,null,null,null,null,null,null,null,null,null,null,{"$f":"COPOM!D10","v":143}]
[]
[]
[null,null,{"$f":"COPOM!C11","v":4.21},null,null,null,null,null,null,null,null,null,null,null,null,null,null,{"$f":"COPOM!D11","v":164}]
[]
[]
[null,null,{"$f":"COPOM!C12","v":4.22},null,null,null,null,null,null,null,null,null,null,null,null,null,null,null,null,{"$f":"COPOM!D12","v":185}]
[]
[null,null,null,null,null,null,null,null,null,null,null,null,null,null,null,null,null,null,null,null,null,{"$f":"COPOM!D13","v":205}]
[null,null,{"$f":"COPOM!C13","v":4.25}]
[]
[null,null,null,null,null,null,null,null,null,null,null,null,null,null,null,null,null,null,null,null,null,null,null,{"$f":"COPOM!D14","v":227}]
[null,null,{"$f":"COPOM!C14","v":4.3099999999999996}]
[]
[]
[]
[]
[]
[]
[]
[null,null,null,null,null,null,{"$f":"COPOM!D4","v":16},null,null,null,{"$f":"COPOM!E5","v":22},null,null,{"$f":"COPOM!E6","v":20},null,{"$f":"COPOM!E7","v":20},null,null,{"$f":"COPOM!E8","v":21},null,{"$f":"COPOM!E9","v":23},{"$f":"COPOM!E10","v":21},null,{"$f":"COPOM!E11","v":21},null,{"$f":"COPOM!E12","v":21},{"$f":"COPOM!E13","v":20},null,{"$f":"COPOM!E14","v":22}]

{"sheet":"FERIADOS","index":6,"n_rows":62,"n_cols":12,"rows_kept":62,"cut":false,"hidden":false,"merged":[]}
["2009-01-01","2009-02-23","2009-02-24","2009-04-10","2009-04-21","2009-05-01","2009-06-11","2009-09-07","2009-10-12","2009-11-02","2009-11-15","2009-12-25"]
["2010-01-01","2010-02-15","2010-02-16","2010-04-02","2010-04-21","2010-05-01","2010-06-03","2010-09-07","2010-10-12","2010-11-02","2010-11-15","2010-12-25"]
["2011-01-01","2011-03-07","2011-03-08","2011-04-21","2011-04-22","2011-05-01","2011-06-23","2011-09-07","2011-10-12","2011-11-02","2011-11-15","2011-12-25"]
["2012-01-01","2012-02-20","2012-02-21","2012-04-06","2012-04-21","2012-05-01","2012-06-07","2012-09-07","2012-10-12","2012-11-02","2012-11-15","2012-12-25"]
["2013-01-01","2013-02-11","2013-02-12","2013-03-29","2013-04-21","2013-05-01","2013-05-30","2013-09-07","2013-10-12","2013-11-02","2013-11-15","2013-12-25"]
["2014-01-01","2014-03-03","2014-03-04","2014-04-18","2014-04-21","2014-05-01","2014-06-19","2014-09-07","2014-10-12","2014-11-02","2014-11-15","2014-12-25"]
["2015-01-01","2015-02-16","2015-02-17","2015-04-03","2015-04-21","2015-05-01","2015-06-04","2015-09-07","2015-10-12","2015-11-02","2015-11-15","2015-12-25"]
["2016-01-01","2016-02-08","2016-02-09","2016-03-25","2016-04-21","2016-05-01","2016-05-26","2016-09-07","2016-10-12","2016-11-02","2016-11-15","2016-12-25"]
["2017-01-01","2017-02-27","2017-02-28","2017-04-14","2017-04-21","2017-05-01","2017-06-15","2017-09-07","2017-10-12","2017-11-02","2017-11-15","2017-12-25"]
["2018-01-01","2018-02-12","2018-02-13","2018-03-30","2018-04-21","2018-05-01","2018-05-31","2018-09-07","2018-10-12","2018-11-02","2018-11-15","2018-12-25"]
["2019-01-01","2019-03-04","2019-03-05","2019-04-19","2019-04-21","2019-05-01","2019-06-20","2019-09-07","2019-10-12","2019-11-02","2019-11-15","2019-12-25"]
["2020-01-01","2020-02-24","2020-02-25","2020-04-10","2020-04-21","2020-05-01","2020-06-11","2020-09-07","2020-10-12","2020-11-02","2020-11-15","2020-12-25"]
["2021-01-01","2021-02-15","2021-02-16","2021-04-02","2021-04-21","2021-05-01","2021-06-03","2021-09-07","2021-10-12","2021-11-02","2021-11-15","2021-12-25"]
["2022-01-01","2022-02-28","2022-03-01","2022-04-15","2022-04-21","2022-05-01","2022-06-16","2022-09-07","2022-10-12","2022-11-02","2022-11-15","2022-12-25"]
["2023-01-01","2023-02-20","2023-02-21","2023-04-07","2023-04-21","2023-05-01","2023-06-08","2023-09-07","2023-10-12","2023-11-02","2023-11-15","2023-12-25"]
["2024-01-01","2024-02-12","2024-02-13","2024-03-29","2024-04-21","2024-05-01","2024-05-30","2024-09-07","2024-10-12","2024-11-02","2024-11-15","2024-12-25"]
["2025-01-01","2025-03-03","2025-03-04","2025-04-18","2025-04-21","2025-05-01","2025-06-19","2025-09-07","2025-10-12","2025-11-02","2025-11-15","2025-12-25"]
["2026-01-01","2026-02-16","2026-02-17","2026-04-03","2026-04-21","2026-05-01","2026-06-04","2026-09-07","2026-10-12","2026-11-02","2026-11-15","2026-12-25"]
["2027-01-01","2027-02-08","2027-02-09","2027-03-26","2027-04-21","2027-05-01","2027-05-27","2027-09-07","2027-10-12","2027-11-02","2027-11-15","2027-12-25"]
["2028-01-01","2028-02-28","2028-02-29","2028-04-14","2028-04-21","2028-05-01","2028-06-15","2028-09-07","2028-10-12","2028-11-02","2028-11-15","2028-12-25"]
["2029-01-01","2029-02-12","2029-02-13","2029-03-30","2029-04-21","2029-05-01","2029-05-31","2029-09-07","2029-10-12","2029-11-02","2029-11-15","2029-12-25"]
["2030-01-01","2030-03-04","2030-03-05","2030-04-19","2030-04-21","2030-05-01","2030-06-20","2030-09-07","2030-10-12","2030-11-02","2030-11-15","2030-12-25"]
["2031-01-01","2031-02-24","2031-02-25","2031-04-11","2031-04-21","2031-05-01","2031-06-12","2031-09-07","2031-10-12","2031-11-02","2031-11-15","2031-12-25"]
["2032-01-01","2032-02-09","2032-02-10","2032-03-26","2032-04-21","2032-05-01","2032-05-27","2032-09-07","2032-10-12","2032-11-02","2032-11-15","2032-12-25"]
["2033-01-01","2033-02-28","2033-03-01","2033-04-15","2033-04-21","2033-05-01","2033-06-16","2033-09-07","2033-10-12","2033-11-02","2033-11-15","2033-12-25"]
["2034-01-01","2034-02-20","2034-02-21","2034-04-07","2034-04-21","2034-05-01","2034-06-08","2034-09-07","2034-10-12","2034-11-02","2034-11-15","2034-12-25"]
["2035-01-01","2035-02-05","2035-02-06","2035-03-23","2035-04-21","2035-05-01","2035-05-24","2035-09-07","2035-10-12","2035-11-02","2035-11-15","2035-12-25"]
["2036-01-01","2036-02-25","2036-02-26","2036-04-11","2036-04-21","2036-05-01","2036-06-12","2036-09-07","2036-10-12","2036-11-02","2036-11-15","2036-12-25"]
["2037-01-01","2037-02-16","2037-02-17","2037-04-03","2037-04-21","2037-05-01","2037-06-04","2037-09-07","2037-10-12","2037-11-02","2037-11-15","2037-12-25"]
["2038-01-01","2038-03-08","2038-03-09","2038-04-21","2038-04-23","2038-05-01","2038-06-24","2038-09-07","2038-10-12","2038-11-02","2038-11-15","2038-12-25"]
["2039-01-01","2039-02-21","2039-02-22","2039-04-08","2039-04-21","2039-05-01","2039-06-09","2039-09-07","2039-10-12","2039-11-02","2039-11-15","2039-12-25"]
["2040-01-01","2040-02-13","2040-02-14","2040-03-30","2040-04-21","2040-05-01","2040-05-31","2040-09-07","2040-10-12","2040-11-02","2040-11-15","2040-12-25"]
["2041-01-01","2041-03-04","2041-03-05","2041-04-19","2041-04-21","2041-05-01","2041-06-20","2041-09-07","2041-10-12","2041-11-02","2041-11-15","2041-12-25"]
["2042-01-01","2042-02-17","2042-02-18","2042-04-04","2042-04-21","2042-05-01","2042-06-05","2042-09-07","2042-10-12","2042-11-02","2042-11-15","2042-12-25"]
["2043-01-01","2043-02-09","2043-02-10","2043-03-27","2043-04-21","2043-05-01","2043-05-28","2043-09-07","2043-10-12","2043-11-02","2043-11-15","2043-12-25"]
["2044-01-01","2044-02-29","2044-03-01","2044-04-15","2044-04-21","2044-05-01","2044-06-16","2044-09-07","2044-10-12","2044-11-02","2044-11-15","2044-12-25"]
["2045-01-01","2045-02-20","2045-02-21","2045-04-07","2045-04-21","2045-05-01","2045-06-08","2045-09-07","2045-10-12","2045-11-02","2045-11-15","2045-12-25"]
["2046-01-01","2046-02-05","2046-02-06","2046-03-23","2046-04-21","2046-05-01","2046-05-24","2046-09-07","2046-10-12","2046-11-02","2046-11-15","2046-12-25"]
["2047-01-01","2047-02-25","2047-02-26","2047-04-12","2047-04-21","2047-05-01","2047-06-13","2047-09-07","2047-10-12","2047-11-02","2047-11-15","2047-12-25"]
["2048-01-01","2048-02-17","2048-02-18","2048-04-03","2048-04-21","2048-05-01","2048-06-04","2048-09-07","2048-10-12","2048-11-02","2048-11-15","2048-12-25"]
["2049-01-01","2049-03-01","2049-03-02","2049-04-16","2049-04-21","2049-05-01","2049-06-17","2049-09-07","2049-10-12","2049-11-02","2049-11-15","2049-12-25"]
["2050-01-01","2050-02-21","2050-02-22","2050-04-08","2050-04-21","2050-05-01","2050-06-09","2050-09-07","2050-10-12","2050-11-02","2050-11-15","2050-12-25"]
["2051-01-01","2051-02-13","2051-02-14","2051-03-31","2051-04-21","2051-05-01","2051-06-01","2051-09-07","2051-10-12","2051-11-02","2051-11-15","2051-12-25"]
["2052-01-01","2052-03-04","2052-03-05","2052-04-19","2052-04-21","2052-05-01","2052-06-20","2052-09-07","2052-10-12","2052-11-02","2052-11-15","2052-12-25"]
["2053-01-01","2053-02-17","2053-02-18","2053-04-04","2053-04-21","2053-05-01","2053-06-05","2053-09-07","2053-10-12","2053-11-02","2053-11-15","2053-12-25"]
["2054-01-01","2054-02-09","2054-02-10","2054-03-27","2054-04-21","2054-05-01","2054-05-28","2054-09-07","2054-10-12","2054-11-02","2054-11-15","2054-12-25"]
["2055-01-01","2055-03-01","2055-03-02","2055-04-16","2055-04-21","2055-05-01","2055-06-17","2055-09-07","2055-10-12","2055-11-02","2055-11-15","2055-12-25"]
["2056-01-01","2056-02-14","2056-02-15","2056-03-31","2056-04-21","2056-05-01","2056-06-01","2056-09-07","2056-10-12","2056-11-02","2056-11-15","2056-12-25"]
["2057-01-01","2057-03-05","2057-03-06","2057-04-20","2057-04-21","2057-05-01","2057-06-21","2057-09-07","2057-10-12","2057-11-02","2057-11-15","2057-12-25"]
["2058-01-01","2058-02-25","2058-02-26","2058-04-12","2058-04-21","2058-05-01","2058-06-13","2058-09-07","2058-10-12","2058-11-02","2058-11-15","2058-12-25"]
["2059-01-01","2059-02-10","2059-02-11","2059-03-28","2059-04-21","2059-05-01","2059-05-29","2059-09-07","2059-10-12","2059-11-02","2059-11-15","2059-12-25"]
["2060-01-01","2060-03-01","2060-03-02","2060-04-16","2060-04-21","2060-05-01","2060-06-17","2060-09-07","2060-10-12","2060-11-02","2060-11-15","2060-12-25"]
["2061-01-01","2061-02-21","2061-02-22","2061-04-08","2061-04-21","2061-05-01","2061-06-09","2061-09-07","2061-10-12","2061-11-02","2061-11-15","2061-12-25"]
["2062-01-01","2062-02-06","2062-02-07","2062-03-24","2062-04-21","2062-05-01","2062-05-25","2062-09-07","2062-10-12","2062-11-02","2062-11-15","2062-12-25"]
["2063-01-01","2063-02-26","2063-02-27","2063-04-13","2063-04-21","2063-05-01","2063-06-14","2063-09-07","2063-10-12","2063-11-02","2063-11-15","2063-12-25"]
["2064-01-01","2064-02-18","2064-02-19","2064-04-04","2064-04-21","2064-05-01","2064-06-05","2064-09-07","2064-10-12","2064-11-02","2064-11-15","2064-12-25"]
["2065-01-01","2065-02-09","2065-02-10","2065-03-27","2065-04-21","2065-05-01","2065-05-28","2065-09-07","2065-10-12","2065-11-02","2065-11-15","2065-12-25"]
["2066-01-01","2066-02-22","2066-02-23","2066-04-09","2066-04-21","2066-05-01","2066-06-10","2066-09-07","2066-10-12","2066-11-02","2066-11-15","2066-12-25"]
["2067-01-01","2067-02-14","2067-02-15","2067-04-01","2067-04-21","2067-05-01","2067-06-02","2067-09-07","2067-10-12","2067-11-02","2067-11-15","2067-12-25"]
["2068-01-01","2068-03-05","2068-03-06","2068-04-20","2068-04-21","2068-05-01","2068-06-21","2068-09-07","2068-10-12","2068-11-02","2068-11-15","2068-12-25"]
["2069-01-01","2069-02-25","2069-02-26","2069-04-12","2069-04-21","2069-05-01","2069-06-13","2069-09-07","2069-10-12","2069-11-02","2069-11-15","2069-12-25"]
["2070-01-01","2070-02-10","2070-02-11","2070-03-28","2070-04-21","2070-05-01","2070-05-29","2070-09-07","2070-10-12","2070-11-02","2070-11-15","2070-12-25"]